Workbook

Sheet bendros sumos
C1: PATVIRTINTA
C3: Šalčininkų rajono savivaldybės tarybos
C4: 2023 m. vasario d. sprendimu Nr. PR-(1.2E)-1303
E5: tūkst. Eur
C6: 2022 | D6: 2023 | E6: 2024
B7: Savivaldybės biudžeto lėšos SB | C7: =+I_savivalda!H105+'II švietimas'!H58+'III sveikata'!H32+'IV socialinė'!H114+'V Saugumas'!H20+'VI Verslas Turizmas'!H33+'VII Žemės ūkis'!H26+'VIII Infrastruktūra'!H66+'IX Renovacijos'!H37+'X Aplinkosauga'!H40+'XI laisvalaikis'!H38 -> 32811.1 | D7: =+I_savivalda!L105+'II švietimas'!L58+'III sveikata'!L32+'IV socialinė'!L114+'V Saugumas'!L20+'VI Verslas Turizmas'!L33+'VII Žemės ūkis'!L26+'VIII Infrastruktūra'!L66+'IX Renovacijos'!L37+'X Aplinkosauga'!L40+'XI laisvalaikis'!L38 -> 34283.13 | E7: =I_savivalda!M105+'II švietimas'!M58+'III sveikata'!N32+'IV socialinė'!N114+'V Saugumas'!N20+'VI Verslas Turizmas'!M33+'VII Žemės ūkis'!M26+'VIII Infrastruktūra'!M66+'IX Renovacijos'!M37+'X Aplinkosauga'!M40+'XI laisvalaikis'!M38 -> 52282.486
B8: Valstybės biudžeto specialiosios tikslinės dotacijos lėšos SB (VB) | C8: =+I_savivalda!H107+'II švietimas'!H60+'III sveikata'!H33+'IV socialinė'!H116+'V Saugumas'!H21+'VI Verslas Turizmas'!H35+'VII Žemės ūkis'!H27+'VIII Infrastruktūra'!H67+'IX Renovacijos'!H40+'X Aplinkosauga'!H45+'XI laisvalaikis'!H40 -> 18988.3 | D8: =+I_savivalda!L107+'II švietimas'!L60+'III sveikata'!L33+'IV socialinė'!L116+'V Saugumas'!L21+'VI Verslas Turizmas'!L35+'VII Žemės ūkis'!L27+'VIII Infrastruktūra'!L67+'IX Renovacijos'!L40+'X Aplinkosauga'!L45+'XI laisvalaikis'!L40 -> 19937.715 | E8: =+I_savivalda!M107+'II švietimas'!M60+'III sveikata'!M33+'IV socialinė'!M116+'V Saugumas'!M21+'VI Verslas Turizmas'!M35+'VII Žemės ūkis'!M27+'VIII Infrastruktūra'!M67+'IX Renovacijos'!M40+'X Aplinkosauga'!M45+'XI laisvalaikis'!M40 -> 20934.601
B9: Savivaldybės biudžeto lėšos specialios programosSB (SP) | C9: =+I_savivalda!H106+'II švietimas'!H59+'III sveikata'!H35+'IV socialinė'!H115+'V Saugumas'!H22+'VI Verslas Turizmas'!H34+'VII Žemės ūkis'!H28+'VIII Infrastruktūra'!H68+'IX Renovacijos'!H38+'X Aplinkosauga'!H41+'XI laisvalaikis'!H39 -> 693 | D9: =+I_savivalda!L106+'II švietimas'!L59+'III sveikata'!L35+'IV socialinė'!L115+'V Saugumas'!L22+'VI Verslas Turizmas'!L34+'VII Žemės ūkis'!L28+'VIII Infrastruktūra'!L68+'IX Renovacijos'!L38+'X Aplinkosauga'!L41+'XI laisvalaikis'!L39 -> 727.65 | E9: =+I_savivalda!M106+'II švietimas'!M59+'III sveikata'!M35+'IV socialinė'!M115+'V Saugumas'!M22+'VI Verslas Turizmas'!M34+'VII Žemės ūkis'!M28+'VIII Infrastruktūra'!M68+'IX Renovacijos'!M38+'X Aplinkosauga'!M41+'XI laisvalaikis'!M39 -> 764.0325
B10: Europos Sąjungos paramos lėšos ES | C10: =+I_savivalda!H111+'II švietimas'!H64+'IV socialinė'!H121+'V Saugumas'!H26+'VI Verslas Turizmas'!H40+'VIII Infrastruktūra'!H72+'IX Renovacijos'!H44+'X Aplinkosauga'!H43+'XI laisvalaikis'!H45 -> 1192.26 | D10: =+I_savivalda!L111+'VIII Infrastruktūra'!L72+'II švietimas'!L64+'IV socialinė'!L121+'V Saugumas'!L26+'VI Verslas Turizmas'!L40+'VII Žemės ūkis'!L32+'IX Renovacijos'!L44+'X Aplinkosauga'!L43+'XI laisvalaikis'!L45 -> 400 | E10: =+I_savivalda!M111+'II švietimas'!M64+'IV socialinė'!M121+'V Saugumas'!M26+'VI Verslas Turizmas'!M40+'VII Žemės ūkis'!M32+'VIII Infrastruktūra'!M72+'IX Renovacijos'!M44+'X Aplinkosauga'!M43+'XI laisvalaikis'!M45 -> 0
B11: Valstybės biudžeto lėšos VB(P) | C11: =+I_savivalda!H108+'IV socialinė'!H117+'V Saugumas'!H23+'VI Verslas Turizmas'!H36+'VII Žemės ūkis'!H29+'IX Renovacijos'!H39+'X Aplinkosauga'!H42+'XI laisvalaikis'!H41 -> 10279.4 | D11: =+I_savivalda!L108+'IV socialinė'!L117+'V Saugumas'!L23+'VI Verslas Turizmas'!L36+'VII Žemės ūkis'!L29+'IX Renovacijos'!L39+'X Aplinkosauga'!L42+'XI laisvalaikis'!L41 -> 0 | E11: =+I_savivalda!M108+'IV socialinė'!M117+'V Saugumas'!M23+'VI Verslas Turizmas'!M36+'VII Žemės ūkis'!M29+'IX Renovacijos'!M39+'X Aplinkosauga'!M42+'XI laisvalaikis'!M41 -> 0
B12: Dotacijos | C12: =+I_savivalda!H112+'III sveikata'!H37+'IV socialinė'!H118+'VI Verslas Turizmas'!H37+'VIII Infrastruktūra'!H69+'IX Renovacijos'!H41+'XI laisvalaikis'!H42 -> 1010.74 | D12: =+I_savivalda!L112+'III sveikata'!L37+'IV socialinė'!L118+'VI Verslas Turizmas'!L37+'VIII Infrastruktūra'!L69+'IX Renovacijos'!L41+'XI laisvalaikis'!L42 -> 38 | E12: =+I_savivalda!M112+'III sveikata'!M37+'IV socialinė'!M118+'VI Verslas Turizmas'!M37+'VIII Infrastruktūra'!M69+'IX Renovacijos'!M41+'XI laisvalaikis'!M42 -> 0
B13: Kiti finansavimo šaltiniai Kitos | C13: =+I_savivalda!H110+'II švietimas'!H65+'III sveikata'!H36+'IV socialinė'!H122+'V Saugumas'!H27+'VI Verslas Turizmas'!H41+'VII Žemės ūkis'!H33+'VIII Infrastruktūra'!H73+'IX Renovacijos'!H45+'X Aplinkosauga'!H47 -> 0 | D13: =I_savivalda!L110+'II švietimas'!L65+'III sveikata'!L36+'IV socialinė'!L122+'V Saugumas'!L27+'VI Verslas Turizmas'!L41+'VII Žemės ūkis'!L33+'VIII Infrastruktūra'!L73+'IX Renovacijos'!L45+'X Aplinkosauga'!L47+'XI laisvalaikis'!L46 -> 0 | E13: =I_savivalda!M110+'II švietimas'!M65+'III sveikata'!M36+'IV socialinė'!M122+'V Saugumas'!M27+'VI Verslas Turizmas'!M41+'VII Žemės ūkis'!M33+'VIII Infrastruktūra'!M73+'IX Renovacijos'!M45+'X Aplinkosauga'!M47+'XI laisvalaikis'!M46 -> 0
C15: =+C7+C8+C9 -> 52492.4 | D15: =+D7+D8+D9 -> 54948.495 | E15: =+E7+E8+E9 -> 73981.12 | F15: Biudžetas
C16: =+C10+C11+C12+C13 -> 12482.4 | D16: =+D10+D11+D12+D13 -> 438 | E16: =+E10+E11+E12+E13 -> 0 | F16: Dotacijos ir projektai
C17: =+C15+C16 -> 64974.8 | D17: =+D15+D16 -> 55386.495 | E17: =+E15+E16 -> 73981.12 | F17: bendras

Sheet I_savivalda
A2: Programos tikslo kodas | B2: Uždavinio kodas | C2: Priemonės kodas | D2: Priemonės pavadinimas | E2: Funkcinės klasifikacijos kodas | F2: Asignavimų valdytojo kodas | G2: Finansavimo šaltinis | H2: 2023 metų išlaidos | L2: 2024 metų išlaidų projektas | M2: 2025 metų išlaidų projektas | N2: Iš viso | O2: Matavimo rodiklis | T2: Atsakingas skyrius
H3: Iš viso | I3: Išlaidoms | Q3: Rodiklio reikšmės
I4: Iš viso | J4: Iš jų darbo užmokesčiui | K4: turtui įsigyti ir finansiniams įsipareigojimams vykdyti | O4: Rodiklio pavadinimas | P4: Matavimo vnt. | Q4: 2023 m. | R4: 2024 m. | S4: 2025 m.
A5: 01 Viešojo administravimo institucijų ir įstaigų vidaus administravimo tobulinimo programa
A6: 01 | B6: Efektyviai organizuoti savivaldybės darbą, tinkamai įgyvendinti jos funkcijas
A7: 01 | B7: 01 | C7: Savarankiškųjų savivaldybės funkcijų vykdymas (1.1.1.1.)
A8: 01 | B8: 01 | C8: 01 | D8: Tarybos darbo organizavimas | E8: 01 | F8: 188718713 | G8: SB | H8: 120 | L8: =H8*1.05 -> 126 | M8: =L8*1.05 -> 132.3 | N8: =H8+L8+M8 -> 378.3 | O8: Vidutinis mėnesinis darbuotojo darbo užmokestis | P8: Eur./mėn. | Q8: 286 | R8: 286 | S8: 286 | T8: Bendrasis sk.
G9: Iš viso | H9: =H8 -> 120 | I9: =I8 -> 0 | J9: =J8 -> 0 | K9: =K8 -> 0 | L9: =L8 -> 126 | M9: =M8 -> 132.3 | N9: =H9+L9+M9 -> 378.3 | O9: Savivaldybės tarybos narių skaičius | P9: asm. | Q9: 25 | R9: 25 | S9: 25
A10: 01 | B10: 01 | C10: 02 | D10: Savivaldybės administracijos darbo organizavimas | E10: 01 | F10: 188718713 | G10: SB | H10: 4920.2 | L10: =H10*1.05 -> 5166.21 | M10: =L10*1.05 -> 5424.5205 | N10: =H10+L10+M10 -> 15510.931 | O10: Vidutinis mėnesinis darbuotojo darbo užmokestis | P10: Eur./mėn. | Q10: 2570 | R10: 2570 | S10: 2570 | T10: Juridinio ir personalo skyrius
G11: Iš viso | H11: =H10 -> 4920.2 | I11: =I10 -> 0 | J11: =J10 -> 0 | K11: =K10 -> 0 | L11: =L10 -> 5166.21 | M11: =M10 -> 5424.5205 | N11: =H11+L11+M11 -> 15510.931 | O11: Savivaldybės administracijoje užimtų pareigybių skaičius (sausio 01 d.) | P11: asm. | Q11: 139 | R11: 139 | S11: 139
A12: 01 | B12: 01 | C12: 03 | D12: Seniūnijų darbo organizavimas | E12: 01 | F12: 188718713 | G12: SB | H12: 264.4 | L12: =H12*1.05 -> 277.62 | M12: =L12*1.05 -> 291.501 | N12: =H12+L12+M12 -> 833.521 | O12: Vidutinis mėnesinis darbuotojo darbo užmokestis | P12: Eur./mėn. | Q12: 1508 | R12: 1508 | S12: 1508 | T12: juridinis ir personalo skyrius
G13: Iš viso | H13: =H12 -> 264.4 | I13: =I12 -> 0 | J13: =J12 -> 0 | K13: =K12 -> 0 | L13: =L12 -> 277.62 | M13: =M12 -> 291.501 | N13: =H13+L13+M13 -> 833.521
G14: SB(SP) | N14: =SUM(H14+M14) -> 0 | O14: Seniūnijose užimtų pareigybių skaičius (sausio 01 d.) | P14: asm. | Q14: 141 | R14: 141 | S14: 141
G15: Iš viso | H15: =H14 -> 0 | I15: =I14 -> 0 | J15: =J14 -> 0 | K15: =K14 -> 0 | L15: =L14 -> 0 | M15: =M14 -> 0 | N15: =SUM(N14) -> 0
A16: 01 | B16: 01 | C16: 04 | D16: Kontrolės ir audito tarnybos darbo organizavimas | E16: 01 | F16: 188675429 | G16: SB | H16: 118.5 | L16: =H16*1.05 -> 124.425 | M16: =L16*1.05 -> 130.64625 | N16: =H16+L16+M16 -> 373.57125 | O16: Vidutinis mėnesinis darbuotojo darbo užmokestis | P16: Eur./mėn. | Q16: 3068 | R16: 3068 | S16: 3068 | T16: juridinio ir personalo skyrius
G17: Iš viso | H17: =H16 -> 118.5 | I17: =I16 -> 0 | J17: =J16 -> 0 | K17: =K16 -> 0 | L17: =L16 -> 124.425 | M17: =M16 -> 130.64625 | N17: =H17+L17+M17 -> 373.57125 | O17: Komntrolės ir audito tarnyboje užimtų pareigybių skaičius (sausio 01 d.) | P17: asm. | Q17: 3 | R17: 3 | S17: 3
A18: 01 | B18: 01 | C18: 07 | D18: Ilgalaikio turto nuomos išlaidų kompensavimas | E18: 01 | F18: 188718713 | G18: SB(SP) | H18: 40 | L18: =H18*1.05 -> 42 | M18: =L18*1.05 -> 44.1 | N18: =H18+L18+M18 -> 126.1 | O18: Nuomuojamų ilgalaikio turto objektų skaičius | P18: vnt. | Q18: 63 | R18: 63 | S18: 63 | T18: Turto valdymo sk.
G19: Iš viso | H19: =H18 -> 40 | I19: =I18 -> 0 | J19: =J18 -> 0 | K19: =K18 -> 0 | L19: =L18 -> 42 | M19: =M18 -> 44.1 | N19: =H19+L19+M19 -> 126.1 | O19: Nuomuojamų ilgalaikio turto patalpų plotas | P19: m2 | Q19: 4247.33 | R19: 4247.33 | S19: 4247.33
A20: 01 | B20: 01 | C20: 08 | D20: Savivaldybės nuosavybėn priskirto ir perduodamo turto techninės inventarizacijos atlikimas arba patikslinimas | E20: 01 | F20: 188718713 | G20: SB | H20: 20 | L20: =H20*1.05 -> 21 | M20: =L20*1.05 -> 22.05 | N20: =H20+L20+M20 -> 63.05 | O20: Atliktų turto, žemės sklypų techninės inventorizacijos ir patikslinimų skaičius | P20: vnt. | Q20: 0 | R20: 0 | S20: 0 | T20: Komūnalinio ūkio sk.
G21: Iš viso | H21: =H20 -> 20 | I21: =I20 -> 0 | J21: =J20 -> 0 | K21: =K20 -> 0 | L21: =L20 -> 21 | M21: =M20 -> 22.05 | N21: =H21+L21+M21 -> 63.05
A22: 01 | B22: 01 | C22: 10 | D22: Administracijos direktoriaus rezervas | E22: 01 | F22: 188718713 | G22: SB | H22: 84 | L22: =H22*1.05 -> 88.2 | M22: =L22*1.05 -> 92.61 | N22: =H22+L22+M22 -> 264.81 | O22: Panaudota rezervo lėšų dalis | P22: proc. | Q22: 50 | R22: 50 | S22: 50 | T22: Apskaitos skyrius
G23: Iš viso | H23: =H22 -> 84 | I23: =I22 -> 0 | J23: =J22 -> 0 | K23: =K22 -> 0 | L23: =L22 -> 88.2 | M23: =M22 -> 92.61 | N23: =H23+L23+M23 -> 264.81
A24: 01 | B24: 01 | C24: 11 | D24: Reprezentacijos išlaidos | E24: 01 | F24: 188718713 | G24: SB | H24: 60 | L24: =H24*1.05 -> 63 | M24: =L24*1.05 -> 66.15 | N24: =H24+L24+M24 -> 189.15 | O24: Priimtų užsienio delegacijų skaičius | P24: vnt. | Q24: 40 | R24: 40 | S24: 40 | T24: Informacijos, kultūros ir turizmo skyrius
G25: Iš viso | H25: =H24 -> 60 | I25: =I24 -> 0 | J25: =J24 -> 0 | K25: =K24 -> 0 | L25: =L24 -> 63 | M25: =M24 -> 66.15 | N25: =H25+L25+M25 -> 189.15 | O25: Su savivadybės atributika parengtų viešinimo priemonių skaičius | P25: vnt. | Q25: 50 | R25: 50 | S25: 50
A26: 01 | B26: 01 | C26: 12 | D26: Jaunimo programų įgyvendinimas | E26: 01 | F26: 188718713 | G26: SB | H26: 37 | L26: =H26*1.05 -> 38.85 | M26: =L26*1.05 -> 40.7925 | N26: =H26+L26+M26 -> 116.6425 | O26: Paramą gavusių projektų skaičius | P26: vnt. | Q26: 17 | R26: 17 | S26: 17 | T26: Jaunimo koordinatorius
G27: Iš viso | H27: =H26 -> 37 | I27: =I26 -> 0 | J27: =J26 -> 0 | K27: =K26 -> 0 | L27: =L26 -> 38.85 | M27: =M26 -> 40.7925 | N27: =H27+L27+M27 -> 116.6425 | P27: asm.
A28: 01 | B28: 01 | C28: 13 | D28: Mero fondas | E28: 01 | F28: 188718713 | G28: SB | H28: 19 | L28: =H28*1.05 -> 19.95 | M28: =L28*1.05 -> 20.9475 | N28: =H28+L28+M28 -> 59.8975 | O28: Panaudota fondo lėšų dalis | P28: proc. | Q28: 60 | R28: 70 | S28: 80 | T28: Apskaitos skyrius
G29: Iš viso | H29: =H28 -> 19 | I29: =I28 -> 0 | J29: =J28 -> 0 | K29: =K28 -> 0 | L29: =L28 -> 19.95 | M29: =M28 -> 20.9475 | N29: =H29+L29+M29 -> 59.8975
A30: 01 | B30: 01 | C30: 15 | D30: Nekilnojamojo turto teisinė registracija, turto vertintojų paslaugos bei pastatų energinio naudingumo sertifikavimo paslaugos | E30: 01 | F30: 188718713 | G30: SB | H30: 20 | L30: =H30*1.05 -> 21 | M30: =L30*1.05 -> 22.05 | N30: =H30+L30+M30 -> 63.05 | O30: Įregistruotų nekilnojamo turto objektų skaičius | P30: vnt. | Q30: 5 | R30: 10 | S30: 10 | T30: Turto valdymo skyrius
O31: Įvertintų pastatų skaičius | P31: vnt. | Q31: 15 | R31: 15 | S31: 15
G32: Iš viso | H32: =H30 -> 20 | I32: =I30 -> 0 | J32: =J30 -> 0 | K32: =K30 -> 0 | L32: =L30 -> 21 | M32: =M30 -> 22.05 | N32: =H32+L32+M32 -> 63.05 | O32: Atliktų pastatų energetinio naudingumo sertifikavimų skaičius | P32: vnt. | Q32: 1 | R32: 5 | S32: 5
A33: 01 | B33: 02 | C33: Valstybinių (valstybės perduotų savivaldybėms) funkcijų tinkamas įgyvendinimas (1.1.1.2.)
A34: 01 | B34: 02 | C34: 01 | D34: Civilinės būklės aktų registravimas | E34: 01 | F34: 188718713 | G34: SB(VB) | H34: 29.5 | L34: =H34*1.05 -> 30.975 | M34: =L34*1.05 -> 32.52375 | N34: =H34+L34+M34 -> 92.99875 | O34: Įregistruotų civilinės būiklės aktų skaičius | P34: vnt. | Q34: 1050 | R34: 1050 | S34: 1050 | T34: Civilinės metrikacijos sk.
G35: SB | H35: 46.6 | L35: =H35*1.05 -> 48.93 | M35: =L35*1.05 -> 51.3765 | N35: =H35+L35+M35 -> 146.9065
G36: Iš viso | H36: =H34+H35 -> 76.1 | I36: =I34+I35 -> 0 | J36: =J34+J35 -> 0 | K36: =K34+K35 -> 0 | L36: =L34+L35 -> 79.905 | M36: =M34+M35 -> 83.90025 | N36: =+N34+N35 -> 239.90525
A37: 01 | B37: 02 | C37: 02 | D37: Valstybės pagalbos registro tvarkymas | E37: 01 | F37: 188718713 | G37: SB(VB) | H37: 1.7 | L37: =H37*1.05 -> 1.785 | M37: =L37*1.05 -> 1.87425 | N37: =H37+L37+M37 -> 5.35925 | O37: Perduotų įrašų skaičius | P37: vnt. | Q37: 230 | R37: 240 | S37: 240 | T37: Juridinis ir personalo sk.
G38: Iš viso | H38: =H37 -> 1.7 | I38: =I37 -> 0 | J38: =J37 -> 0 | K38: =K37 -> 0 | L38: =L37 -> 1.785 | M38: =M37 -> 1.87425 | N38: =H38+L38+M38 -> 5.35925
A39: 01 | B39: 02 | C39: 03 | D39: Archyvų tvarkymas | E39: 01 | F39: 188718713 | G39: SB(VB) | H39: 11.6 | L39: =H39*1.05 -> 12.18 | M39: =L39*1.05 -> 12.789 | N39: =H39+L39+M39 -> 36.569 | O39: Archyve saugomų bylų skaičius | P39: m. | Q39: 263.5 | R39: 263.5 | S39: 263.5 | T39: Bendrasis sk.
G40: SB | H40: 11.6 | L40: =H40*1.05 -> 12.18 | M40: =L40*1.05 -> 12.789 | N40: =H40+L40+M40 -> 36.569 | O40: Centriniam archyvui perduotų bylų skaičius | P40: vnt. | Q40: 0 | R40: 0 | S40: 0
G41: Iš viso | H41: =H39+H40 -> 23.2 | I41: =I39+I40 -> 0 | J41: =J39+J40 -> 0 | K41: =K39+K40 -> 0 | L41: =L39+L40 -> 24.36 | M41: =M39+M40 -> 25.578 | N41: =H41+L41+M41 -> 73.138
A42: 01 | B42: 02 | C42: 04 | D42: Gyventojų registro tvarkymas ir duomenų pateikimas valstybės registrui | E42: 01 | F42: 188718713 | G42: SB(VB) | H42: 0.6 | L42: =H42*1.05 -> 0.63 | M42: =L42*1.05 -> 0.6615 | N42: =H42+L42+M42 -> 1.8915 | O42: Elektroniniu būdu VĮ „Registrų centras“ perduotų dokumentų skaičius | P42: vnt. | Q42: 840 | R42: 840 | S42: 840 | T42: Civilinės metrikacijos sk.
G43: Iš viso | H43: =H42 -> 0.6 | I43: =I42 -> 0 | J43: =J42 -> 0 | K43: =K42 -> 0 | L43: =L42 -> 0.63 | M43: =M42 -> 0.6615 | N43: =H43+L43+M43 -> 1.8915
A44: 01 | B44: 02 | C44: 06 | D44: Jaunimo teisių apsauga | E44: 01 | F44: 188718713 | G44: SB(VB) | H44: 16.1 | L44: =H44*1.05 -> 16.905 | M44: =L44*1.05 -> 17.75025 | N44: =H44+L44+M44 -> 50.75525 | O44: Su jaunimu dirbančių užimtų pareigybių skaičius | P44: vnt. | Q44: 1 | R44: 1 | S44: 1 | T44: Jaunimo koordinatorius
G45: SB | H45: 5.8 | L45: =H45*1.05 -> 6.09 | M45: =L45*1.05 -> 6.3945
G46: Iš viso | H46: =H44+H45 -> 21.9 | I46: =I44+I45 -> 0 | J46: =J44+J45 -> 0 | K46: =K44+K45 -> 0 | L46: =L44+L45 -> 22.995 | M46: =M44+M45 -> 24.14475 | N46: =H46+L46+M46 -> 69.03975
A47: 01 | B47: 02 | C47: 07 | D47: Valstybinės kalbos vartojimo ir taisyklingumo kontrolė | E47: 01 | F47: 188718713 | G47: SB(VB) | H47: 16 | L47: =H47*1.05 -> 16.8 | M47: =L47*1.05 -> 17.64 | N47: =H47+L47+M47 -> 50.44 | O47: Valstybinės kalbos vartojimo ir taisyklingumo kontrolės procedūrų skaičius | P47: vnt. | Q47: 50 | R47: 50 | S47: 50 | T47: Bendrasis sk.
G48: SB | H48: 10.7 | L48: =H48*1.05 -> 11.235 | M48: =L48*1.05 -> 11.79675 | N48: =H48+L48+M48 -> 33.73175 | P48: vnt.
G49: Iš viso | H49: =H47+H48 -> 26.7 | I49: =I47+I48 -> 0 | J49: =J47+J48 -> 0 | K49: =K47+K48 -> 0 | L49: =L47+L48 -> 28.035 | M49: =M47+M48 -> 29.43675 | N49: =+N47+N48 -> 84.17175
A50: 01 | B50: 02 | C50: 08 | D50: Valstybės garantuojamos pirminės teisinės pagalbos teikimas | E50: 01 | F50: 188718713 | G50: SB(VB) | H50: 15.9 | L50: =H50*1.05 -> 16.695 | M50: =L50*1.05 -> 17.52975 | N50: =H50+L50+M50 -> 50.12475 | O50: Gyventojų skaičius, kuriems suteikta pirminė teisinė pagalba | P50: asm. | Q50: 899 | R50: 900 | S50: 900 | T50: Juridinis ir personalo sk.
G51: SB | H51: 9 | L51: =H51*1.05 -> 9.45 | M51: =L51*1.05 -> 9.9225 | N51: =H51+L51+M51 -> 28.3725
G52: Iš viso | H52: =H50+H51 -> 24.9 | I52: =I50+I51 -> 0 | J52: =J50+J51 -> 0 | K52: =K50+K51 -> 0 | L52: =L50+L51 -> 26.145 | M52: =M50+M51 -> 27.45225 | N52: =+N50+N51 -> 78.49725
A53: 01 | B53: 02 | C53: 09 | D53: Gyvenamosios vietos deklaravimo duomenų ir gyvenamosios vietos neturinčių asmenų apskaitos duomenų tvarkymas | E53: 01 | F53: 188718713 | G53: SB(VB) | H53: 3.3 | L53: =H53*1.05 -> 3.465 | M53: =L53*1.05 -> 3.63825 | N53: =H53+L53+M53 -> 10.40325 | O53: Aptarnautų interesantų dalis | P53: proc. | Q53: 100 | R53: 1000 | S53: 100 | T53: seniūnijos
G54: Iš viso | H54: =H53 -> 3.3 | I54: =I53 -> 0 | J54: =J53 -> 0 | K54: =K53 -> 0 | L54: =L53 -> 3.465 | M54: =M53 -> 3.63825 | N54: =H54+L54+M54 -> 10.40325
A55: 01 | B55: 02 | C55: 10 | D55: Mobilizacijos administravimas | E55: 02 | F55: 188718713 | G55: SB(VB) | H55: 10.3 | L55: =H55*1.05 -> 10.815 | M55: =L55*1.05 -> 11.35575 | N55: =H55+L55+M55 -> 32.47075 | O55: Mobilizacijos administravimo srityje užimtų pareigybių skaičius | P55: vnt. | Q55: 1 | R55: 1 | S55: 1 | T55: Komūnalinio ūkio sk.
G56: Iš viso | H56: =H55 -> 10.3 | I56: =I55 -> 0 | J56: =J55 -> 0 | K56: =K55 -> 0 | L56: =L55 -> 10.815 | M56: =M55 -> 11.35575 | N56: =H56+L56+M56 -> 32.47075
A57: 01 | B57: 02 | C57: 11 | D57: Dalyvavimas organizuojant įstatymų numatytus rinkimus ir referendumus | E57: 01 | F57: 188718713 | G57: SB | H57: 30 | L57: =H57*1.05 -> 31.5 | M57: =L57*1.05 -> 33.075 | N57: =H57+L57+M57 -> 94.575 | O57: Suorganizuotų rinkimų ir referendumų skaičius | P57: vnt. | Q57: 1 | R57: 0 | S57: 0 | T57: Bendrasis skyrius
G58: Iš viso | H58: =H57 -> 30 | I58: =I57 -> 0 | J58: =J57 -> 0 | K58: =K57 -> 0 | L58: =L57 -> 31.5 | M58: =M57 -> 33.075 | N58: =H58+L58+M58 -> 94.575
A59: 01 | B59: 02 | C59: 12 | D59: Savivaldybei priskirtai valstybinei žemei ir kitam valstybiniam turtui valdyti naudoti ir disponuoti juo patikėjimo teise | E59: 01 | F59: 188718713 | G59: SB(VB) | H59: 0.1 | L59: =H59*1.05 -> 0.105 | M59: =L59*1.05 -> 0.11025 | N59: =H59+L59+M59 -> 0.31525 | O59: Parengti dokumentai dėl valstybinės žemės sklypų perdavimo ir įregistravimo patikėjimo teise | P59: proj. | Q59: 3 | R59: 1 | S59: 1 | T59: Statybos ir architektūros sk.
G60: Iš viso | H60: =H59 -> 0.1 | I60: =I59 -> 0 | J60: =J59 -> 0 | K60: =K59 -> 0 | L60: =L59 -> 0.105 | M60: =M59 -> 0.11025 | N60: =H60+L60+M60 -> 0.31525 | O60: ???
A61: 02 | B61: Vykdyti prisiimtus finansinius įsipareigojimus
A62: 02 | B62: 01 | C62: Užtikrinti paskolų, palūkanų ir bendrosios dotacijos kompensacijos grąžinimą (1.1.2.1.)
A63: 02 | B63: 01 | C63: 01 | D63: Palūkanų mokėjimas | E63: 01 | F63: 188718713 | G63: SB | H63: 20 | L63: =H63*1.05 -> 21 | M63: =L63*1.05 -> 22.05 | N63: =H63+L63+M63 -> 63.05 | O63: Aptarnaujamų sutarčių skaičius | P63: vnt. | Q63: 4 | R63: 4 | S63: 4 | T63: Biudžeto ir finansų sk.
G64: Iš viso | H64: =H63 -> 20 | I64: =I63 -> 0 | J64: =J63 -> 0 | K64: =K63 -> 0 | L64: =L63 -> 21 | M64: =M63 -> 22.05 | N64: =H64+L64+M64 -> 63.05
A65: 02 | B65: 01 | C65: 02 | D65: Paskolų grąžinimas | E65: 01 | F65: 188718713 | G65: SB | H65: 334.9 | L65: =H65*1.05 -> 351.645 | M65: =L65*1.05 -> 369.22725 | N65: =H65+L65+M65 -> 1055.7722 | O65: Pasirašytų paskolos sutarčių skaičius | P65: vnt. | Q65: 3 | R65: 3 | S65: 3 | T65: Biudžeto ir finansų sk.
G66: Iš viso | H66: =H65 -> 334.9 | I66: =I65 -> 0 | J66: =J65 -> 0 | K66: =K65 -> 0 | L66: =L65 -> 351.645 | M66: =M65 -> 369.22725 | N66: =H66+L66+M66 -> 1055.7722
A67: 02 | B67: 02 | C67: Pritraukti finansavimo šaltinius svarbiems rajono vystymo projektams (1.1.2.2.)
A68: 02 | B68: 02 | C68: 01 | D68: Paraiškų, siekiant gauti ES ir kitų finansinių institucijų lėšas, rengimas | E68: 01 | F68: 188718713 | G68: SB | H68: 120 | L68: =H68*1.05 -> 126 | M68: =L68*1.05 -> 132.3 | N68: =H68+L68+M68 -> 378.3 | O68: Patvirtintų paramos paraiškų skaičius | P68: vnt. | Q68: 6 | R68: 6 | S68: 6 | T68: Investicijų ir strateginio planavimo sk.
G69: Iš viso | H69: =H68 -> 120 | I69: =I68 -> 0 | J69: =J68 -> 0 | K69: =K68 -> 0 | L69: =L68 -> 126 | M69: =M68 -> 132.3 | N69: =+N68 -> 378.3 | O69: Dokumentų, parengtų siekiant gauti ES ir kitų fin. inst. lėšas, skaičius | P69: vnt. | Q69: 10 | R69: 10 | S69: 10
A70: 02 | B70: 02 | C70: 03 | D70: Leader metodo priemonių įgyvendinimo administravimas | E70: 01 | F70: 188718713 | G70: ES | N70: =H70+L70+M70 -> 0 | O70: Savivaldybės administracijos administruojamų projektų skaičius | P70: vnt. | Q70: 0 | R70: 2 | S70: 2 | T70: Investicijų ir strateginio planavimo sk.
G71: SB | H71: 35 | L71: =H71*1.05 -> 36.75 | M71: =L71*1.05 -> 38.5875 | N71: =H71+L71+M71 -> 110.3375
G72: Kitos | N72: =H72+L72+M72 -> 0
G73: Iš viso | H73: =H70+H71+H72 -> 35 | I73: =I70+I71+I72 -> 0 | J73: =J70+J71+J72 -> 0 | K73: =K70+K71+K72 -> 0 | L73: =L70+L71+L72 -> 36.75 | M73: =M70+M71+M72 -> 38.5875 | N73: =+N70+N72+N71 -> 110.3375
A74: 03 | B74: Didinti savivaldybės veilos efektyvumą, skaidrumą, atsakomybę, sprendimų priėmimo kokybę ir vadybinę kompetenciją
A75: 03 | B75: 01 | C75: Užtikrinti Savivaldybės veiklos skaidrumą ir efektyvų gyventojų aptarnavimą (1.1.3.1.)
A76: 03 | B76: 01 | C76: 06 | D76: Projekto "Paslaugų ir asmenų aptarnavimo kokybės gerinimas Šalčininkų rajono savivaldybėjė" įgyvendinimas | E76: 01 | F76: 188718713 | G76: ES | H76: 38.9 | N76: =H76+L76+M76 -> 38.9 | O76: Įdiegtų programų, padedančių aptarnauti klientus, skaičius | P76: vnt. | Q76: 2 | R76: 0 | S76: 0 | T76: Investicijų ir strateginio planavimo sk.
G77: D | N77: =H77+L77+M77 -> 0
G78: SB | H78: 6.9 | L78: =H78*1.05 -> 7.245 | M78: =L78*1.05 -> 7.60725 | N78: =H78+L78+M78 -> 21.75225
G79: Iš viso | H79: =H76+H77+H78 -> 45.8 | I79: =I76+I77 -> 0 | J79: =J76+J77 -> 0 | K79: =K76+K77 -> 0 | L79: =L76+L77+L78 -> 7.245 | M79: =M76+M77+M78 -> 7.60725 | N79: =H79+L79+M79 -> 60.65225
A80: 03 | B80: 01 | C80: 07 | D80: Administracinės naštos mažinimo priemonių įgyvendinimas ir stebėsena | E80: 01 | F80: 188718713 | G80: SB | N80: =H80+L80+M80 -> 0 | O80: Adm. naštos mažinimo priemonių plano atnaujinimas | P80: vnt. | Q80: 1 | R80: 1 | S80: 1 | T80: Vidaus auditorius
G81: Iš viso | H81: =H80 -> 0 | I81: =I80 -> 0 | J81: =J80 -> 0 | K81: =K80 -> 0 | L81: =L80 -> 0 | M81: =M80 -> 0 | N81: =+N80 -> 0 | O81: Adm. naštos mažinimo priemonių plano gyvendinimo ataskaitos parengimas | P81: vnt. | Q81: 1 | R81: 1 | S81: 1
A82: 03 | B82: 01 | C82: 08 | D82: Lyčių lygybės ir lygių galimybių nuostatų įgyvendinimas ir stebėsena | E82: 01 | F82: 188718713 | G82: SB | N82: =H82+L82+M82 -> 0 | O82: Lyčių lygybės ir lygių galimybių plano parengimas | P82: vnt. | Q82: 1 | R82: 1 | S82: 1 | T82: Socialinės paramos ir sveikatos skyrius
G83: Iš viso | H83: =H82 -> 0 | I83: =I82 -> 0 | J83: =J82 -> 0 | K83: =K82 -> 0 | L83: =L82 -> 0 | M83: =M82 -> 0 | N83: =+N82 -> 0
A84: 03 | B84: 01 | C84: 09 | D84: Šalčininkų rajono savivaldybės skaitmeninės kapinių duomenų bazės sukūrimas, laidojimo viešųjų paslaugų gerinimas. | E84: 01 | F84: 188718713 | G84: ES | N84: =H84+L84+M84 -> 0 | O84: Skaitmenizuotų kapinių skaičius | P84: vnt. | Q84: 0 | R84: 41 | S84: 41 | T84: Investicijų ir strateginio planavimo sk.
G85: SB | H85: 0 | L85: =H85*1.05 -> 0 | M85: =L85*1.05 -> 0 | N85: =H85+L85+M85 -> 0
G86: D | H86: 0 | N86: =H86+L86+M86 -> 0
G87: Iš viso | H87: =H84+H85+H86 -> 0 | I87: =I84+I85+I86 -> 0 | J87: =J84+J85+J86 -> 0 | K87: =K84+K85+K86 -> 0 | L87: =L84+L85+L86 -> 0 | M87: =M84+M85+M86 -> 0 | N87: =+N84+N86+N85 -> 0
A88: 03 | B88: 03 | C88: Tobulinti savivaldybės institucijų ir įstaigų darbuotojų kvalifikaciją (1.1.3.2.)
A89: 03 | B89: 03 | C89: 03 | D89: Mokymai savivaldybės institucijų ir įstaigų darbuotojams | E89: 01 | F89: 188718713 | G89: SB | N89: =H89+L89+M89 -> 0 | O89: Savivaldybės darbuotojų, per metus tobulinusių kvalifikaciją, dalis | P89: proc. | Q89: 50 | R89: 50 | S89: 50 | T89: Juridinio ir personalo skyrius
G90: SB(VB) | N90: =H90+L90+M90 -> 0
G91: Iš viso | H91: =H89+H90 -> 0 | I91: =I89+I90 -> 0 | J91: =J89+J90 -> 0 | K91: =K89+K90 -> 0 | L91: =L89+L90 -> 0 | M91: =M89+M90 -> 0 | N91: =+N89+N90 -> 0
A92: 04 | B92: Plėtoti informacinių technologijų taikymą savivaldybėje
A93: 04 | B93: 01 | C93: Specializuotų kompiuterinių programų įsisgijimas ir kompiuterių atnaujinimas (1.1.4.1.)
A94: 04 | B94: 01 | C94: 02 | D94: Kompiuterinės ir programinės įrangos aptarnavimas ir atnaujimas | E94: 01 | F94: 188718713 | G94: SB | N94: =H94+L94+M94 -> 0 | O94: Naudojamų mokamų programinės įrangos licencijų skaičius | P94: vnt. | Q94: 235 | R94: 235 | S94: 235 | T94: Bendrasis skyrius
O96: Įsigytos kompiuterinės, organizacinės technikos skaičius | P96: vnt. | Q96: 25 | R96: 25 | S96: 25
G97: Iš viso | H97: =H94 -> 0 | I97: =I94 -> 0 | J97: =J94 -> 0 | K97: =K94 -> 0 | L97: =L94 -> 0 | M97: =M94 -> 0 | N97: =+N94 -> 0
A98: 05 | B98: Plėtoti ryšius su visuomene ir skatinti tarptautinį bendradarbiavimą
A99: 05 | B99: 01 | C99: Esamų ryšių su visuomene ir užsienio partneriais palaikymas ir naujų užmezgimas (1.1.5.1.)
A100: 05 | B100: 01 | C100: 01 | D100: Ryšių su visuomene plėtojimas | E100: 01 | F100: 188718713 | G100: SB | N100: =H100+L100+M100 -> 0 | O100: Savivaldybės "YouTube" kanale patalpintų video skaičius | P100: vnt. | Q100: 25 | R100: 30 | S100: 30 | T100: Informacijos, kultūros ir turizmo skyrius
G101: Iš viso | H101: =H100 -> 0 | I101: =I100 -> 0 | J101: =J100 -> 0 | K101: =K100 -> 0 | L101: =L100 -> 0 | M101: =M100 -> 0 | N101: =H101+L101+M101 -> 0 | O101: Svetainei „www.salcininkai.lt“ parengtų straipsnių skaičius | P101: vnt. | Q101: 400 | R101: 450 | S101: 450
A102: 05 | B102: 01 | C102: 03 | D102: Savivaldybės dalyvavimas asocijuotų tarptautinių ir Lietuvos organizacijų veikloje | E102: 01 | F102: 188718713 | G102: SB | H102: 15.7 | L102: =H102*1.05 -> 16.485 | M102: =L102*1.05 -> 17.30925 | N102: =H102+L102+M102 -> 49.49425 | O102: Asociacijuotų organizacijų, kurių narė yra savivaldybė, skaičius (LSA, VVG ir t.t.) | P102: vnt. | Q102: 5 | R102: 6 | S102: 7 | T102: Bendrasis sk.
...

Sheet II švietimas
A2: Programos tikslo kodas | B2: Uždavinio kodas | C2: Priemonės kodas | D2: Priemonės pavadinimas | E2: Funkcinės klasifikacijos kodas | F2: Asignavimų valdytojo kodas | G2: Finansavimo šaltinis | H2: 2023 metų išlaidos | L2: 2024 metų išlaidų projektas | M2: 2025 metų išlaidų projektas | N2: Iš viso | O2: Matavimo rodiklis | T2: Atsakingas skyrius
H3: Iš viso | I3: Išlaidoms | Q3: Rodiklio reikšmės
I4: Iš viso | J4: Iš jų darbo užmokesčiui | K4: turtui įsigyti ir finansiniams įsipareigojimams vykdyti | O4: Rodiklio pavadinimas | P4: Matavimo vnt. | Q4: 2023 m. | R4: 2024 m. | S4: 2025 m.
A5: 02 Švietimo, sporto ir jaunimo reikalų programa
A6: 01 | B6: Užtikrinti švietimo įstaigų prieinamumą, efektyvumą, ugdymo kokybę
A7: 01 | B7: 01 | C7: Ugdymo planų ir programų įgyvendinimas, ugdymo(si) sąlygų užtikrinimas (2.1.1.1.)
A8: 01 | B8: 01 | C8: 01 | D8: Ugdymo planų ir ugdymo sąlygų užtikrinimas ikimokyklinio ugdymo įstaigose | E8: 09 | F8: 291408750, 191408945, 191409132, 291410630, 191409285, 191409470, 191410444, 191409666, 191410597, 191409328, 195006449 | G8: SB | H8: 2003.6 | I8: 1691.6 | J8: 1358.9 | L8: =H8*1.05 -> 2103.78 | M8: =L8*1.05 -> 2208.969 | N8: =H8+L8+M8 -> 6316.349 | O8: Ikimokyklinio ugdymo įstaigų skaičius | P8: vnt. | Q8: 7 | R8: 7 | S8: 7 | T8: Švietimo ir sporto sk.
G9: SB(VB) | H9: 2118.2 | I9: 1855.4 | J9: 1793.8 | L9: =H9*1.05 -> 2224.11 | M9: =L9*1.05 -> 2335.3155 | N9: =H9+L9+M9 -> 6677.6255
G10: SB(SP) | H10: 356.2 | I10: 337.3 | L10: =H10*1.05 -> 374.01 | M10: =L10*1.05 -> 392.7105 | N10: =H10+L10+M10 -> 1122.9205 | O10: Vaikų, ugdomų ikimokyklinio ugdymo įstaigose, skaičius | P10: asm. | Q10: 881 | R10: 881 | S10: 881
G11: Iš viso | H11: =+H8+H9+H10 -> 4478 | I11: =+I8+I9+I10 -> 3884.3 | J11: =+J8+J9+J10 -> 3152.7 | K11: =+K8+K9+K10 -> 0 | L11: =+L8+L9+L10 -> 4701.9 | M11: =+M8+M9+M10 -> 4936.995 | N11: =+N8+N9+N10 -> 14116.895
A12: 01 | B12: 01 | C12: 02 | D12: Ugdymo planų ir ugdymo sąlygų užtikrinimas rajono bendrojo lavinimo mokyklose | E12: 09 | F12: 29141510, 191415562, 191416326, 19147047, 191416664, 291416850, 191414994, 291414080, 191414318, 191414460, 191414656, 191415039, 191413892, 191416479, 190986355, 191415758, 191415943, 291417190, 191651922, 191416511, 191416098, 191416283, | G12: SB | H12: 4437.3 | I12: 3673.3 | J12: 2739.6 | K12: 49.9 | L12: =H12*1.05 -> 4659.165 | M12: =L12*1.05 -> 4892.1233 | N12: =H12+L12+M12 -> 13988.588 | O12: Ugdymo įstaigų skaičius | P12: vnt. | Q12: 24 | R12: 24 | S12: 24 | T12: Švietimo ir sporto sk.
G13: SB(VB) | H13: 12130.1 | I13: 10939.8 | J13: 10508.9 | K13: 10 | L13: =H13*1.05 -> 12736.605 | M13: =L13*1.05 -> 13373.435 | N13: =H13+L13+M13 -> 38240.14
G14: SB(SP) | H14: 84 | I14: 54.8 | L14: =H14*1.05 -> 88.2 | M14: =L14*1.05 -> 92.61 | N14: =H14+L14+M14 -> 264.81 | O14: Mokinių, ugdomų pagal pagrindinio ugdymo programą, skaičius | P14: asm. | Q14: 1550 | R14: 1548 | S14: 1546
G15: Iš viso | H15: =+H12+H14+H13 -> 16651.4 | I15: =+I12+I14+I13 -> 14667.9 | J15: =+J12+J14+J13 -> 13248.5 | K15: =+K12+K14+K13 -> 59.9 | L15: =+L12+L14+L13 -> 17483.97 | M15: =+M12+M14+M13 -> 18358.169 | N15: =+N12+N14+N13 -> 52493.539 | O15: Mokinių, ugdomų pagal viduriniojo ugdymo programą, skaičius | P15: asm. | Q15: 437 | R15: 435 | S15: 433
A16: 01 | B16: 01 | C16: 03 | D16: Brandos egzaminų ir pagrindinio ugdymo pasiekimų organizavimas ir vykdymas | E16: 09 | F16: 188718713 | G16: SB(VB) | H16: 5.5 | I16: 5.4 | L16: =H16*1.05 -> 5.775 | M16: =L16*1.05 -> 6.06375 | N16: =H16+L16+M16 -> 17.33875 | O16: Įstaigų, kuriose organziuojami brandos egzaminai ir pagrindinio ugdymo pasiekimų vertinimas, skaičius | P16: vnt. | Q16: 18 | R16: 18 | S16: 18 | T16: Švietimo ir sporto sk.
G17: Iš viso | H17: =+H16 -> 5.5 | I17: =+I16 -> 5.4 | J17: =+J16 -> 0 | K17: =+K16 -> 0 | L17: =+L16 -> 5.775 | M17: =+M16 -> 6.06375 | N17: =+N16 -> 17.33875
A18: 01 | B18: 01 | C18: 04 | D18: Mokinių pavėžėjimo į mokyklą ir atgal visuomeniniu ir mokykliniu transportu užtikrinimas | E18: 09 | F18: 191415758, 191416283, 191416098, 191415943, 191415562, 291415410, 191416326, 191416511, 191416479, 191651922, 291417190, 191416664, 291416850, 191413554, 191414994, 191414122, 291414080, 191417047, 191415039, 191414460, 191414656, 191417385, 191417232, 190986355, 175012366, 188718713, | G18: SB | H18: 273.3 | I18: 237.1 | L18: =H18*1.05 -> 286.965 | M18: =L18*1.05 -> 301.31325 | N18: =H18+L18+M18 -> 861.57825 | O18: Mokinių, pavežamų į mokyklą ir atgal visuomeniniu transportu skaičius | P18: asm. | Q18: 763 | R18: 706 | S18: 703 | T18: Švietimo ir sporto sk.
G19: Iš viso | H19: =+H18 -> 273.3 | I19: =+I18 -> 237.1 | J19: =+J18 -> 0 | K19: =+K18 -> 0 | L19: =+L18 -> 286.965 | M19: =+M18 -> 301.31325 | N19: =+N18 -> 861.57825 | O19: Mokinių, pavežamų į mokyklą ir atgal mokykliniu transportu skaičius | P19: asm. | Q19: 612 | R19: 669 | S19: 667
A20: 01 | B20: 01 | C20: 09 | D20: Ilgalaikio turto nuomos kompensavimas švietimo įstaigoms | E20: 09 | F20: 191415943 291417190, 191415758, 191416098, 191416326, 191651922, 291416850, 191416479, 191416664, 291415410 | G20: SB(SP) | H20: 23.6 | I20: 18.2 | L20: =H20*1.05 -> 24.78 | M20: =L20*1.05 -> 26.019 | N20: =H20+L20+M20 -> 74.399 | O20: Švietimo įstaigų, kurioms kompensuojama ilgalaikio turto nuoma, skaičius | P20: vnt. | Q20: 13 | R20: 13 | S20: 13 | T20: Švietimo įstaigų apskaitos sk.
G21: Iš viso | H21: =+H20 -> 23.6 | I21: =+I20 -> 18.2 | J21: =+J20 -> 0 | K21: =+K20 -> 0 | L21: =+L20 -> 24.78 | M21: =+M20 -> 26.019 | N21: =+N20 -> 74.399
A22: 01 | B22: 01 | C22: 11 | D22: Pedagoginių darbuotojų tarifinių atlygių koeficientų skirtumų išlyginimas mokyklose | E22: 09 | F22: 188718713 | G22: SB(VB) | H22: 280.9 | I22: 251.7 | J22: 243 | L22: =H22*1.05 -> 294.945 | M22: =L22*1.05 -> 309.69225 | N22: =H22+L22+M22 -> 885.53725 | O22: Klasių komplektų, kurie nefinansuojami iš VB, skaičius | P22: vnt. | Q22: 6 | R22: 0 | S22: 0 | T22: Biudžeto sk.
G23: SB | H23: 1000 | I23: 530.7 | J23: 261.2 | L23: =H23*1.05 -> 1050 | M23: =L23*1.05 -> 1102.5 | N23: =H23+L23+M23 -> 3152.5
G24: Iš viso | H24: =+H22+H23 -> 1280.9 | I24: =+I22+I23 -> 782.4 | J24: =+J22+J23 -> 504.2 | K24: =+K22+K23 -> 0 | L24: =+L22+L23 -> 1344.945 | M24: =+M22+M23 -> 1412.1923 | N24: =+N22+N23 -> 4038.0373
A25: 01 | B25: 02 | C25: Ugdymo planų ir programų įgyvendinimas, ugdymo(si) sąlygų užtikrinimas (2.1.1.2.)
A26: 01 | B26: 02 | C26: 01 | D26: Švietimo darbuotojų ugdomosios ir vadybinės veiklos tobulinimas | E26: 09 | F26: 188718713 | G26: SB(VB) | H26: 0 | I26: 5.4 | L26: =H26*1.05 -> 0 | M26: =+H26*0.1+H26 -> 0 | N26: =H26+L26+M26 -> 0 | O26: Darbuotojų, patobulinusių įgūdžius skaičius | P26: asm. | Q26: 0 | R26: 0 | S26: 0 | T26: Švietimo ir sporto sk.
G27: Iš viso | H27: =+H26 -> 0 | I27: =+I26 -> 5.4 | J27: =+J26 -> 0 | K27: =+K26 -> 0 | L27: =+L26 -> 0 | M27: =+M26 -> 0 | N27: =+N26 -> 0
A28: 02 | B28: Sudaryti sąlygas gabių ir talentingų vaikų ugdymui ir ugdymuisi
A29: 02 | B29: 01 | C29: Skatinti ir remti vaikų meninę, sportinę, kūrybinę saviraišką (2.1.2.1.)
A30: 02 | B30: 01 | C30: 01 | D30: Mokomųjų dalykų, olimpiadų, konkursų, sporto varžybų, kultūrinių renginių organizavimas | E30: 09 | F30: 188718713 | G30: SB | H30: 30 | I30: =H30*1.05 -> 31.5 | J30: =I30*1.05 -> 33.075 | L30: =H30*1.05 -> 31.5 | M30: =L30*1.05 -> 33.075 | N30: =H30+L30+M30 -> 94.575 | O30: Suorganizuotų mokomųjų dalykų, olimpiadų, kokursų skaičius | P30: vnt. | Q30: 37 | R30: 37 | S30: 37 | T30: Švietimo ir sporto sk.
G31: Iš viso | H31: =+H30 -> 30 | I31: =+I30 -> 31.5 | J31: =+J30 -> 33.075 | K31: =+K30 -> 0 | L31: =+L30 -> 31.5 | M31: =+M30 -> 33.075 | N31: =H31+L31+M31 -> 94.575 | O31: Suorganizuotų sporto varžybų, kultūrinių renginių skaičius | P31: vnt. | Q31: 20 | R31: 20 | S31: 20
A32: 02 | B32: 01 | C32: 05 | D32: Neformaliojo ugdymo programų įgyvendinimas, ugdymo sąlygų užtikrinimas rajono neformaliojo ugdymo mokyklose | E32: 09 | F32: 191417232, 191417385, 191417428, 191417570, 188718713 | G32: SB | H32: 1372 | I32: 955.9 | J32: 903.2 | K32: 235 | L32: =H32*1.05 -> 1440.6 | M32: =L32*1.05 -> 1512.63 | N32: =H32+L32+M32 -> 4325.23 | O32: Neformaliojo ugdymo įstaigų skaičius | P32: vnt. | Q32: 4 | R32: 4 | S32: 4 | T32: Švietimo ir sporto sk.
G33: SB(SP) | H33: 56.8 | I33: 49.8 | K33: 7 | L33: =H33*1.05 -> 59.64 | M33: =L33*1.05 -> 62.622 | N33: =H33+L33+M33 -> 179.062
G34: SB(VB) | H34: 251.1 | I34: 343.9 | J34: 149.7 | L34: =H34*1.05 -> 263.655 | M34: =L34*1.05 -> 276.83775 | N34: =H34+L34+M34 -> 791.59275 | O34: Pagal neformaliojo ugdymo programas besimokančių mokinių skaičius | P34: asm. | Q34: 664 | R34: 670 | S34: 676
G35: Iš viso | H35: =+SUM(H32:H34) -> 1679.9 | I35: =+SUM(I32:I34) -> 1349.6 | J35: =+SUM(J32:J34) -> 1052.9 | K35: =+SUM(K32:K34) -> 242 | L35: =+SUM(L32:L34) -> 1763.895 | M35: =+SUM(M32:M34) -> 1852.0898 | N35: =+SUM(N32:N34) -> 5295.8848
A36: 02 | B36: 01 | C36: 06 | D36: Švietimo programų finansavimas | E36: 09 | F36: 188718713 | G36: SB | H36: 50 | I36: 25 | L36: =H36*1.05 -> 52.5 | M36: =L36*1.05 -> 55.125 | N36: =H36+L36+M36 -> 157.625 | O36: Švietimo sistemos dalyviams skirtų skatinimo priemonių skaičius (olimpiados, apdovanojimai ir pan.). | P36: vnt. | Q36: 670 | R36: 670 | S36: 670 | T36: Švietimo ir sporto sk.
G37: Iš viso | H37: =+H36 -> 50 | I37: =+I36 -> 25 | J37: =+J36 -> 0 | K37: =+K36 -> 0 | L37: =+L36 -> 52.5 | M37: =+M36 -> 55.125 | N37: =H37+L37+M37 -> 157.625 | O37: ???
A38: 02 | B38: 02 | C38: Plėsti neformaliojo ugdymo įstaigų veiklą (2.1.2.2.)
A39: 02 | D39: Buvo pasiūlymas DG: Integruoti meno krypties ugdymą Eišiškių muzikos ir Jašiūnų muzikos mokyklose | E39: 09 | G39: SB | L39: =+(H39*0.05)+H39 -> 0 | M39: =+H39*0.1+H39 -> 0 | N39: =H39+L39+M39 -> 0 | T39: Švietimo ir sporto sk.
G40: Iš viso | H40: =+H39 -> 0 | I40: =+I39 -> 0 | J40: =+J39 -> 0 | K40: =+K39 -> 0 | L40: =+L39 -> 0 | M40: =+M39 -> 0 | N40: =H40+L40+M40 -> 0
A41: 02 | B41: 03 | C41: Skatinti Savivaldybės ir švietimo įstaigų bendradarbiavimą diegiant STEAM ir kitas inovatyvias ugdymo programas (2.1.2.3.)
A42: 02 | D42: ??? | E42: 09 | G42: SB | L42: =+(H42*0.05)+H42 -> 0 | M42: =+H42*0.1+H42 -> 0 | N42: =H42+L42+M42 -> 0 | T42: Švietimo ir sporto sk.
G43: Iš viso | H43: =+H42 -> 0 | I43: =+I42 -> 0 | J43: =+J42 -> 0 | K43: =+K42 -> 0 | L43: =+L42 -> 0 | M43: =+M42 -> 0 | N43: =H43+L43+M43 -> 0
A44: 03 | B44: Gerinti pagalbos mokiniui, šeimai ir mokyklai kokybę ir prieinamumą
A45: 03 | B45: 01 | C45: Užtikrinti mokymosi prieinamumą specialiųjų poreikių vaikams (2.1.3.1.)
A46: 03 | B46: 01 | C46: 01 | D46: Pedagoginės psichologinės pagalbos organizavimas | E46: 09 | F46: 188718713 | G46: SB(VB) | H46: 29.3 | I46: 26.8 | J46: 26.4 | L46: =H46*1.05 -> 30.765 | M46: =L46*1.05 -> 32.30325 | N46: =H46+L46+M46 -> 92.36825 | O46: Darbuotojų, teikiančių pedagoginę psichologinę pagalbą, skaičius | P46: asm. | Q46: 5 | R46: 5 | S46: 5 | T46: Švietimo ir sport sk.
G47: SB | H47: 83.8 | I47: 88.8 | J47: 82.1 | L47: =H47*1.05 -> 87.99 | M47: =L47*1.05 -> 92.3895 | N47: =H47+L47+M47 -> 264.1795
G48: SB(SP) | H48: 1.5 | I48: 1.5 | L48: =H48*1.05 -> 1.575 | M48: =L48*1.05 -> 1.65375 | N48: =H48+L48+M48 -> 4.72875 | O48: Vaikų, kuriems buvosuteikta pedagoginė psichologinė pagalba, skaičius | P48: asm. | Q48: 250 | R48: 250 | S48: 250
G49: Iš viso | H49: =SUM(H46:H48) -> 114.6 | I49: =SUM(I46:I48) -> 117.1 | J49: =SUM(J46:J48) -> 108.5 | K49: =SUM(K46:K48) -> 0 | L49: =SUM(L46:L48) -> 120.33 | M49: =SUM(M46:M48) -> 126.3465 | N49: =SUM(N46:N48) -> 361.2765
A50: 03 | B50: 01 | C50: 02 | D50: Savivaldybės ir švietimo įstaigų bendradarbiavimas skatinant įtraukųjį ugdymą | E50: 09 | F50: 188718713 | G50: SB(VB) | N50: =H50+L50+M50 -> 0 | O50: Parengtų planų skaičius | P50: vnt. | Q50: 0 | R50: 1 | S50: 1 | T50: Švietimo ir sporto sk.
G51: SB | N51: =H51+L51+M51 -> 0
G52: SB(SP) | N52: =H52+L52+M52 -> 0 | O52: Pasirašyta bendradarbiavimo sutarčių | P52: vnt. | Q52: 1 | R52: 1 | S52: 2
G53: Iš viso | H53: =SUM(H50:H52) -> 0 | I53: =SUM(I50:I52) -> 0 | J53: =SUM(J50:J52) -> 0 | K53: =SUM(K50:K52) -> 0 | L53: =SUM(L50:L52) -> 0 | M53: =SUM(M50:M52) -> 0 | N53: =SUM(N50:N52) -> 0
A54: 03 | B54: 02 | C54: Vykdyti neigiamų socialinių reiškinių prevenciją (2.1.3.2.)
A55: 03 | B55: 02 | C55: 01 | D55: Mokyklos nelankymo, smurto, narkotinių ir psichotropinių medžiagų vartojimo prevencinių programų parengimas ir įgyvendinimas | E55: 09 | F55: 188718713 | G55: SB(VB) | H55: 22.5 | I55: 19.6 | J55: 19.2 | L55: =H55*1.05 -> 23.625 | M55: =L55*1.05 -> 24.80625 | N55: =H55+L55+M55 -> 70.93125 | O55: Įgyvendinamų prevencinių programų skaičius | P55: vnt. | Q55: 11 | R55: 12 | S55: 12 | T55: Švietimo ir sporto sk.
G56: Iš viso | H56: =+H55 -> 22.5 | I56: =+I55 -> 19.6 | J56: =+J55 -> 19.2 | K56: =+K55 -> 0 | L56: =+L55 -> 23.625 | M56: =+M55 -> 24.80625 | N56: =H56+L56+M56 -> 70.93125
A57: Iš viso iš jų | H57: =+SUM(H58:H65) -> 24609.7 | I57: =+SUM(I58:I65) -> #REF! | J57: =+SUM(J58:J65) -> #REF! | K57: =+SUM(K58:K65) -> #REF! | L57: =+SUM(L58:L65) -> 25840.185 | M57: =+SUM(M58:M65) -> 27132.194 | N57: =+SUM(N58:N65) -> 77582.079
G58: SB | H58: =+H8+H12+H18+H32+H36+H30+H23+H47 -> 9250 | I58: =+I8+I12+I18+I32+I36+I30+#REF!+I23+I47 -> #REF! | J58: =+J8+J12+J18+J32+J36+J30+#REF!+J23+J47 -> #REF! | K58: =+K8+K12+K18+K32+K36+K30+#REF!+K23+K47 -> #REF! | L58: =+L8+L12+L18+L32+L36+L30+L23+L47 -> 9712.5 | M58: =+M8+M12+M18+M32+M36+M30+M23+M47 -> 10198.125 | N58: =+N8+N12+N18+N32+N36+N30+N23+N47 -> 29160.625
G59: SB(SP) | H59: =+H10+H14+H20+H33+H48 -> 522.1 | I59: =+I10+I14+I20+I33+I48 -> 461.6 | J59: =+J10+J14+J20+J33+J48 -> 0 | K59: =+K10+K14+K20+K33+K48 -> 7 | L59: =+L10+L14+L20+L33+L48 -> 548.205 | M59: =+M10+M14+M20+M33+M48 -> 575.61525 | N59: =+N10+N14+N20+N33+N48 -> 1645.9202
G60: SB(VB) | H60: =+H9+H13+H16+H22+H34+H46+H55 -> 14837.6 | I60: =+I9+I13+I16+I22+I34+I46+I55 -> 13442.6 | J60: =+J9+J13+J16+J22+J34+J46+J55 -> 12741 | K60: =+K9+K13+K16+K22+K34+K46+K55 -> 10 | L60: =+L9+L13+L16+L22+L34+L46+L55 -> 15579.48 | M60: =+M9+M13+M16+M22+M34+M46+M55 -> 16358.454 | N60: =+N9+N13+N16+N22+N34+N46+N55 -> 46775.534
G61: VIP | H61: 0 | I61: 0 | J61: 0 | K61: 0 | L61: 0 | M61: 0 | N61: 0
G62: P(FM) | H62: 0 | I62: 0 | J62: 0 | K62: 0 | L62: 0 | M62: 0 | N62: 0
G63: P(B) | H63: 0 | I63: 0 | J63: 0 | K63: 0 | L63: 0 | M63: 0 | N63: 0
G64: ES | H64: 0 | I64: 0 | J64: 0 | K64: 0 | L64: 0 | M64: 0 | N64: 0
G65: Kitos | H65: 0 | I65: 0 | J65: 0 | K65: 0 | L65: 0 | M65: 0 | N65: 0

Sheet III sveikata
A2: Programos tikslo kodas | B2: Uždavinio kodas | C2: Priemonės kodas | D2: Priemonės pavadinimas | E2: Funkcinės klasifikacijos kodas | F2: Asignavimų valdytojo kodas | G2: Finansavimo šaltinis | H2: 2023 metų išlaidos | L2: 2024 metų išlaidų projektas | M2: 2025 metų išlaidų projektas | N2: Iš viso | O2: Matavimo rodiklis | T2: Atsakingas skyrius
H3: Iš viso | I3: Išlaidoms | Q3: Rodiklio reikšmės
I4: Iš viso | J4: Iš jų darbo užmokesčiui | K4: turtui įsigyti ir finansiniams įsipareigojimams vykdyti | O4: Rodiklio pavadinimas | P4: Matavimo vnt. | Q4: 2023 m. | R4: 2024 m. | S4: 2025 m.
A5: 03 Sveikatos apsaugos programa
A6: 01 | B6: Didinti sveikatos priežiūros paslaugų kokybę ir prieinamumą
A7: 01 | B7: 01 | C7: Užtikrinti sveikatos priežiūros paslaugų teikimą ir aukštą paslaugų kokybę (2.2.1.1.)
A8: 01 | B8: 01 | C8: 03 | D8: Stipendijų skyrimas studentams | E8: 07 | F8: 188718713 | G8: SB | H8: 25 | L8: =+(H8*0.05)+H8 -> 26.25 | M8: =L8*1.05 -> 27.5625 | N8: =SUM(H8:M8) -> 78.8125 | O8: Studentų, gavusių stipendijas, skaičius | P8: asm. | Q8: 10 | R8: 10 | S8: 10 | T8: Socialinės paramos ir sveikatos apsaugos sk.
G9: Iš viso | H9: =+H8 -> 25 | I9: =+I8 -> 0 | J9: =+J8 -> 0 | K9: =+K8 -> 0 | L9: =+L8 -> 26.25 | M9: =+M8 -> 27.5625 | N9: =+N8 -> 78.8125
A10: 01 | B10: 01 | C10: 04 | D10: Sveikatos priežiūros specialistų pritraukimo į rajoną, priemonių įgyvendinimas | E10: 07 | F10: 188718713 | G10: SB | H10: 148 | L10: =+(H10*0.05)+H10 -> 155.4 | M10: =L10*1.05 -> 163.17 | N10: =SUM(H10:M10) -> 466.57 | O10: Naujai pritrauktų sveikatos priežiūros specialistų skaičius | P10: asm. | Q10: 1 | R10: 1 | S10: 1 | T10: Socialinės paramos ir sveikatos apsaugos sk.
G11: Iš viso | H11: =+H10 -> 148 | I11: =+I10 -> 0 | J11: =+J10 -> 0 | K11: =+K10 -> 0 | L11: =+L10 -> 155.4 | M11: =+M10 -> 163.17 | N11: =+N10 -> 466.57
A12: 01 | B12: 02 | C12: Organizuoti sveikatos programų rengimą ir įgyvendinimą (2.2.1.2.)
A13: 01 | B13: 02 | C13: 03 | D13: Savivaldybės visuomenės sveikatos priežiūros funkcijų vykdymas | E13: 07 | F13: 304159095 | G13: SB(VB) | H13: 333.6 | L13: =+(H13*0.05)+H13 -> 350.28 | M13: =L13*1.05 -> 367.794 | N13: =SUM(H13:M13) -> 1051.674 | O13: Sveikatos specialistų ugdymo įstaigose užimtų pareigybių skaičius | P13: asm. | Q13: 11 | R13: 11 | S13: 11 | T13: Socialinės paramos ir sveikatos apsaugos sk.
G14: SB(SP) | H14: 4 | L14: =+(H14*0.05)+H14 -> 4.2 | M14: =L14*1.05 -> 4.41 | N14: =SUM(H14:M14) -> 12.61
G15: Iš viso | H15: =+H13+H14 -> 337.6 | I15: =+I13+I14 -> 0 | J15: =+J13+J14 -> 0 | K15: =+K13+K14 -> 0 | L15: =+L13+L14 -> 354.48 | M15: =+M13+M14 -> 372.204 | N15: =+N13+N14 -> 1064.284
A16: 01 | B16: 03 | C16: Gerinti medicinos paslaugų kokybę diegiant šiuolaikines technologijas (2.2.1.3.)
A17: 01 | B17: 03 | C17: 03 | D17: Sveikatos programų finanavimas | E17: 07 | F17: 188718713 | G17: SB | H17: 120 | L17: =+(H17*0.05)+H17 -> 126 | M17: =L17*1.05 -> 132.3 | N17: =SUM(H17:M17) -> 378.3 | O17: Sveikatos įstaigų, kurioms skiriamas ŠRSA dalininko įnašas, skaičius | P17: vnt. | Q17: 3 | R17: 3 | S17: 3 | T17: Socialinės paramos ir sveikatos apsaugos sk.
G18: Iš viso | H18: =+H17 -> 120 | I18: =+I17 -> 0 | J18: =+J17 -> 0 | K18: =+K17 -> 0 | L18: =+L17 -> 126 | M18: =+M17 -> 132.3 | N18: =+N17 -> 378.3 | O18: Projektų, kuriems skiriamas ŠRSA bendrasis finansavimas, skaičius | P18: vnt. | Q18: 1 | R18: 1 | S18: 1
A19: 02 | B19: Užtikrinti efektyvią susirgimų prevenciją
A20: 02 | B20: 01 | C20: Užtikrinti sveiką ir saugią gyvenamąją aplinką rajone (2.2.2.1.)
A21: 02 | B21: 01 | C21: 01 | D21: Rūpinimasis teritorijos sanitarija, higienos ir gamtos apsaugos reikalavimų laikymosi kontrolė | E21: 07 | F21: 188718713 | G21: SB | L21: =+(H21*0.05)+H21 -> 0 | M21: =+H21*0.1+H21 -> 0 | N21: =H21+L21+M21 -> 0 | O21: Vietų, kuriose tikrinama smėlio kokybė, skaičius | P21: vnt. | Q21: 3 | R21: 3 | S21: 3 | T21: Socialinės paramos ir sveikatos apsaugos sk.
O22: Vietų, kuriose tikrinama vandens kokybė, skaičius | P22: vnt. | Q22: 8 | R22: 8 | S22: 8
G23: Iš viso | H23: =+H21 -> 0 | I23: =+I21 -> 0 | J23: =+J21 -> 0 | K23: =+K21 -> 0 | L23: =+L21 -> 0 | M23: =+M21 -> 0 | N23: =+N21 -> 0 | O23: Projektų, kuriems skiriamas ŠRSA bendrasis finansavimas, skaičius | P23: vnt. | Q23: 1 | R23: 1 | S23: 1
A24: 02 | B24: 01 | C24: 03 | D24: Užtikrinti savižudybių prevencijos prioritetų nustatymo ilgojo ir trumpojo laikotarpiu savižudybių prevencijos priemonių ir joms įgyvendinti reikiamo finansavimo planavimas | E24: 07 | F24: 188718713 | G24: SB(VB) | H24: 56.8 | L24: =+(H24*0.05)+H24 -> 59.64 | M24: =L24*1.05 -> 62.622 | N24: =SUM(H24:M24) -> 179.062 | O24: Įgyvendinamų projektų, programų skaičius | P24: vnt. | Q24: 1 | R24: 1 | S24: 1 | T24: Socialinės paramos ir sveikatos apsaugos sk.
G25: Iš viso | H25: =+H24 -> 56.8 | I25: =+I24 -> 0 | J25: =+J24 -> 0 | K25: =+K24 -> 0 | L25: =+L24 -> 59.64 | M25: =+M24 -> 62.622 | N25: =+N24 -> 179.062
A26: 02 | B26: 02 | C26: Gerinti sveikatinimo veikla (2.2.2.2.)
A27: 02 | B27: 02 | C27: 01 | D27: Sveiko gyvenimo būdo skatinimas | E27: 07 | F27: 188718713 | G27: SB | H27: 10 | L27: =+(H27*0.05)+H27 -> 10.5 | M27: =L27*1.05 -> 11.025 | N27: =H27+L27+M27 -> 31.525 | O27: Narkotikų kontrolės ir vaiko gerovės bei šeimo komisijos bei administracijos vaiko gerovės bei šeimo komisijos susirinkimų skaičius | P27: vnt. | Q27: 20 | R27: 20 | S27: 20 | T27: Socialinės paramos ir sveikatos apsaugos sk.
G28: Iš viso | H28: =+H27 -> 10 | I28: =+I27 -> 0 | J28: =+J27 -> 0 | K28: =+K27 -> 0 | L28: =+L27 -> 10.5 | M28: =+M27 -> 11.025 | N28: =+N27 -> 31.525
A29: 02 | B29: 02 | C29: 03 | D29: Neveiksnių asmenų būklės peržiūros užtikrinimas | E29: 07 | F29: 188718713 | G29: SB(VB) | H29: 0,4 | L29: =H29*1.05 -> 0.42 | M29: =L29*1.05 -> 0.441 | N29: =H29+L29+M29 -> 1.261 | O29: Pervertintų asmenų skaičius | P29: ams. | Q29: 15 | R29: 10 | S29: 5 | T29: Socialinės paramos ir sveikatos apsaugos sk.
G30: Iš viso | H30: =+H29 -> 0,4 | I30: =+I29 -> 0 | J30: =+J29 -> 0 | K30: =+K29 -> 0 | L30: =+L29 -> 0.42 | M30: =+M29 -> 0.441 | N30: =+N29 -> 1.261
A31: Iš viso iš jų | H31: =+SUM(H32:H37) -> 697.8 | I31: =+SUM(I32:I37) -> #REF! | J31: =+SUM(J32:J37) -> #REF! | K31: =+SUM(K32:K37) -> #REF! | L31: =+SUM(L32:L37) -> 732.69 | M31: =+SUM(M32:M37) -> 769.3245 | N31: =+SUM(N32:N37) -> 2199.8145
G32: SB | H32: =+H8+H28+H17+H10+H21 -> 303 | I32: =+I8+#REF!+#REF!+I28+#REF!+#REF!+I17+I10+I21 -> #REF! | J32: =+J8+#REF!+#REF!+J28+#REF!+#REF!+J17+J10+J21 -> #REF! | K32: =+K8+#REF!+#REF!+K28+#REF!+#REF!+K17+K10+K21 -> #REF! | L32: =+L8+L28+L17+L10+L21 -> 318.15 | M32: =+M8+M28+M17+M10+M21 -> 334.0575 | N32: =N8+N10+N17+N27 -> 955.2075
G33: SB(VB) | H33: =+H13+H30+H24 -> 390.8 | I33: =+#REF!+I13+I30+I24 -> #REF! | J33: =+#REF!+J13+J30+J24 -> #REF! | K33: =+#REF!+K13+K30+K24 -> #REF! | L33: =+L13+L30+L24 -> 410.34 | M33: =+M13+M30+M24 -> 430.857 | N33: =+N13+N30+N24 -> 1231.997
G34: VIP | H34: 0 | I34: 0 | J34: 0 | K34: 0 | L34: 0 | M34: 0 | N34: 0
G35: SB(SP) | H35: =+H14 -> 4 | I35: =+I14 -> 0 | J35: =+J14 -> 0 | K35: =+K14 -> 0 | L35: =+L14 -> 4.2 | M35: =+M14 -> 4.41 | N35: =+N14 -> 12.61
G36: Kitos
G37: D | H37: 0 | I37: =+#REF! -> #REF! | J37: =+#REF! -> #REF! | K37: =+#REF! -> #REF! | L37: 0 | M37: 0 | N37: 0

Sheet IV socialinė
A2: Programos tikslo kodas | B2: Uždavinio kodas | C2: Priemonės kodas | D2: Priemonės pavadinimas | E2: Funkcinės klasifikacijos kodas | F2: Asignavimų valdytojo kodas | G2: Finansavimo šaltinis | H2: 2023 metų išlaidos | L2: 2024 metų išlaidų projektas | M2: 2025 metų išlaidų projektas | N2: Iš viso | O2: Matavimo rodiklis | T2: Atsakingas skyrius
H3: Iš viso | I3: Išlaidoms | Q3: Rodiklio reikšmės
I4: Iš viso | J4: Iš jų darbo užmokesčiui | K4: Turtui įsigyti ir finansiniams įsipareigojimams vykdyti | O4: Rodiklio pavadinimas | P4: Matavimo vnt. | Q4: 2023 m. | R4: 2024 m. | S4: 2025 m.
A5: 04 Socialinės paramos programa
A6: 01 | B6: Užtikrinti nuoseklų ir efektyvų socialinių paslaugų teikimą socialiai pažeidžiamiems gyventojams ir grupėms
A7: 01 | B7: 02 | C7: Užtikrinti gyventojų poreikius atitinkančių socialinių paslaugų teikimą (2.3.1.1.)
A8: 01 | B8: 02 | C8: 01 | D8: Socialinių paslaugų teikimo užtikrinimas | E8: 10 | F8: 188718713 | G8: SB | O8: Asmeninio asistento paslaugas gaunančių asmenų skaičius | P8: asm. | Q8: 20 | R8: 30 | S8: 40 | T8: Socialinės paramos ir sveikatos apsaugos skyr.
G9: Iš viso
G10: SB(VB) | H10: 122.1 | L10: =H10*1.05 -> 128.205 | M10: =L10*1.05 -> 134.61525 | N10: =SUM(I10+L10+M10)+H10 -> 384.92025
G11: Iš viso | H11: =SUM(H10) -> 122.1 | I11: =SUM(I10) -> 0 | J11: =SUM(J10) -> 0 | K11: =SUM(K10) -> 0 | L11: =SUM(L10) -> 128.205 | M11: =SUM(M10) -> 134.61525 | N11: =SUM(I11+L11+M11)+H11 -> 384.92025
A12: 01 | B12: 02 | C12: 02 | D12: Šalčininkų socialinių paslaugų centro paslaugų teikimas ir programų vykdymas | E12: 10 | F12: 175014940 | G12: SB | H12: 509.3 | L12: =H12*1.05 -> 534.765 | M12: =L12*1.05 -> 561.50325 | N12: =SUM(I12+L12+M12)+H12 -> 1605.5683 | O12: Socialines paslaugas teikiančių etatų skaičius | P12: ams. | Q12: 50.9 | R12: 50.9 | S12: 50.9 | T12: Socialinių paslaugų centras
G13: Iš viso | H13: =+H12 -> 509.3 | I13: =+I12 -> 0 | J13: =+J12 -> 0 | K13: =+K12 -> 0 | L13: =+L12 -> 534.765 | M13: =+M12 -> 561.50325 | N13: =SUM(I13+L13+M13)+H13 -> 1605.5683
G14: SB(SP) | H14: 17 | L14: =H14*1.05 -> 17.85 | M14: =L14*1.05 -> 18.7425 | N14: =SUM(I14+L14+M14)+H14 -> 53.5925
G15: Iš viso | H15: =+H14 -> 17 | I15: =+I14 -> 0 | J15: =+J14 -> 0 | K15: =+K14 -> 0 | L15: =+L14 -> 17.85 | M15: =+M14 -> 18.7425 | N15: =SUM(I15+L15+M15)+H15 -> 53.5925 | O15: Asmenų, kuriems socialinių paslaugų centre teikiamos paslaugos, skaičius | P15: asm./ mėn. | Q15: 1200 | R15: 1250 | S15: 1300
G16: SB(VB) | H16: 23.3 | L16: =H16*1.05 -> 24.465 | M16: =L16*1.05 -> 25.68825 | N16: =SUM(I16+L16+M16)+H16 -> 73.45325
G17: Iš viso | H17: =SUM(H16) -> 23.3 | I17: =SUM(I16) -> 0 | J17: =SUM(J16) -> 0 | K17: =SUM(K16) -> 0 | L17: =SUM(L16) -> 24.465 | M17: =SUM(M16) -> 25.68825 | N17: =SUM(I17+L17+M17)+H17 -> 73.45325
A18: 01 | B18: 02 | C18: 03 | D18: Paslaugų teikimas Čiužiakampio senelių globos namuose | E18: 10 | F18: 175012170 | G18: SB | H18: 580 | L18: =H18*1.05 -> 609 | M18: =L18*1.05 -> 639.45 | N18: =SUM(I18+L18+M18)+H18 -> 1828.45 | O18: Paslaugas teikiančių etatų skaičius | P18: ams. | Q18: 19.2 | R18: 19.2 | S18: 19.2 | T18: Čiužiakampio senelių globos namai
G19: Iš viso | H19: =+H18 -> 580 | I19: =+I18 -> 0 | J19: =+J18 -> 0 | K19: =+K18 -> 0 | L19: =+L18 -> 609 | M19: =+M18 -> 639.45 | N19: =SUM(I19+L19+M19)+H19 -> 1828.45
G20: SB(SP) | H20: 84 | L20: =H20*1.05 -> 88.2 | M20: =L20*1.05 -> 92.61 | N20: =SUM(I20+L20+M20)+H20 -> 264.81
G21: Iš viso | H21: =+H20 -> 84 | I21: =+I20 -> 0 | J21: =+J20 -> 0 | K21: =+K20 -> 0 | L21: =+L20 -> 88.2 | M21: =+M20 -> 92.61 | N21: =SUM(I21+L21+M21)+H21 -> 264.81 | O21: Asmenų, kuriems senelių globos namuose teikiamos paslaugos, skaičius | P21: asm./ mėn. | Q21: 70 | R21: 70 | S21: 70
G22: SB(VB) | H22: 17.1 | L22: =H22*1.05 -> 17.955 | M22: =L22*1.05 -> 18.85275 | N22: =SUM(I22+L22+M22)+H22 -> 53.90775
G23: Iš viso | H23: =SUM(H22) -> 17.1 | I23: =SUM(I22) -> 0 | J23: =SUM(J22) -> 0 | K23: =SUM(K22) -> 0 | L23: =SUM(L22) -> 17.955 | M23: =SUM(M22) -> 18.85275 | N23: =SUM(I23+L23+M23)+H23 -> 53.90775
A24: 01 | B24: 02 | C24: 04 | D24: Paslaugų teikimas Šalčininkų rajono šeimos ir vaiko gerovės centre | E24: 10 | F24: 175012366 | G24: SB | H24: 762.5 | L24: =H24*1.05 -> 800.625 | M24: =L24*1.05 -> 840.65625 | N24: =SUM(I24+L24+M24)+H24 -> 2403.7812 | O24: Paslaugas teikiančių etatų skaičius | P24: ams. | Q24: 33 | R24: 33 | S24: 33 | T24: Šeimos ir vaiko gerovės centras
G25: Iš viso | H25: =+H24 -> 762.5 | I25: =+I24 -> 0 | J25: =+J24 -> 0 | K25: =+K24 -> 0 | L25: =+L24 -> 800.625 | M25: =+M24 -> 840.65625 | N25: =SUM(I25+L25+M25)+H25 -> 2403.7812
G26: SB(SP) | H26: 2 | L26: =H26*1.05 -> 2.1 | M26: =L26*1.05 -> 2.205 | N26: =SUM(I26+L26+M26)+H26 -> 6.305
G27: Iš viso | H27: =+H26 -> 2 | I27: =+I26 -> 0 | J27: =+J26 -> 0 | K27: =+K26 -> 0 | L27: =+L26 -> 2.1 | M27: =+M26 -> 2.205 | N27: =SUM(I27+L27+M27)+H27 -> 6.305 | O27: Vaikų globos namuose gyvenančių vaikų, skaičius (metų pab.) | P27: asm. | Q27: 24 | R27: 24 | S27: 24
G28: SB(VB) | H28: 34.3 | L28: =H28*1.05 -> 36.015 | M28: =L28*1.05 -> 37.81575 | N28: =SUM(I28+L28+M28)+H28 -> 108.13075
G29: Iš viso | H29: =SUM(H28) -> 34.3 | I29: =SUM(I28) -> 0 | J29: =SUM(J28) -> 0 | K29: =SUM(K28) -> 0 | L29: =SUM(L28) -> 36.015 | M29: =SUM(M28) -> 37.81575 | N29: =SUM(I29+L29+M29)+H29 -> 108.13075
A30: 01 | B30: 02 | C30: 05 | D30: Šalčininkų rajono sutrikusio intelekto žmonių dienos užimtumo centro paslaugų teikimas ir programų vykdymas | E30: 10 | F30: 300031618 | G30: SB | H30: 214.5 | L30: =H30*1.05 -> 225.225 | M30: =L30*1.05 -> 236.48625 | N30: =SUM(I30+L30+M30)+H30 -> 676.21125 | O30: Paslaugas teikiančių etatų skaičius | P30: ams. | Q30: 8.25 | R30: 8.25 | S30: 8.25 | T30: Sutrikusio intelekto žmonių dienos užimtumo centras
G31: Iš viso | H31: =+H30 -> 214.5 | I31: =+I30 -> 0 | J31: =+J30 -> 0 | K31: =+K30 -> 0 | L31: =+L30 -> 225.225 | M31: =+M30 -> 236.48625 | N31: =SUM(I31+L31+M31)+H31 -> 676.21125
G32: SB(SP) | H32: 4.9 | L32: =H32*1.05 -> 5.145 | M32: =L32*1.05 -> 5.40225 | N32: =SUM(I32+L32+M32)+H32 -> 15.44725
G33: Iš viso | H33: =+H32 -> 4.9 | I33: =+I32 -> 0 | J33: =+J32 -> 0 | K33: =+K32 -> 0 | L33: =+L32 -> 5.145 | M33: =+M32 -> 5.40225 | N33: =SUM(I33+L33+M33)+H33 -> 15.44725 | O33: Centre aptarnaujamų asmenų, skaičius | P33: asm./ mėn. | Q33: 22 | R33: 22 | S33: 22
G34: SB(VB) | H34: 9.4 | L34: =H34*1.05 -> 9.87 | M34: =L34*1.05 -> 10.3635 | N34: =SUM(I34+L34+M34)+H34 -> 29.6335
G35: Iš viso | H35: =SUM(H34) -> 9.4 | I35: =SUM(I34) -> 0 | J35: =SUM(J34) -> 0 | K35: =SUM(K34) -> 0 | L35: =SUM(L34) -> 9.87 | M35: =SUM(M34) -> 10.3635 | N35: =SUM(I35+L35+M35)+H35 -> 29.6335
A36: 01 | B36: 02 | C36: 06 | D36: Paslaugų teikimas vaikų dienos centruose | E36: 10 | F36: 188718713 | G36: SB | H36: 51.4 | L36: =H36*1.05 -> 53.97 | M36: =L36*1.05 -> 56.6685 | N36: =SUM(I36+L36+M36)+H36 -> 162.0385 | O36: Paslaugas teikiančių darbuotojų (pareigybių) skaičius | P36: asm. | Q36: 21 | R36: 21 | S36: 21 | T36: Socialinės paramos ir sveikatos apsaugos sk.
G37: SB(VB) | H37: 114.4 | L37: =H37*1.05 -> 120.12 | M37: =L37*1.05 -> 126.126 | N37: =SUM(I37+L37+M37)+H37 -> 360.646 | O37: Vaikų, gavusių vaikų dienos socialinės priežiūros paslaugas, skaičius | P37: asm./ mėn. | Q37: 107 | R37: 112 | S37: 117
G38: Iš viso | H38: =+H36+H37 -> 165.8 | I38: =+I36+I37 -> 0 | J38: =+J36+J37 -> 0 | K38: =+K36+K37 -> 0 | L38: =+L36+L37 -> 174.09 | M38: =+M36+M37 -> 182.7945 | N38: =SUM(I38+L38+M38)+H38 -> 522.6845
A39: 02 | B39: Teikti paramą pažeidžiamų asmenų grupėms bei asmenims
A40: 02 | B40: 01 | C40: Užtikrinti socialinių išmokų, pašalpų skyrimą ir mokėjimą (2.3.2.1.)
A41: 02 | B41: 01 | C41: 03 | D41: Socialinės pašalpos skaičiavimas ir mokėjimas | E41: 10 | F41: 188718713 | G41: SB | H41: 1710 | L41: =H41*1.05 -> 1795.5 | M41: =L41*1.05 -> 1885.275 | N41: =SUM(I41+L41+M41)+H41 -> 5390.775 | T41: Socialinės paramos ir sveikatos apsaugos sk.
G42: Iš viso | H42: =+H41 -> 1710 | I42: =+I41 -> 0 | J42: =+J41 -> 0 | K42: =+K41 -> 0 | L42: =+L41 -> 1795.5 | M42: =+M41 -> 1885.275 | N42: =SUM(I42+L42+M42)+H42 -> 5390.775 | O42: Pašalpų gavėjų skaičius | P42: asm. | Q42: 1150 | R42: 1120 | S42: 1120
A43: 02 | B43: 01 | C43: 04 | D43: Socialinės paramos teikimas mokiniams | E43: 10 | F43: 188718713 | G43: SB(VB) | H43: 152.4 | L43: =H43*1.05 -> 160.02 | M43: =L43*1.05 -> 168.021 | N43: =SUM(I43+L43+M43)+H43 -> 480.441 | O43: Mokinių, gavusių socialinę paramą, skaičius | P43: asm. | Q43: 1880 | R43: 1800 | S43: 1750 | T43: Socialinės paramos ir sveikatos apsaugos sk.
G44: Iš viso | H44: =+H43 -> 152.4 | I44: =+I43 -> 0 | J44: =+J43 -> 0 | K44: =+K43 -> 0 | L44: =+L43 -> 160.02 | M44: =+M43 -> 168.021 | N44: =SUM(I44+L44+M44)+H44 -> 480.441
A45: 02 | B45: 01 | C45: 05 | D45: Transporto išlaidų kompensavimas | E45: 10 | F45: 188718713 | G45: SB | H45: 270 | L45: =H45*1.05 -> 283.5 | M45: =L45*1.05 -> 297.675 | N45: =SUM(I45+L45+M45)+H45 -> 851.175 | O45: Transporto išlaidų kompensacijų gavėjų skaičius | P45: asm. | Q45: 820 | R45: 800 | S45: 780 | T45: Turto valdymo sk.
G46: Iš viso | H46: =+H45 -> 270 | I46: =+I45 -> 0 | J46: =+J45 -> 0 | K46: =+K45 -> 0 | L46: =+L45 -> 283.5 | M46: =+M45 -> 297.675 | N46: =SUM(I46+L46+M46)+H46 -> 851.175
A47: 02 | B47: 01 | C47: 06 | D47: Laidojimo išmokų mokėjimas | E47: 10 | F47: 188718713 | G47: SB(VB) | H47: 245.9 | L47: =H47*1.05 -> 258.195 | M47: =L47*1.05 -> 271.10475 | N47: =SUM(I47+L47+M47)+H47 -> 775.19975 | O47: Laidojimo išmokų gavėjų skaičius | P47: asm. | Q47: 470 | R47: 450 | S47: 430 | T47: Socialinės paramos ir sveikatos apsaugos sk.
G48: Iš viso | H48: =+H47 -> 245.9 | I48: =+I47 -> 0 | J48: =+J47 -> 0 | K48: =+K47 -> 0 | L48: =+L47 -> 258.195 | M48: =+M47 -> 271.10475 | N48: =SUM(I48+L48+M48)+H48 -> 775.19975
A49: 02 | B49: 01 | C49: 07 | D49: Vienkartinės paramos teikimas | E49: 10 | F49: 188718713 | G49: SB | H49: 120 | L49: =H49*1.05 -> 126 | M49: =L49*1.05 -> 132.3 | N49: =SUM(I49+L49+M49)+H49 -> 378.3 | O49: Vienkartinės paramos gavėjų skaičius | P49: asm. | Q49: 350 | R49: 350 | S49: 370 | T49: Socialinės paramos ir sveikatos apsaugos sk.
G50: Iš viso | H50: =+H49 -> 120 | I50: =+I49 -> 0 | J50: =+J49 -> 0 | K50: =+K49 -> 0 | L50: =+L49 -> 126 | M50: =+M49 -> 132.3 | N50: =SUM(I50+L50+M50)+H50 -> 378.3
A51: 02 | B51: 01 | C51: 08 | D51: Šildymo, šalto ir karšto vandens išlaidų kompensacijų mokėjimas (centralizuotas šildymas) | E51: 10 | F51: 188718713 | G51: SB(VB) | L51: =+(H51*0.05)+H51 -> 0 | M51: =+H51*0.1+H51 -> 0 | N51: =SUM(I51+L51+M51)+H51 -> 0 | O51: Ūkių, gaunančių kompensaciją, skaičius | P51: vnt. | Q51: 700 | R51: 700 | S51: 720 | T51: Socialinės paramos ir sveikatos apsaugos sk.
G52: Iš viso | H52: =+H51 -> 0 | I52: =+I51 -> 0 | J52: =+J51 -> 0 | K52: =+K51 -> 0 | L52: =+L51 -> 0 | M52: =+M51 -> 0 | N52: =SUM(I52+L52+M52)+H52 -> 0
G53: SB | H53: 200 | L53: =H53*1.05 -> 210 | M53: =L53*1.05 -> 220.5 | N53: =SUM(I53+L53+M53)+H53 -> 630.5
G54: Iš viso | H54: =+H53 -> 200 | I54: =+I53 -> 0 | J54: =+J53 -> 0 | K54: =+K53 -> 0 | L54: =+L53 -> 210 | M54: =+M53 -> 220.5 | N54: =SUM(I54+L54+M54)+H54 -> 630.5
A55: 02 | B55: 01 | C55: 09 | D55: Socialinių išmokų administravimas | E55: 10 | F55: 188718713 | G55: SB(VB) | H55: 7.4 | L55: =H55*1.05 -> 7.77 | M55: =L55*1.05 -> 8.1585 | N55: =SUM(I55+L55+M55)+H55 -> 23.3285 | O55: Socialines išmokas administruojančių darbuotojų (pareigybių) skaičius | P55: asm. | Q55: 17 | R55: 17 | S55: 17 | T55: Socialinės paramos ir sveikatos apsaugos sk.
G56: Iš viso | H56: =+H55 -> 7.4 | I56: =+I55 -> 0 | J56: =+J55 -> 0 | K56: =+K55 -> 0 | L56: =H56*1.05 -> 7.77 | M56: =+M55 -> 8.1585 | N56: =SUM(I56+L56+M56)+H56 -> 23.3285
G57: SB | H57: 465 | L57: =H57*1.05 -> 488.25 | M57: =L57*1.05 -> 512.6625 | N57: =SUM(I57+L57+M57)+H57 -> 1465.9125
G58: Iš viso | H58: =+H57 -> 465 | I58: =+I57 -> 0 | J58: =+J57 -> 0 | K58: =+K57 -> 0 | L58: =+L57 -> 488.25 | M58: =+M57 -> 512.6625 | N58: =SUM(I58+L58+M58)+H58 -> 1465.9125
A59: 02 | B59: 01 | C59: 10 | D59: Kompensacijų administravimas | E59: 10 | F59: 188718713 | G59: SB | H59: 21.7 | L59: =H59*1.05 -> 22.785 | M59: =L59*1.05 -> 23.92425 | N59: =SUM(I59+L59+M59)+H59 -> 68.40925 | O59: Kompensacijas administruojančių darbuotojų (pareigybių) skaičius | P59: asm. | Q59: 20 | R59: 20 | S59: 20 | T59: Socialinės paramos ir sveikatos apsaugos sk.
G60: Iš viso | H60: =+H59 -> 21.7 | I60: =+I59 -> 0 | J60: =+J59 -> 0 | K60: =+K59 -> 0 | L60: =+L59 -> 22.785 | M60: =+M59 -> 23.92425 | N60: =SUM(I60+L60+M60)+H60 -> 68.40925
A61: 02 | B61: 01 | C61: 11 | D61: Socialinės paramos mokiniams administravimas | E61: 10 | F61: 188718713 | G61: SB(VB) | H61: 27.6 | L61: =H61*1.05 -> 28.98 | M61: =L61*1.05 -> 30.429 | N61: =SUM(I61+L61+M61)+H61 -> 87.009 | O61: Mokinių, kuriems skiriama socialinė parama (mokinio reikmenys), skaičius | P61: asm. | Q61: 2 | R61: 2 | S61: 2 | T61: Socialinės paramos ir sveikatos apsaugos sk.
G62: iš viso | H62: =+H61 -> 27.6 | I62: =+I61 -> 0 | J62: =+J61 -> 0 | K62: =+K61 -> 0 | L62: =+L61 -> 28.98 | M62: =+M61 -> 30.429 | N62: =SUM(I62+L62+M62)+H62 -> 87.009
F63: 191415758, 191415943, 291417190, 191651922, 191416511, 191416479, 191415562, 29141510, 191416326, 291416850, 291414080, 19147047, 191414460, 191415039, 191413554, | G63: SB | H63: 53.3 | L63: =H63*1.05 -> 55.965 | M63: =L63*1.05 -> 58.76325 | N63: =SUM(I63+L63+M63)+H63 -> 168.02825
G64: Iš viso | H64: =+H63 -> 53.3 | I64: =+I63 -> 0 | J64: =+J63 -> 0 | K64: =+K63 -> 0 | L64: =+L63 -> 55.965 | M64: =+M63 -> 58.76325 | N64: =SUM(I64+L64+M64)+H64 -> 168.02825
A65: 02 | B65: 01 | C65: 12 | D65: Socialinių paslaugų teikimo administravimas | E65: 10 | F65: 188718713 175014940 175012170 300031618 | G65: SB(VB) | H65: 170 | L65: =H65*1.05 -> 178.5 | M65: =L65*1.05 -> 187.425 | N65: =SUM(I65+L65+M65)+H65 -> 535.925 | O65: Piniginės išmokos, sunkią negalią turintiems žmonėms, gavėjų skaičius | P65: asm. | Q65: 3 | R65: 3 | S65: 3 | T65: Socialinės paramos ir sveikatos apsaugos sk. Soc.paslaugų centras Senelių namai Sutr.intel.žmonių centras
G66: SB | H66: 226.5 | L66: =H66*1.05 -> 237.825 | M66: =L66*1.05 -> 249.71625 | N66: =SUM(I66+L66+M66)+H66 -> 714.04125
G67: Iš viso | H67: =+H65+H66 -> 396.5 | I67: =+I65+I66 -> 0 | J67: =+J65+J66 -> 0 | K67: =+K65+K66 -> 0 | L67: =+L65+L66 -> 416.325 | M67: =+M65+M66 -> 437.14125 | N67: =SUM(I67+L67+M67)+H67 -> 1249.9662
A68: 02 | B68: 01 | C68: 13 | D68: Socialinės paramos teikimas mokiniams (išlaidos už įsigytus produktus) | E68: 10 | F68: 191416098, 19146283, 191415758, 191415943, 291417190, 191651922, 191416511, 191416479, 191409132, 291410630, 291408750, 191408945, 191415562, 29141510, 191416326, 191416664, 291416850, 191414994, 191414122, 291414080, 19147047, 191414318, 191414460, 191415039, 191414656, 191413892, 191413554, 191409285, 195006449, 191409470, 191410597, 191409328, 191410444, 191409666, | G68: SB(VB) | H68: 537 | L68: =H68*1.05 -> 563.85 | M68: =L68*1.05 -> 592.0425 | N68: =SUM(I68+L68+M68)+H68 -> 1692.8925 | O68: Mokinių, kuriems skiriama socialinė parama (už įsigytus produktus), skaičius | P68: asm. | Q68: 1880 | R68: 1800 | S68: 1750 | T68: Socialinės paramos ir sveikatos apsaugos sk.
G69: Iš viso | H69: =H68 -> 537 | I69: =+I68 -> 0 | J69: =+J68 -> 0 | K69: =+K68 -> 0 | L69: =L68 -> 563.85 | M69: =M68 -> 592.0425 | N69: =SUM(I69+L69+M69)+H69 -> 1692.8925
A70: 02 | B70: 01 | C70: 15 | D70: Žmogaus palaikų transportavimas | E70: 10 | F70: 188718713 | G70: SB | H70: 10 | L70: =H70*1.05 -> 10.5 | M70: =L70*1.05 -> 11.025 | N70: =SUM(I70+L70+M70)+H70 -> 31.525 | O70: Transporto paslaugų skaičius | P70: asm. | Q70: 70 | R70: 70 | S70: 70 | T70: Socialinės paramos ir sveikatos apsaugos sk.
G71: Iš viso | H71: =SUM(H70) -> 10 | I71: =SUM(I70) -> 0 | J71: =SUM(J70) -> 0 | K71: =SUM(K70) -> 0 | L71: =SUM(L70) -> 10.5 | M71: =SUM(M70) -> 11.025 | N71: =SUM(I71+L71+M71)+H71 -> 31.525
A72: 02 | B72: 01 | C72: 16 | D72: Šildymo, šalto ir karšto vandens išlaidų kompensacijų mokėjimas (kietas kuras) | E72: 10 | F72: 188718713 | G72: SB | H72: 1300 | L72: =H72*1.05 -> 1365 | M72: =L72*1.05 -> 1433.25 | N72: =SUM(I72+L72+M72)+H72 -> 4098.25 | O72: Ūkių, gaunančių kompensaciją, skaičius | P72: vnt. | Q72: 1900 | R72: 2000 | S72: 2000 | T72: Socialinės paramos ir sveikatos apsaugos sk.
G73: Iš viso | H73: =+H72 -> 1300 | I73: =+I72 -> 0 | J73: =+J72 -> 0 | K73: =+K72 -> 0 | L73: =+L72 -> 1365 | M73: =+M72 -> 1433.25 | N73: =SUM(I73+L73+M73)+H73 -> 4098.25
G74: SB(VB) | L74: =SUM(+(H74*0.05)+H74) -> 0 | M74: =SUM(+(L74*0.05)+L74) -> 0 | N74: =SUM(I74+L74+M74)+H74 -> 0
G75: Iš viso | H75: =SUM(H74) -> 0 | I75: =SUM(I74) -> 0 | J75: =SUM(J74) -> 0 | K75: =SUM(K74) -> 0 | L75: =SUM(L74) -> 0 | M75: =SUM(M74) -> 0 | N75: =SUM(I75+L75+M75)+H75 -> 0
A76: 02 | B76: 01 | C76: 18 | D76: Šeimos stiprinimo priemonių įgyvendinimas | E76: 10 | F76: 188718713 | G76: SB | H76: 480 | L76: =H76*1.05 -> 504 | M76: =L76*1.05 -> 529.2 | N76: =SUM(I76+L76+M76)+H76 -> 1513.2 | O76: Globos išmokos šeimoje, šeimynoje, globos centre ar vaikų globos institucijoje globojamiems vaikams ir besimokantiems ar studijuojantiems buvusiems globotiniams, gavėjų skačius | P76: asm. | Q76: 70 | R76: 75 | S76: 78 | T76: Socialinės paramos ir sveikatos apsaugos sk.
G77: Iš viso | H77: =+H76 -> 480 | I77: =+I76 -> 0 | J77: =+J76 -> 0 | K77: =+K76 -> 0 | L77: =+L76 -> 504 | M77: =+M76 -> 529.2 | N77: =SUM(I77+L77+M77)+H77 -> 1513.2
A78: 02 | B78: 01 | C78: 19 | D78: Kredito, paimto daugiabučiam namui atnaujinti ir palūkanų apmokėjimas už asmenis, turinčius teisę į būsto šildymo išlaidų kompensaciją | E78: 10 | F78: 188718713 | G78: SB | H78: 47 | L78: =H78*1.05 -> 49.35 | M78: =L78*1.05 -> 51.8175 | N78: =SUM(I78+L78+M78)+H78 -> 148.1675 | O78: Asmenų, gavusių kredito lengvatą, skaičius | P78: asm. | Q78: 160 | R78: 170 | S78: 180 | T78: Socialinės paramos ir sveikatos apsaugos sk.
G79: Iš viso | H79: =+H78 -> 47 | I79: =+I78 -> 0 | J79: =+J78 -> 0 | K79: =+K78 -> 0 | L79: =+L78 -> 49.35 | M79: =+M78 -> 51.8175 | N79: =SUM(I79+L79+M79)+H79 -> 148.1675
A80: 02 | B80: 01 | C80: 21 | D80: Tikslinių kompensacijų mokėjimas | E80: 10 | F80: 188718713 | G80: VB(P) | H80: 1881 | L80: =H80*1.05 -> 1975.05 | M80: =L80*1.05 -> 2073.8025 | N80: =SUM(I80+L80+M80)+H80 -> 5929.8525 | O80: Asmenų, gaunančių tikslinę kompensaciją, skaičius | P80: asm. | Q80: 747 | R80: 770 | S80: 790 | T80: Socialinės paramos ir sveikatos apsaugos sk.
G81: Iš viso | H81: =+H80 -> 1881 | I81: =+I80 -> 0 | J81: =+J80 -> 0 | K81: =+K80 -> 0 | L81: =+L80 -> 1975.05 | M81: =+M80 -> 2073.8025 | N81: =SUM(I81+L81+M81)+H81 -> 5929.8525
A82: 02 | B82: 01 | C82: 22 | D82: Tikslinių kompensacijų mokėjimo administravimas | E82: 10 | F82: 188718713 | G82: VB(P) | H82: 75.2 | L82: =H82*1.05 -> 78.96 | M82: =L82*1.05 -> 82.908 | N82: =SUM(I82+L82+M82)+H82 -> 237.068 | O82: Tikslinės kompensacijos administruojančių darbuotojų sk. | P82: asm. | Q82: 9 | R82: 9 | S82: 9 | T82: Socialinės paramos ir sveikatos apsaugos sk.
G83: Iš viso | H83: =+H82 -> 75.2 | I83: =+I82 -> 0 | J83: =+J82 -> 0 | K83: =+K82 -> 0 | L83: =+L82 -> 78.96 | M83: =+M82 -> 82.908 | N83: =SUM(I83+L83+M83)+H83 -> 237.068
A84: 02 | B84: 01 | C84: 23 | D84: Išmokų vaikams mokėjimas | E84: 10 | F84: 188718713 | G84: VB(P) | H84: 8265.3 | L84: =H84*1.05 -> 8678.565 | M84: =L84*1.05 -> 9112.4933 | N84: =SUM(I84+L84+M84)+H84 -> 26056.358 | O84: Vaikų, gaunančių išmoką vaikui, skaičius | P84: asm. | Q84: 6461 | R84: 6500 | S84: 6550 | T84: Socialinės paramos ir sveikatos apsaugos sk.
G85: Iš viso | H85: =+H84 -> 8265.3 | I85: =+I84 -> 0 | J85: =+J84 -> 0 | K85: =+K84 -> 0 | L85: =+L84 -> 8678.565 | M85: =+M84 -> 9112.4933 | N85: =SUM(I85+L85+M85)+H85 -> 26056.358
A86: 02 | B86: 01 | C86: 24 | D86: Išmokų vaikams mokėjimo administravimas | E86: 10 | F86: 188718713 | G86: SB | H86: 57.9 | L86: =H86*1.05 -> 60.795 | M86: =L86*1.05 -> 63.83475 | N86: =SUM(I86+L86+M86)+H86 -> 182.52975 | O86: Išmoką vaikui administruojančių darbuotojų skaičius | P86: asm. | Q86: 17 | R86: 17 | S86: 17 | T86: Socialinės paramos ir sveikatos apsaugos sk.
G87: Iš viso | H87: =+H86 -> 57.9 | I87: =+I86 -> 0 | J87: =+J86 -> 0 | K87: =+K86 -> 0 | L87: =+L86 -> 60.795 | M87: =+M86 -> 63.83475 | N87: =SUM(I87+L87+M87)+H87 -> 182.52975
A88: 03 | B88: 01 | C88: 01 | D88: Socialinė priežiūra šeimoms | E88: 10 | F88: 188718713 | G88: SB(VB) | H88: 544.6 | L88: =H88*1.05 -> 571.83 | M88: =L88*1.05 -> 600.4215 | N88: =SUM(I88+L88+M88)+H88 -> 1716.8515 | O88: Soc. rizikos šeimų, kurioms buvo suteiktos soc. įgūdžių ugdymo ir palaikymo paslaugos, skaičius | P88: vnt. | Q88: 190 | R88: 180 | S88: 170 | T88: Socialinių paslaugų centras
G89: Iš viso | H89: =+H88 -> 544.6 | I89: =+I88 -> 0 | J89: =+J88 -> 0 | K89: =+K88 -> 0 | L89: =+L88 -> 571.83 | M89: =+M88 -> 600.4215 | N89: =SUM(I89+L89+M89)+H89 -> 1716.8515
A90: 03 | B90: 02 | C90: Teikti pagalbą sudėtingoje situacijoje atsidūrusiems žmonėms (2.3.3.2.)
A91: 03 | B91: 02 | C91: 03 | D91: Būsto nuomos ir išperkamosios būsto nuomos mokesčių dalies kompensavimas | E91: 10 | F91: 188718713 | G91: SB(VB) | H91: 14.2 | L91: =H91*1.05 -> 14.91 | M91: =L91*1.05 -> 15.6555 | N91: =SUM(I91+L91+M91)+H91 -> 44.7655 | O91: Asmenų, sudariusių būsto nuomos sutartys, skaičius | P91: asm. | Q91: 10 | R91: 12 | S91: 15 | T91: Turto valdymo skyrius
G92: Iš viso | H92: =SUM(H91) -> 14.2 | I92: =SUM(I91) -> 0 | J92: =SUM(J91) -> 0 | K92: =SUM(K91) -> 0 | L92: =SUM(L91) -> 14.91 | M92: =SUM(M91) -> 15.6555 | N92: =SUM(I92+L92+M92)+H92 -> 44.7655
A93: 03 | B93: 02 | C93: 05 | D93: Būsto pritaikymas žmonėms su negalia | E93: 10 | F93: 188718713 | G93: SB | H93: 40 | L93: =H93*1.05 -> 42 | M93: =L93*1.05 -> 44.1 | N93: =SUM(I93+L93+M93)+H93 -> 126.1 | O93: Žmonėms su negalia pritaikytų būstų skaičius | P93: vnt. | Q93: 9 | R93: 8 | S93: 8 | T93: Socialinės paramos ir sveikatos apsaugos sk.
G94: Iš viso | H94: =+H93 -> 40 | I94: =+I93 -> 0 | J94: =+J93 -> 0 | K94: =+K93 -> 0 | L94: =+L93 -> 42 | M94: =+M93 -> 44.1 | N94: =SUM(I94+L94+M94)+H94 -> 126.1
G95: SB(VB) | H95: 32.2 | J95: 0.9 | L95: =H95*1.05 -> 33.81 | M95: =L95*1.05 -> 35.5005 | N95: =SUM(I95+L95+M95)+H95 -> 101.5105 | O95: Įrengtų pandusų, įvažiavimų skaičius | P95: vnt. | Q95: 2 | R95: 2 | S95: 2
G96: Iš viso | H96: =SUM(H95) -> 32.2 | I96: =SUM(I95) -> 0 | J96: =SUM(J95) -> 0.9 | K96: =SUM(K95) -> 0 | L96: =SUM(L95) -> 33.81 | M96: =SUM(M95) -> 35.5005 | N96: =SUM(I96+L96+M96)+H96 -> 101.5105
A97: 03 | B97: 02 | C97: 06 | D97: Socialinės reabilitacijos neįgaliesiems bendruomenėje paslaugų teikimas | E97: 10 | F97: 188718713 | G97: SB | H97: 53.3 | L97: =H97*1.05 -> 55.965 | M97: =L97*1.05 -> 58.76325 | N97: =SUM(I97+L97+M97)+H97 -> 168.02825 | O97: Asmenų, gavusių socialinės reabilitacijos paslaugas neįgaliesiems bendruomenėje, skaičius | P97: vnt. | Q97: 170 | R97: 180 | S97: 185 | T97: Socialinės paramos ir sveikatos apsaugos sk.
G98: Iš viso | H98: =+H97 -> 53.3 | I98: =+I97 -> 0 | J98: =+J97 -> 0 | K98: =+K97 -> 0 | L98: =+L97 -> 55.965 | M98: =+M97 -> 58.76325 | N98: =SUM(I98+L98+M98)+H98 -> 168.02825
G99: SB(VB) | H99: 87.7 | L99: =H99*1.05 -> 92.085 | M99: =SUM(+(L99*0.05)+L99) -> 96.68925 | N99: =SUM(I99+L99+M99)+H99 -> 276.47425
G100: Iš viso | H100: =SUM(H99) -> 87.7 | I100: =SUM(I99) -> 0 | J100: =SUM(J99) -> 0 | K100: =SUM(K99) -> 0 | L100: =SUM(L99) -> 92.085 | M100: =SUM(M99) -> 96.68925 | N100: =SUM(I100+L100+M100)+H100 -> 276.47425
A101: 03 | B101: 02 | C101: 07 | D101: Socialinio būsto priežiūra ir fizinės būklės gerinimas | E101: 10 | F101: 188718713 | G101: SB | H101: 167.5 | L101: =H101*1.05 -> 175.875 | M101: =L101*1.05 -> 184.66875 | N101: =SUM(I101+L101+M101)+H101 -> 528.04375 | O101: Prižiūrimų socialinių būstų skaičius | P101: vnt. | Q101: 109 | R101: 110 | S101: 112 | T101: Turto valdymo sk.
...

Sheet V Saugumas
A2: Programos tikslo kodas | B2: Uždavinio kodas | C2: Priemonės kodas | D2: Priemonės pavadinimas | E2: Funkcinės klasifikacijos kodas | F2: Asignavimų valdytojo kodas | G2: Finansavimo šaltinis | H2: 2023 metų išlaidos | L2: 2024 metų išlaidų projektas | M2: 2025 metų išlaidų projektas | N2: Iš viso | O2: Matavimo rodiklis | T2: Atsakingas skyrius
H3: Iš viso | I3: Išlaidoms | Q3: Rodiklio reikšmės
I4: Iš viso | J4: Iš jų darbo užmokesčiui | K4: turtui įsigyti ir finansiniams įsipareigojimams vykdyti | O4: Rodiklio pavadinimas | P4: Matavimo vnt. | Q4: 2023 m. | R4: 2024 m. | S4: 2025 m.
A5: 05 Viešosios tvarkos ir saugumo programa
A6: 01 | B6: Didinti gyventojų saugumą ir atsparumą įvairioms grėsmėms
A7: 01 | B7: 01 | C7: Sukurti saugią aplinką rajone (2.4.1.1.)
A8: 01 | B8: 01 | C8: 01 | D8: Priešgaisrinės apsaugos funkcijų vykdymo užtikrinimas | E8: 03 | F8: 175012028 | G8: SB | H8: 277 | L8: =+(H8*0.05)+H8 -> 290.85 | M8: =L8*1.05 -> 305.3925 | N8: =H8+L8+M8 -> 873.2425 | O8: Priešgaisrinėje tarnyboje užimtų pareigybių skaičius | P8: asm. | Q8: 65 | R8: 65 | S8: 65 | T8: Priešgaisrinė tarnyba
G9: SB(VB) | H9: 970.1 | L9: =+(H9*0.05)+H9 -> 1018.605 | M9: =L9*1.05 -> 1069.5353 | N9: =H9+L9+M9 -> 3058.2402 | O9: Išvykimų į incidentus skaičius | P9: vnt. | Q9: 300 | R9: 300 | S9: 300
G10: Iš viso | H10: =+SUM(H8:H9) -> 1247.1 | I10: =+SUM(I8:I9) -> 0 | J10: =+SUM(J8:J9) -> 0 | K10: =+SUM(K8:K9) -> 0 | L10: =+SUM(L8:L9) -> 1309.455 | M10: =+SUM(M8:M9) -> 1374.9278 | N10: =+SUM(N8:N9) -> 3931.4828
A11: 01 | B11: 01 | C11: 02 | D11: Civilinės saugos užtikrinimas, mokymų civilinės, priešgaisrinės ir darbo saugos klausimais organizavimas | E11: 02 | F11: 188718713 | G11: SB(VB) | H11: 30.2 | L11: =+(H11*0.05)+H11 -> 31.71 | M11: =L11*1.05 -> 33.2955 | N11: =H11+L11+M11 -> 95.2055 | O11: Suorganizuotų mokymų, renginių civilinės, priešgaisrinės ir darbo saugos klausimais skaičius | P11: vnt. | Q11: 2 | R11: 2 | S11: 2 | T11: Komunalinio ūkio sk.
G12: Iš viso | H12: =+SUM(H11) -> 30.2 | I12: =+SUM(I11) -> 0 | J12: =+SUM(J11) -> 0 | K12: =+SUM(K11) -> 0 | L12: =+SUM(L11) -> 31.71 | M12: =+SUM(M11) -> 33.2955 | N12: =+SUM(N11) -> 95.2055
A13: 01 | B13: 01 | C13: 05 | D13: Viešosios tvarkos užtikrinimas | E13: 03 | F13: 188718713 | G13: SB | H13: 40 | L13: =+(H13*0.05)+H13 -> 42 | M13: =L13*1.05 -> 44.1 | N13: =H13+L13+M13 -> 126.1 | O13: Įsigytų viešąją tvarką užtikrinančių priemonių (įvardinti) skaičius | P13: vnt. | Q13: 11 | R13: 11 | S13: 11 | T13: Viešosios tvarkos sk
G15: Iš viso | H15: =+H13 -> 40 | I15: =+I13 -> 0 | J15: =+J13 -> 0 | K15: =+K13 -> 0 | L15: =+L13 -> 42 | M15: =+M13 -> 44.1 | N15: =+N13 -> 126.1
A16: 01 | B16: 02 | C16: Įgyvendinti smurto ir nusikalstamumo prevencijos priemones (2.4.1.2.)
A17: 01 | B17: 02 | C17: 01 | D17: Gyventojų švietimas saugumo klausimais | E17: 02 | F17: 188718713 | G17: SB(VB) | N17: =H17+L17+M17 -> 0 | O17: Suorganizuotų renginių skaičius | P17: vnt. | Q17: 10 | R17: 10 | S17: 10 | T17: Komunalinio ūkio sk.
G18: Iš viso | H18: =+SUM(H17) -> 0 | I18: =+SUM(I17) -> 0 | J18: =+SUM(J17) -> 0 | K18: =+SUM(K17) -> 0 | L18: =+SUM(L17) -> 0 | M18: =+SUM(M17) -> 0 | N18: =+SUM(N17) -> 0 | O18: Parengtų metodinių priemonių skaičius | P18: vnt. | Q18: 1 | R18: 1 | S18: 1
A19: Iš viso iš jų | H19: =+H10+H12+H15 -> 1317.3 | I19: =+I10+I12+I15 -> 0 | J19: =+J10+J12+J15 -> 0 | K19: =+K10+K12+K15 -> 0 | L19: =+L10+L12+L15 -> 1383.165 | M19: =+M10+M12+M15 -> 1452.3233 | N19: =H19+L19+M19 -> 4152.7883
A20: 3 | G20: SB | H20: =+H8+H15+H18 -> 317 | I20: =+I8+I15+I18 -> 0 | J20: =+J8+J15+J18 -> 0 | K20: =+K8+K15+K18 -> 0 | L20: =+L8+L15+L18 -> 332.85 | M20: =+M8+M15+M18 -> 349.4925 | N20: =+N8+N15+N18 -> 999.3425
G21: SB(VB) | H21: =+H9+H11 -> 1000.3 | I21: =+I9+I11 -> 0 | J21: =+J9+J11 -> 0 | K21: =+K9+K11 -> 0 | L21: =+L9+L11 -> 1050.315 | M21: =+M9+M11 -> 1102.8308 | N21: =+N9+N11 -> 3153.4457
G22: SB(SP) | H22: 0 | I22: 0 | J22: 0 | K22: 0 | L22: 0 | M22: 0 | N22: 0
G23: VB(P) | H23: 0 | I23: 0 | J23: 0 | K23: 0 | L23: 0 | M23: 0 | N23: 0
G24: P(FM) | H24: 0 | I24: 0 | J24: 0 | K24: 0 | L24: 0 | M24: 0 | N24: 0
G25: P(B) | H25: 0 | I25: 0 | J25: 0 | K25: 0 | L25: 0 | M25: 0 | N25: 0
G26: ES | H26: 0 | I26: 0 | J26: 0 | K26: 0 | L26: 0 | M26: 0 | N26: 0
G27: Kitos | H27: 0 | I27: 0 | J27: 0 | K27: 0 | L27: 0 | M27: 0 | N27: 0

Sheet VI Verslas Turizmas
A2: Programos tikslo kodas | B2: Uždavinio kodas | C2: Priemonės kodas | D2: Priemonės pavadinimas | E2: Funkcinės klasifikacijos kodas | F2: Asignavimų valdytojo kodas | G2: Finansavimo šaltinis | H2: 2023 metų išlaidos | L2: 2024 metų išlaidų projektas | M2: 2025 metų išlaidų projektas | N2: Iš viso | O2: Matavimo rodiklis | T2: Atsakingas skyrius
H3: Iš viso | I3: Išlaidoms | Q3: Rodiklio reikšmės
I4: Iš viso | J4: Iš jų darbo užmokesčiui | K4: turtui įsigyti ir finansiniams įsipareigojimams vykdyti | O4: Rodiklio pavadinimas | P4: Matavimo vnt. | Q4: 2023 m. | R4: 2024 m. | S4: 2025 m.
A5: 06 Verslo skatinimo programa
A6: 01 | B6: Prisidėti prie verslo vystymo ir užimtumo didinimo rajone
A7: 01 | B7: 01 | C7: Skatinti smulkaus ir vidutinio verslo kūrimąsi ir veiklą (3.1.1.1.)
A8: 01 | B8: 02 | C8: Didinti gyventojų užimtumą (3.1.1.2.)
A9: 01 | B9: 02 | C9: 01 | D9: Užimtumo didinimo programos įgyvendinimas | E9: 04 | F9: 188718713 | G9: SB(VB) | H9: 121.7 | L9: =H9*1.05 -> 127.785 | M9: =L9*1.05 -> 134.17425 | N9: =+H9+L9+M9 -> 383.65925 | O9: Programoje dalyvavusių asmenų skaičius | P9: asm. | Q9: 40 | R9: 40 | S9: 40 | T9: Socialinės paramos skyrius
G10: SB | H10: 15 | L10: =H10*1.05 -> 15.75 | M10: =L10*1.05 -> 16.5375 | N10: =+H10+L10+M10 -> 47.2875
G11: Iš viso | H11: =+SUM(H9:H10) -> 136.7 | I11: =+SUM(I9:I9) -> 0 | J11: =+SUM(J9:J9) -> 0 | K11: =+SUM(K9:K9) -> 0 | L11: =+SUM(L9:L9) -> 127.785 | M11: =+SUM(M9:M9) -> 134.17425 | N11: =+H11+L11+M11 -> 398.65925 | O11: Darbą susiradusių ilgalaikių bedarbių skaičius | P11: asm. | Q11: 10 | R11: 10 | S11: 10
A12: 01 | B12: 03 | C12: Investicinio klimato rajone gerinimas (3.1.1.3.)
A13: 01 | B13: 03 | C13: 01 | D13: Investicinių sklypų ir patalpų pritaikymas verslui | E13: 04 | F13: 188718713 | G13: SB | O13: Investicijoms pritaikytų sklypų skaičius/plotas | P13: vnt./km2 | Q13: 1/2 ha | R13: 0 | S13: 0 | T13: Investicijų ir strateginio planavimo sk.
G14: Iš viso | H14: =+SUM(H13:H13) -> 0 | I14: =+SUM(I13:I13) -> 0 | J14: =+SUM(J13:J13) -> 0 | K14: =+SUM(K13:K13) -> 0 | L14: =+SUM(L13:L13) -> 0 | M14: =+SUM(M13:M13) -> 0 | N14: =+H14+L14+M14 -> 0 | O14: Investicijoms pritaikytų patalpų plotas | P14: m2 | Q14: 100 | R14: 0 | S14: 0
A15: 01 | B15: 03 | C15: 02 | D15: Investuotojams patrauklaus rajono įvaizdžio formavimas | E15: 04 | F15: 188718713 | G15: SB | O15: Parengtas rajono investavimo galimybių pristatymas 3 kalbomis | P15: vnt. | Q15: 1 | R15: 1 | S15: 1 | T15: Investicijų ir strateginio planavimo sk.
G16: Iš viso | H16: =+SUM(H15:H15) -> 0 | I16: =+SUM(I15:I15) -> 0 | J16: =+SUM(J15:J15) -> 0 | K16: =+SUM(K15:K15) -> 0 | L16: =+SUM(L15:L15) -> 0 | M16: =+SUM(M15:M15) -> 0 | N16: =+H16+L16+M16 -> 0 | O16: Susuitikimų su potencialiais investuotojais skaičius | P16: vnt. | Q16: 2 | R16: 2 | S16: 2
A17: 01 | B17: 04 | C17: Gyventojų rajone išlaikymas ir pritraukimas (3.1.1.4.)
A18: 01 | G18: SB | N18: =+H18+L18+M18 -> 0
G19: Iš viso | H19: =+SUM(H18:H18) -> 0 | I19: =+SUM(I18:I18) -> 0 | J19: =+SUM(J18:J18) -> 0 | K19: =+SUM(K18:K18) -> 0 | L19: =+SUM(L18:L18) -> 0 | M19: =+SUM(M18:M18) -> 0 | N19: =+H19+L19+M19 -> 0
A20: 02 | B20: Skatinti turizmą rajone ir plėsti turizmo paslaugų rinką
A21: 02 | B21: 01 | C21: Plėsti ir prižiūrėti turizmo infrastruktūrą (3.1.2.1.)
A22: 02 | B22: 01 | C22: 08 | D22: Paminklosaugos priežiūros organizavimas | E22: 08 | F22: 188718713 | G22: SB | H22: 73 | L22: =H22*1.05 -> 76.65 | M22: =L22*1.05 -> 80.4825 | N22: =H22+L22+M22 -> 230.1325 | O22: Prižiūrimų objektų skaičius | P22: vnt. | Q22: 309 | R22: 309 | S22: 309 | T22: Investicijų ir strateginio planavimo sk.
G23: Iš viso | H23: =+SUM(H22:H22) -> 73 | I23: =+SUM(I22:I22) -> 0 | J23: =+SUM(J22:J22) -> 0 | K23: =+SUM(K22:K22) -> 0 | L23: =+SUM(L22:L22) -> 76.65 | M23: =+SUM(M22:M22) -> 80.4825 | N23: =+H23+L23+M23 -> 230.1325 | O23: tvarkybos darbų techninės dokumentacijos parengimas arba tvarkybos darbų atlikimas | P23: vnt. | Q23: 0 | R23: 0 | S23: 0
A24: 02 | B24: 02 | C24: Turizmo produktų plėtra ir rinkodaros priemonių įgyvendinimas
A25: 02 | B25: 02 | C25: 01 | D25: Turizmo rinkodaros priemonių įgyvendinimas | E25: 08 | F25: 188718713 | G25: SB | L25: =+(H25*0.05)+H25 -> 0 | M25: =+H25*0.1+H25 -> 0 | N25: =H25+L25+M25 -> 0 | O25: Turzimo renginių, kuriuose reperezentuojamas rajonas skaičius | P25: vnt. | Q25: 2 | R25: 2 | S25: 2 | T25: Turizmo ir informacijos sk.
G26: Iš viso | H26: =+SUM(H25:H25) -> 0 | I26: =+SUM(I25:I25) -> 0 | J26: =+SUM(J25:J25) -> 0 | K26: =+SUM(K25:K25) -> 0 | L26: =+SUM(L25:L25) -> 0 | M26: =+SUM(M25:M25) -> 0 | N26: =+H26+L26+M26 -> 0 | O26: Kvalifikacijos kėlimo renginių, kuriuose dalyvauja turizmo srities specialistai, skaičius | P26: vnt. | Q26: 2 | R26: 2 | S26: 2
A27: 02 | B27: 02 | C27: 02 | D27: Naujų turizmo produktų vystymas | E27: 05 | F27: 188718713 | G27: ES | L27: =+(H27*0.05)+H27 -> 0 | M27: =+H27*0.1+H27 -> 0 | N27: =+H27+L27+M27 -> 0 | O27: Parengta naujo turistinio maršturo koncepcija | P27: vnt. | Q27: 2 | R27: 3 | S27: 1 | T27: Turizmo ir informacijos sk.
G28: SB | L28: =+(H28*0.05)+H28 -> 0 | M28: =+H28*0.1+H28 -> 0 | N28: =+H28+L28+M28 -> 0
G29: Iš viso | H29: =+H27+H28 -> 0 | I29: =+I27+I28 -> 0 | J29: =+J27+J28 -> 0 | K29: =+K27+K28 -> 0 | L29: =+L27+L28 -> 0 | M29: =+M27+M28 -> 0 | N29: =+N27+N28 -> 0
A30: 02 | B30: 02 | C30: 03 | D30: Turizmo veiklų plėtra bendradarbiaujant su turizmo srityje veikiančiomis įstaigomis, įmonėmis | E30: 08 | F30: 188718713 | G30: SB | L30: =+(H30*0.05)+H30 -> 0 | M30: =+H30*0.1+H30 -> 0 | N30: =+H30+L30+M30 -> 0 | O30: Pasirašytų bendradarbiavimo sutarčių skaičius | P30: vnt. | Q30: 1 | R30: 1 | S30: 1 | T30: Turizmo ir informacijos sk.
G31: Iš viso | H31: =+H30 -> 0 | I31: =+I30 -> 0 | J31: =+J30 -> 0 | K31: =+K30 -> 0 | L31: =+L30 -> 0 | M31: =+M30 -> 0 | N31: =+N30 -> 0 | O31: Bendrų veiklų (susitikimų, renginių) skaičius | P31: vnt. | Q31: 5 | R31: 5 | S31: 5
A32: Iš viso iš jų | H32: =+SUM(H33:H41) -> 209.7 | I32: =+SUM(I33:I41) -> #REF! | J32: =+SUM(J33:J41) -> #REF! | K32: =+SUM(K33:K41) -> #REF! | L32: =+SUM(L33:L41) -> 220.185 | M32: =+SUM(M33:M41) -> 231.19425 | N32: =+SUM(N33:N41) -> 277.42
A33: 8 | G33: SB | H33: =++H13+H23+H15+H18+H10 -> 88 | I33: =++I13+I23+#REF!+#REF!+#REF!+#REF!+#REF!+#REF!+I15+I18 -> #REF! | J33: =++J13+J23+#REF!+#REF!+#REF!+#REF!+#REF!+#REF!+J15+J18 -> #REF! | K33: =++K13+K23+#REF!+#REF!+#REF!+#REF!+#REF!+#REF!+K15+K18 -> #REF! | L33: =++L13+L23+L15+L18+L10 -> 92.4 | M33: =++M13+M23+M15+M18+M10 -> 97.02 | N33: =+N23+N10 -> 277.42
G34: SB(SP) | H34: 0 | I34: 0 | J34: 0 | K34: 0 | L34: 0 | M34: 0 | N34: 0
G35: SB(VB) | H35: =++H9 -> 121.7 | I35: =+I14 -> 0 | J35: =+J14 -> 0 | K35: =+K14 -> 0 | L35: =++L9 -> 127.785 | M35: =++M9 -> 134.17425 | N35: =+N14 -> 0
G36: VB(P) | H36: 0 | I36: 0 | J36: 0 | K36: 0 | L36: 0 | M36: 0 | N36: 0
G37: D | H37: 0 | I37: =+#REF! -> #REF! | J37: =+#REF! -> #REF! | K37: =+#REF! -> #REF! | L37: 0 | M37: 0 | N37: 0
G38: P(FM) | H38: 0 | I38: 0 | J38: 0 | K38: 0 | L38: 0 | M38: 0 | N38: 0
G39: P(B) | H39: 0 | I39: 0 | J39: 0 | K39: 0 | L39: 0 | M39: 0 | N39: 0
G40: ES | H40: 0 | I40: =+#REF!+#REF! -> #REF! | J40: =+#REF!+#REF! -> #REF! | K40: =+#REF!+#REF! -> #REF! | L40: 0 | M40: 0 | N40: 0
G41: Kitos | H41: 0 | I41: 0 | J41: 0 | K41: 0 | L41: 0 | M41: 0 | N41: 0

Sheet VII Žemės ūkis
A2: Programos tikslo kodas | B2: Uždavinio kodas | C2: Priemonės kodas | D2: Priemonės pavadinimas | E2: Funkcinės klasifikacijos kodas | F2: Asignavimų valdytojo kodas | G2: Finansavimo šaltinis | H2: 2023 metų išlaidos | L2: 2024 metų išlaidų projektas | M2: 2025 metų išlaidų projektas | N2: Iš viso | O2: Matavimo rodiklis | T2: Atsakingas skyrius
H3: Iš viso | I3: Išlaidoms | Q3: Rodiklio reikšmės
I4: Iš viso | J4: Iš jų darbo užmokesčiui | K4: turtui įsigyti ir finansiniams įsipareigojimams vykdyti | O4: Rodiklio pavadinimas | P4: Matavimo vnt. | Q4: 2023 m. | R4: 2024 m. | S4: 2025 m.
A5: 07 Žemės ūkio ir kaimo plėtros programa
A6: 01 | B6: Vykdyti su žemės ūkio veikla rajone susijusią apskaitą
A7: 01 | B7: 01 | C7: Registruoti rajone veikiančius ūkininkų ūkius bei žemės ūkyje naudojamus išteklius (3.2.1.1.)
A8: 01 | B8: 01 | C8: 01 | D8: Žemės ūkio valdų ir ūkininkų ūkių registravimas | E8: 04 | F8: 188718713 | G8: SB(VB) | H8: 213.9 | L8: =+(H8*0.05)+H8 -> 224.595 | M8: =L8*1.05 -> 235.82475 | N8: =+H8+L8+M8 -> 674.31975 | O8: Įregistruotų žemės ūkio valdų skaičius | P8: vnt. | Q8: 3200 | R8: 3220 | S8: 3240 | T8: Žemės ūkio sk.
G9: SB | H9: 84.7 | L9: =+(H9*0.05)+H9 -> 88.935 | M9: =L9*1.05 -> 93.38175 | N9: =+H9+L9+M9 -> 267.01675 | O9: Įregistruotų ūkininkų ūkių skaičius | P9: vnt. | Q9: 1140 | R9: 1180 | S9: 1200
G10: Iš viso | H10: =+H8+H9 -> 298.6 | I10: =+I8+I9 -> 0 | J10: =+J8+J9 -> 0 | K10: =+K8+K9 -> 0 | L10: =+L8+L9 -> 313.53 | M10: =+M8+M9 -> 329.2065 | N10: =+N8+N9 -> 941.3365
A11: 02 | B11: Vykdyti melioracijos statinių priežiūrą
A12: 02 | B12: 01 | C12: Planuoti ir vykdyti melioracijos statinių priežiūrą ir atnaujinimą (3.2.2.1.)
A13: 02 | B13: 01 | C13: 02 | D13: Melioracijos darbų programos rengimas ir įgyvendinimas | E13: 04 | F13: 188718713 | G13: SB(VB) | H13: 121 | L13: =+(H13*0.05)+H13 -> 127.05 | M13: =L13*1.05 -> 133.4025 | N13: =H13+L13+M13 -> 381.4525 | O13: Plotas, kuriame atlikti melioracijos darbai | P13: ha | Q13: 50 | R13: 50 | S13: 50 | T13: Žemės ūkio sk.
G14: Iš viso | H14: =+H13 -> 121 | I14: =+I13 -> 0 | J14: =+J13 -> 0 | K14: =+K13 -> 0 | L14: =+L13 -> 127.05 | M14: =+M13 -> 133.4025 | N14: =H14+L14+M14 -> 381.4525 | O14: Suremontuotų melioracijos įrenginių ilgis | P14: km | Q14: 10 | R14: 10 | S14: 10
A15: 03 | B15: Užtikrinti darnią žemės ūkio ir kaimo plėtrą
A16: 03 | B16: 01 | C16: Žemės ūkio skyriaus valdomų sistemų administravimas (3.2.3.1.)
A17: 03 | B17: 01 | C17: 03 | D17: Erdvinio duomenų rinkinio tvarkymo funkcija | E17: 08 | F17: 188718713 | G17: SB(VB) | H17: 23 | L17: =+(H17*0.05)+H17 -> 24.15 | M17: =L17*1.05 -> 25.3575 | N17: =H17+L17+M17 -> 72.5075 | T17: Komunalinio ūkio sk.
G18: Iš viso | H18: =+SUM(H17:H17) -> 23 | I18: =+SUM(I17:I17) -> 0 | J18: =+SUM(J17:J17) -> 0 | K18: =+SUM(K17:K17) -> 0 | L18: =+SUM(L17:L17) -> 24.15 | M18: =+SUM(M17:M17) -> 25.3575 | N18: =H18+L18+M18 -> 72.5075
A19: 03 | B19: 04 | C19: Prisidėti prie ūkininkams skirtų renginių rengimo (3.2.3.2.)
A20: 03 | B20: 04 | C20: 01 | D20: Derliaus šventės, Artojų varžybų ir kitų panašių renginių organizavimas bei rėmimas | E20: 08 | F20: 188718713 | G20: SB | H20: 40 | L20: =+(H20*0.05)+H20 -> 42 | M20: =L20*1.05 -> 44.1 | N20: =H20+L20+M20 -> 126.1 | O20: Žemės ūkio tematika suorganizuotų renginių skaičius | P20: vnt. | Q20: 2 | R20: 2 | S20: 2 | T20: Žemės ūkio sk.
G21: Iš viso | H21: =+SUM(H20:H20) -> 40 | I21: =+SUM(I20:I20) -> 0 | J21: =+SUM(J20:J20) -> 0 | K21: =+SUM(K20:K20) -> 0 | L21: =+SUM(L20:L20) -> 42 | M21: =+SUM(M20:M20) -> 44.1 | N21: =H21+L21+M21 -> 126.1 | O21: Paramą gavusių renginių skaičius | P21: vnt. | Q21: 2 | R21: 2 | S21: 2
A22: 03 | B22: 05 | C22: Našaus ir tvaraus žemės ūkio ir miškininkystės veiklos skatinimas rajone (3.2.3.3.)
A23: 03 | B23: 05 | E23: 08 | G23: SB
G24: Iš viso | H24: =+SUM(H23:H23) -> 0 | I24: =+SUM(I23:I23) -> 0 | J24: =+SUM(J23:J23) -> 0 | K24: =+SUM(K23:K23) -> 0 | L24: =+SUM(L23:L23) -> 0 | M24: =+SUM(M23:M23) -> 0 | N24: =H24+L24+M24 -> 0
A25: Iš viso iš jų | H25: =+SUM(H26:H33) -> 482.6 | I25: =+SUM(I26:I33) -> 0 | J25: =+SUM(J26:J33) -> #REF! | K25: =+SUM(K26:K33) -> #REF! | L25: =+SUM(L26:L33) -> 506.73 | M25: =+SUM(M26:M33) -> 532.0665 | N25: =+SUM(N26:N33) -> 1521.3965
A26: 5 | G26: SB | H26: =+H20+H9+H23 -> 124.7 | I26: =+I20+I9+I23 -> 0 | J26: =+J20+J9+J23 -> 0 | K26: =+K20+K9+K23 -> 0 | L26: =+L20+L9+L23 -> 130.935 | M26: =+M20+M9+M23 -> 137.48175 | N26: =+N20+N9+N23 -> 393.11675
G27: SB(VB) | H27: =+H8+H14+H17 -> 357.9 | I27: =+I8+I14+I17 -> 0 | J27: =+J8+J14+#REF!+J17 -> #REF! | K27: =+K8+K14+#REF!+K17 -> #REF! | L27: =+L8+L14+L17 -> 375.795 | M27: =+M8+M14+M17 -> 394.58475 | N27: =+N8+N14+N17 -> 1128.2797
G28: SB(SP) | H28: 0 | I28: 0 | J28: 0 | K28: 0 | L28: 0 | M28: 0 | N28: 0
G29: VB(P) | H29: 0 | I29: 0 | J29: 0 | K29: 0 | L29: 0 | M29: 0 | N29: 0
G30: P(FM) | H30: 0 | I30: 0 | J30: 0 | K30: 0 | L30: 0 | M30: 0 | N30: 0
G31: P(B) | H31: 0 | I31: 0 | J31: 0 | K31: 0 | L31: 0 | M31: 0 | N31: 0
G32: ES | H32: 0 | I32: 0 | J32: 0 | K32: 0 | L32: 0 | M32: 0 | N32: 0
G33: Kitos | H33: 0 | I33: 0 | J33: 0 | K33: 0 | L33: 0 | M33: 0 | N33: 0

Sheet VIII Infrastruktūra
A2: Programos tikslo kodas | B2: Uždavinio kodas | C2: Priemonės kodas | D2: Priemonės pavadinimas | E2: Funkcinės klasifikacijos kodas | F2: Asignavimų valdytojo kodas | G2: Finansavimo šaltinis | H2: 2023 metų išlaidos | L2: 2024 metų išlaidų projektas | M2: 2025 metų išlaidų projektas | N2: Iš viso | O2: Matavimo rodiklis | T2: Atsakingas skyrius
H3: Iš viso | I3: Išlaidoms | Q3: Rodiklio reikšmės
I4: Iš viso | J4: Iš jų darbo užmokesčiui | K4: turtui įsigyti ir finansiniams įsipareigojimams vykdyti | O4: Rodiklio pavadinimas | P4: Matavimo vnt. | Q4: 2023 m. | R4: 2024 m. | S4: 2025 m.
A5: 08 Viešosios infrastruktūros gerinimo programa
A6: 01 | B6: Užtikrinti darnų Šalčininkų rajono teritorijos vystymą
A7: 01 | B7: 01 | C7: Rengti teritorijų planavimo dokumentus (4.1.1.1.)
A8: 01 | B8: 04 | C8: Prisidėti prie gyvenamųjų namų aplinkos gerinimo (4.1.1.2.)
A9: 01 | B9: 04 | C9: 01 | D9: Daugiabučių namų savininkų bendrijų rėmimas | E9: 06 | F9: 188718713 | G9: SB | H9: 10 | L9: =+(H9*0.05)+H9 -> 10.5 | M9: =L9*1.05 -> 11.025 | N9: =+H9+L9+M9 -> 31.525 | O9: Daugiabučių namų bendrijų, gavusių paramą, skaičius | P9: vnt. | Q9: 0 | R9: 0 | S9: 0 | T9: Statybos ir architektūros sk.
G10: Iš viso | H10: =+H9 -> 10 | I10: =+I9 -> 0 | J10: =+J9 -> 0 | K10: =+K9 -> 0 | L10: =+L9 -> 10.5 | M10: =+M9 -> 11.025 | N10: =SUM(H10,L10,M10) -> 31.525
A11: 02 | B11: Organizuoti komunalinių paslaugų teikimą gyventojams
A12: 02 | B12: 01 | C12: Vykdyti komunalinio ūkio plėtrą (4.1.2.1.)
A13: 02 | B13: 01 | C13: 01 | D13: Komunalinių paslaugų teikimas | E13: 06 | F13: 188718713 | G13: SB | H13: 3147 | L13: =+(H13*0.05)+H13 -> 3304.35 | M13: =L13*1.05 -> 3469.5675 | N13: =H13+L13+M13 -> 9920.9175 | O13: Pagerintų teikiamų komunalinių paslaugų grupių skaičius | P13: vnt. | Q13: 6 | R13: 7 | S13: 7 | T13: Komunalinio ūkio sk.
G14: Iš viso | H14: =+H13 -> 3147 | I14: =+I13 -> 0 | J14: =+J13 -> 0 | K14: =+K13 -> 0 | L14: =+L13 -> 3304.35 | M14: =+M13 -> 3469.5675 | N14: =+H14+L14+M14 -> 9920.9175
A15: 02 | B15: 01 | C15: 08 | D15: Komunalinio ūkio plėtra seniūnijose | E15: 06 | F15: 188718713 | G15: SB | H15: 1046.7 | L15: =+(H15*0.05)+H15 -> 1099.035 | M15: =L15*1.05 -> 1153.9868 | N15: =H15+L15+M15 -> 3299.7218 | O15: Apšviestų gatvių dalis nuo visų gatvių | P15: proc. | Q15: 0 | R15: 0 | S15: 0 | T15: Komunalinio ūkio sk.
G16: Iš viso | H16: =+H15 -> 1046.7 | I16: =+I15 -> 0 | J16: =+J15 -> 0 | K16: =+K15 -> 0 | L16: =+L15 -> 1099.035 | M16: =+M15 -> 1153.9868 | N16: =H16+L16+M16 -> 3299.7218
G17: SB | L17: =+(H17*0.05)+H17 -> 0 | M17: =+H17*0.1+H17 -> 0 | N17: =+H17+L17+M17 -> 0 | O17: Įrengtų šviesos taškų skaičius | P17: vnt. | Q17: 0 | R17: 0 | S17: 0
G18: Iš viso | H18: =+H17 -> 0 | I18: =+I17 -> 0 | J18: =+J17 -> 0 | K18: =+K17 -> 0 | L18: =+L17 -> 0 | M18: =+M17 -> 0 | N18: =+N17 -> 0
A19: 02 | B19: 01 | C19: 12 | D19: Komunalinių atliekų rūšiuojamojo surinkimo infrastruktūros plėtra (Dieveniškių aikštelė) | E19: 06 | F19: 188718713 | G19: ES | L19: 400 | M19: 0 | N19: =+H19+L19+M19 -> 400 | O19: Įrengta didelių gabaritų atliekų surinkimo aikštelė | P19: vnt. | Q19: 1 | R19: 0 | S19: 0 | T19: Komunalinio ūkio sk.
G20: D | L20: 38 | M20: 0 | N20: =+H20+L20+M20 -> 38
G21: Iš viso | H21: =+H19+H20 -> 0 | I21: =+I19+I20 -> 0 | J21: =+J19+J20 -> 0 | K21: =+K19+K20 -> 0 | L21: =+L19+L20 -> 438 | M21: =+M19+M20 -> 0 | N21: =+N19+N20 -> 438
A22: 02 | B22: 02 | C22: Didinti centralizuotų vandens ir nuotekų tinklų vartotojų skaičių bei teikiamų paslaugų kokybę (4.1.2.2.)
A23: 02 | B23: 02 | C23: 07 | D23: Geriamojo vandens tiekimo ir nuotekų tvarkymo sistemų renovavimas ir plėtra, įmonių valdymo tobulinimas | E23: 06 | F23: 188718713 | G23: ES | L23: =+(H23*0.05)+H23 -> 0 | M23: =+H23*0.1+H23 -> 0 | N23: =+H23+L23+M23 -> 0 | O23: Nutiesti nauji vandens tiekimo ir nuotekų surinkimo tinklai | P23: km | Q23: 3 | R23: 4 | S23: 3 | T23: Komunalinio ūkio sk.
G24: SB | H24: 365.5 | L24: =+(H24*0.05)+H24 -> 383.775 | M24: =L24*1.05 -> 402.96375 | N24: =+H24+L24+M24 -> 1152.2387 | O24: Rekonstruoti vandens tiekimo ir nuotekų surinkimo tinklai | P24: km | Q24: 2 | R24: 2 | S24: 2
G25: D | L25: =+(H25*0.05)+H25 -> 0 | M25: =+H25*0.1+H25 -> 0 | N25: =+H25+L25+M25 -> 0 | O25: Naujai įrengtų arba modernizuotų valyklų skaičius | P25: vnt. | Q25: 0 | R25: 1 | S25: 1
G26: Iš viso | H26: =+H23+H25+H24 -> 365.5 | I26: =+I23+I25+I24 -> 0 | J26: =+J23+J25+J24 -> 0 | K26: =+K23+K25+K24 -> 0 | L26: =+L23+L25+L24 -> 383.775 | M26: =+M23+M25+M24 -> 402.96375 | N26: =+N23+N25+N24 -> 1152.2387
A27: 02 | B27: 02 | C27: 08 | D27: Nuotekų surinkimo tinklų plėtra Šalčininkų aglomeracijoje | E27: 06 | F27: 188718713 | G27: SB | L27: =+(H27*0.05)+H27 -> 0 | M27: =+H27*0.1+H27 -> 0 | N27: =SUM(H27+L27+M27) -> 0 | O27: Nutiesti nauji nuotekų tinklai | P27: km | Q27: 3.181 | R27: 1.5 | S27: 2 | T27: Komunalinio ūkio sk. ir UAB "Vilniaus vandenys"
G28: Iš viso | H28: =+H27 -> 0 | I28: =+I27 -> 0 | J28: =+J27 -> 0 | K28: =+K27 -> 0 | L28: =+L27 -> 0 | M28: =+M27 -> 0 | N28: =SUM(H28+L28+M28) -> 0 | O28: Nutiesti nauji vandentiekio tinklai | P28: km | Q28: 3.417 | R28: 2 | S28: 2
A29: 02 | B29: 02 | C29: 09 | D29: Nuotekų surinkimo tinklų plėtra Eišiškių aglomeracijoje | E29: 06 | F29: 188718713 | G29: SB | L29: =+(H29*0.05)+H29 -> 0 | M29: =+H29*0.1+H29 -> 0 | N29: =SUM(H29+L29+M29) -> 0 | O29: Nutiesti nauji nuotekų tinklai | P29: km | Q29: 5.065 | R29: 1 | S29: 2 | T29: komunalinio ūkio sk. ir UAB "Vilniaus Vandenys"
G30: Iš viso | H30: =+H29 -> 0 | I30: =+I29 -> 0 | J30: =+J29 -> 0 | K30: =+K29 -> 0 | L30: =+L29 -> 0 | M30: =+M29 -> 0 | N30: =SUM(H30+L30+M30) -> 0 | O30: Nutiesti nauji vandentiekio tinklai | P30: km | Q30: 2.236 | R30: 1.5 | S30: 2
A31: 02 | B31: 03 | C31: Organizuoti savivaldybės teritorijos atliekų prevenciją ir tvarkymą (4.1.2.3.)
A32: 02 | B32: 03 | C32: 01 | D32: Atliekų tvarkymas ir išvežimas | E32: 06 | F32: 188718713 | G32: SB | H32: 900 | L32: =+(H32*0.05)+H32 -> 945 | M32: =L32*1.05 -> 992.25 | N32: =H32+L32+M32 -> 2837.25 | O32: Suinktų atliekų kiekis | P32: t. | Q32: 6000 | R32: 6000 | S32: 6000 | T32: Komunalinio ūkio sk.
G33: Iš viso | H33: =+H32 -> 900 | I33: =+I32 -> 0 | J33: =+J32 -> 0 | K33: =+K32 -> 0 | L33: =+L32 -> 945 | M33: =+M32 -> 992.25 | N33: =+H33+L33+M33 -> 2837.25
A34: 02 | B34: 03 | C34: 02 | D34: Atliekų prevencijos ir tvarkymo priemonių plano 2021–2027 m. įgyvendinimas | E34: 06 | F34: 188718713 | G34: SB | L34: =+(H34*0.05)+H34 -> 0 | M34: =+H34*0.1+H34 -> 0 | N34: =SUM(H34+L34+M34) -> 0 | O34: Naujų tekstilės atliekų konteinerių skaičius | P34: vnt. | Q34: 5 | R34: 5 | S34: 5 | T34: Komunalinio ūkio sk.
O35: Įrengtų viešojo geriamojo vandens stotelių skaičius | P35: vnt. | Q35: 0 | R35: 2 | S35: 4
O36: Naujų, antrinių žaliavų individualaus naudojimo konteinerių komplektų skaičius | P36: vnt. | Q36: 0 | R36: 2 | S36: 4
O37: Naujų, mišrių komunalinių atliekų individualaus naudojimo konteinerių skaičius | P37: vnt. | Q37: 0 | R37: 100 | S37: 200
O38: Naujų kompostinių dėžių skaičius | P38: vnt. | Q38: 0 | R38: 200 | S38: 200
G39: Iš viso | H39: =+H34 -> 0 | I39: =+I34 -> 0 | J39: =+J34 -> 0 | K39: =+K34 -> 0 | L39: =+L34 -> 0 | M39: =+M34 -> 0 | N39: =SUM(H39+L39+M39) -> 0 | O39: Individualių konteinerių maisto atliekoms surinkti skaičius | P39: vnt. | Q39: 0 | R39: 200 | S39: 200
A40: 02 | B40: 04 | C40: Organizuoti Centralizuotos šilumos ir vėsumos tiekimo modernizavimą ir plėtrą, katilų priežiūrą
A41: 02 | B41: 04 | C41: 01 | D41: Centralizuotos šilumos tinklų plėtra | E41: 06 | F41: 188718713 | G41: SB | L41: =+(H41*0.05)+H41 -> 0 | M41: =+H41*0.1+H41 -> 0 | N41: =H41+L41+M41 -> 0 | O41: Prie centralizuoto šilumos tiekimo tinklo naujai prijungtų vartotojų skaičius | P41: vnt. | Q41: 10 | R41: 10 | S41: 10 | T41: Komunalinio ūkio sk.
G42: Iš viso | H42: =+H41 -> 0 | I42: =+I41 -> 0 | J42: =+J41 -> 0 | K42: =+K41 -> 0 | L42: =+L41 -> 0 | M42: =+M41 -> 0 | N42: =+H42+L42+M42 -> 0
A43: 02 | B43: 04 | C43: 02 | D43: Katilų priežiūra ir modernizavimas | E43: 06 | F43: 188718713 | G43: SB | L43: =+(H43*0.05)+H43 -> 0 | M43: =+H43*0.1+H43 -> 0 | N43: =H43+L43+M43 -> 0 | O43: Viešosiose įstaigose pakeistų katilų skaičius | P43: vnt. | Q43: 3 | R43: 5 | S43: 5 | T43: Komunalinio ūkio sk.
G44: Iš viso | H44: =+H43 -> 0 | I44: =+I43 -> 0 | J44: =+J43 -> 0 | K44: =+K43 -> 0 | L44: =+L43 -> 0 | M44: =+M43 -> 0 | N44: =+H44+L44+M44 -> 0
A45: 03 | B45: Užtikrinti patikimą rajono ryšių sistemą ir jai reikalingą infrastruktūrą
A46: 03 | B46: 01 | C46: Vykdyti gatvių ir šaligatvių priežiūrą bei atlikti reikiamus dangos tobulinimo darbus
A47: 03 | B47: 01 | C47: 01 | D47: Šalčininkų rajono savivaldybės vietinių kelių asfaltavimas | E47: 06 | F47: 188718713 | G47: SB | H47: 4 | L47: =+(H47*0.05)+H47 -> 4.2 | M47: =L47*1.05 -> 4.41 | N47: =SUM(H47+L47+M47) -> 12.61 | O47: Suremontuotų kelių ir gatvių su žvyro danga ilgis | P47: km | Q47: 5 | R47: 5 | S47: 6 | T47: Komūnalinio ūkio skyrius
G48: Iš viso | H48: =+H47 -> 4 | I48: =+I47 -> 0 | J48: =+J47 -> 0 | K48: =+K47 -> 0 | L48: =+L47 -> 4.2 | M48: =+M47 -> 4.41 | N48: =SUM(H48+L48+M48) -> 12.61
A49: 03 | B49: 01 | C49: 02 | D49: Kelių, gatvių (šaligatvių) su asfalto danga remontas ir priežiūra | E49: 06 | F49: 188718713 | G49: SB | L49: =+(H49*0.05)+H49 -> 0 | M49: =+H49*0.1+H49 -> 0 | N49: =+H49+L49+M49 -> 0 | O49: Suremontuotų kelių, gatvių ir šaligatvių su asfalto danga ilgis | P49: km | Q49: 5 | R49: 5 | S49: 6 | T49: Komūnalinio ūkio skyrius
G50: Iš viso | H50: =+H49 -> 0 | I50: =+I49 -> 0 | J50: =+J49 -> 0 | K50: =+K49 -> 0 | L50: =+L49 -> 0 | M50: =+M49 -> 0 | N50: =+N49 -> 0
A51: 03 | B51: 01 | C51: 03 | D51: Kelių ir gatvių su žvyro danga remontas ir priežiūra | E51: 06 | F51: 188718713 | G51: SB | L51: =SUM(H51*0.05)+H51 -> 0 | M51: =+(L51*0.05)+L51 -> 0 | N51: =SUM(H51+L51+M51) -> 0 | O51: Išasfaltuotų vietinių kelių ilgis | P51: km | Q51: 1 | R51: 1 | S51: 2 | T51: Komūnalinio ūkio skyrius
G52: Iš viso | H52: =SUM(H51) -> 0 | I52: =SUM(I51) -> 0 | J52: =SUM(J51) -> 0 | K52: =SUM(K51) -> 0 | L52: =SUM(L51) -> 0 | M52: =SUM(M51) -> 0 | N52: =SUM(N51) -> 0
A53: 03 | B53: 01 | C53: 11 | D53: Šalčininkų miesto gatvių infrastruktūros gerinimas | E53: 06 | F53: 188718713 | G53: SB | H53: 18.4 | L53: =+(H53*0.05)+H53 -> 19.32 | M53: =L53*1.05 -> 20.286 | N53: =+H53+L53+M53 -> 58.006 | T53: Investicijų ir strateginio planavimo sk.
G55: Iš viso | H55: =+H53 -> 18.4 | I55: =+I53 -> 0 | J55: =+J53 -> 0 | K55: =+K53 -> 0 | L55: =+L53 -> 19.32 | M55: =+M53 -> 20.286 | N55: =+N53 -> 58.006
A56: 03 | B56: 01 | C56: 14 | D56: Mickevičiaus ir M. Balinskio gatvių atkarpų rekonstrukcija Šalčininkų mieste | E56: 06 | F56: 188718713 | G56: SB | H56: 6.5 | L56: =+(H56*0.05)+H56 -> 6.825 | M56: =L56*1.05 -> 7.16625 | N56: =+H56+L56+M56 -> 20.49125 | T56: Investicijų ir strateginio planavimo sk.
G57: Iš viso | H57: =+H56 -> 6.5 | I57: =+I56 -> 0 | J57: =+J56 -> 0 | K57: =+K56 -> 0 | L57: =+L56 -> 6.825 | M57: =+M56 -> 7.16625 | N57: =+N56 -> 20.49125
A58: 03 | B58: 02 | C58: Užtikrinti gyventojų vežimą viešojo transporto maršrutais
A59: 03 | B59: 02 | C59: 02 | D59: Keleivių vežimo nuostolingais maršrutais patirtų nuostolių kompensavimas | E59: 04 | F59: 188718713 | G59: SB | H59: 320 | J59: 0 | L59: =+(H59*0.05)+H59 -> 336 | M59: =L59*1.05 -> 352.8 | N59: =H59+L59+M59 -> 1008.8 | O59: Kompensaciją gavusių keleivių skaičius | P59: asm. | Q59: 0 | R59: 0 | S59: 0 | T59: Apskaitos skyrius
G60: Iš viso | H60: =+H59 -> 320 | I60: =+I59 -> 0 | J60: =+J59 -> 0 | K60: =+K59 -> 0 | L60: =+L59 -> 336 | M60: =+M59 -> 352.8 | N60: =+N59 -> 1008.8
A61: 03 | B61: 02 | C61: 04 | D61: Keleivių vežimo gerinimas | E61: 04 | F61: 188718713 | G61: ES | H61: 927.56 | L61: 0 | M61: 0 | N61: =+H61+L61+M61 -> 927.56 | O61: Įvesta elektroninio bilieto sistema | P61: vnt. | Q61: 0 | R61: 1 | S61: 0 | T61: Apskaitos skyrius
G62: D | H62: 1005.54 | L62: 0 | M62: 0 | N62: =+H62+L62+M62 -> 1005.54
G63: SB | H63: 228.5 | J63: 0 | L63: =+(H63*0.05)+H63 -> 239.925 | M63: =L63*1.05 -> 251.92125 | N63: =H63+L63+M63 -> 720.34625 | O63: Viešajam transportui, neįgaliesiesiems pritaikytų priemonių skaičius | P63: vnt. | Q63: 1 | R63: 2 | S63: 2
G64: Iš viso | H64: =+H63 -> 228.5 | I64: =+I63 -> 0 | J64: =+J63 -> 0 | K64: =+K63 -> 0 | L64: =+L63 -> 239.925 | M64: =+M63 -> 251.92125 | N64: =+N63 -> 720.34625
A65: Iš viso iš jų | H65: =+SUM(H66:H73) -> 7979.7 | I65: =+SUM(I66:I73) -> #REF! | J65: =+SUM(J66:J73) -> #REF! | K65: =+SUM(K66:K73) -> #REF! | L65: =+SUM(L66:L73) -> 6782.73 | M65: =+SUM(M66:M73) -> 6661.9665 | N65: =+SUM(N66:N73) -> 21420.396
G66: SB | H66: =SUM(H9,H13,H15,H59)+H53+H17+H24+H63+H27+H29+H56+H32+H34+H41+H43+H47 -> 6046.6 | I66: =SUM(I9,I13,I15,#REF!,I59)+I53+I17+I24+I63+I27+I29+I56+#REF!+#REF!+#REF!+I32+I34+I41+I43 -> #REF! | J66: =SUM(J9,J13,J15,#REF!,J59)+J53+J17+J24+J63+J27+J29+J56+#REF!+#REF!+#REF!+J32+J34+J41+J43 -> #REF! | K66: =SUM(K9,K13,K15,#REF!,K59)+K53+K17+K24+K63+K27+K29+K56+#REF!+#REF!+#REF!+K32+K34+K41+K43 -> #REF! | L66: =SUM(L9,L13,L15,L59)+L53+L17+L24+L63+L27+L29+L56+L32+L34+L41+L43 -> 6344.73 | M66: =SUM(M9,M13,M15,M59)+M53+M17+M24+M63+M27+M29+M56+M32+M34+M41+M43 -> 6661.9665 | N66: =SUM(N9,N13,N15,N59)+N53+N17+N24+N63+N27+N29+N56+N32+N34+N41+N43 -> 19049.296
G67: SB(VB) | H67: 0 | I67: 0 | J67: 0 | K67: 0 | L67: 0 | M67: 0 | N67: 0
G68: SB(SP) | H68: 0 | I68: 0 | J68: 0 | K68: 0 | L68: 0 | M68: 0 | N68: 0
G69: D | H69: =+H20+H25+H62 -> 1005.54 | I69: =+I20+I25+#REF!+#REF!+I62 -> #REF! | J69: =+J20+J25+#REF!+#REF!+J62 -> #REF! | K69: =+K20+K25+#REF!+#REF!+K62 -> #REF! | L69: =L62+L25+L20 -> 38 | M69: =+M20+M25+M62 -> 0 | N69: =+N20+N25+N62 -> 1043.54
G70: P(FM) | H70: 0 | I70: 0 | J70: 0 | K70: 0 | L70: 0 | M70: 0 | N70: 0
G71: P(B) | H71: 0 | I71: 0 | J71: 0 | K71: 0 | L71: 0 | M71: 0 | N71: 0
G72: ES | H72: =+H19+H23+H61 -> 927.56 | I72: =+I19+I23+#REF!+#REF!+I61 -> #REF! | J72: =+J19+J23+#REF!+#REF!+J61 -> #REF! | K72: =+K19+K23+#REF!+#REF!+K61 -> #REF! | L72: =+L19+L23+L61 -> 400 | M72: =+M19+M23+M61 -> 0 | N72: =+N19+N23+N61 -> 1327.56
G73: Kitos | H73: 0 | I73: 0 | J73: 0 | K73: 0 | L73: 0 | M73: 0 | N73: 0

Sheet IX Renovacijos
A2: Programos tikslo kodas | B2: Uždavinio kodas | C2: Priemonės kodas | D2: Priemonės pavadinimas | E2: Funkcinės klasifikacijos kodas | F2: Asignavimų valdytojo kodas | G2: Finansavimo šaltinis | H2: 2023 metų išlaidos | L2: 2024 metų išlaidų projektas | M2: 2025 metų išlaidų projektas | N2: Iš viso | O2: Matavimo rodiklis | T2: Atsakingas skyrius
H3: Iš viso | I3: Išlaidoms | Q3: Rodiklio reikšmės
I4: Iš viso | J4: Iš jų darbo užmokesčiui | K4: turtui įsigyti ir finansiniams įsipareigojimams vykdyti | O4: Rodiklio pavadinimas | P4: Matavimo vnt. | Q4: 2023 m. | R4: 2024 m. | S4: 2025 m.
A5: 09 Renovacijos bei teritorijų sutvarkymo programa
A6: 01 | B6: Užtikrinti tinkamas fizinės sąlygas rajono viešosiose įstaigose bei užtikrinti efektyvų energijos naudojimą
A7: 01 | B7: 01 | C7: Pagerinti fizines sąlygas rajono Švietimo ir sporto sk. įstaigose (4.2.1.1.)
A8: 01 | B8: 01 | C8: 14 | D8: Šalčninkų Jano Sniadeckio gimnazijos ugdymo aplinkos modernizavimas | E8: 09 | F8: 188718713 | G8: ES | H8: 58.9 | L8: 0 | M8: 0 | N8: =H8+L8+M8 -> 58.9 | O8: Modernizuotas pastatas | P8: vnt. | Q8: 1 | R8: 0 | S8: 0 | T8: Investicijų ir strateginio planavimo sk. / Turizmo ir informacijos sk.
G9: D | H9: 5.2 | L9: 0 | M9: 0 | N9: =H9+L9+M9 -> 5.2
G10: SB | H10: 5.2 | L10: 0 | M10: 0 | N10: =H10+L10+M10 -> 5.2
G11: Iš viso | H11: =+H8+H9+H10 -> 69.3 | I11: =+I8+I9 -> 0 | J11: =+J8+J9 -> 0 | K11: =+K8+K9 -> 0 | L11: =+L8+L9 -> 0 | M11: =+M8+M9 -> 0 | N11: =+N8+N9 -> 64.1
A12: 01 | B12: 01 | C12: 18 | D12: Šalčininkų Stanislavo Moniuškos menų mokyklos pastato-baseino, esančio Plento g. 5, Šalčininkų m., modernizavimas (energetinio efektyvumo didinimimas) | E12: 09 | F12: 188718713 | G12: ES | H12: 0 | L12: 0 | M12: 0 | N12: =H12+L12+M12 -> 0 | O12: Suremontuota pastato išorė | P12: vnt. | Q12: 0 | R12: 0 | S12: 0 | T12: Investicijų ir strateginio planavimo sk.
G13: SB | H13: 0
G14: Iš viso | H14: =+H12+H13 -> 0 | I14: =+I11+I12 -> 0 | J14: =+J11+J12 -> 0 | K14: =+K11+K12 -> 0 | L14: =+L12+L13 -> 0 | M14: =+M12+M13 -> 0 | N14: =+N11+N12 -> 64.1
A15: 01 | B15: 02 | C15: Pritaikyti buvusius mokyklų pastatus gyventojų poreikiams (4.2.1.2.)
A16: 01 | B16: 03 | C16: Pagerinti fizines sąlygas rajono sveikatos priežiūros ir socialinių paslaugų įstaigose (4.2.1.3.)
A17: 01 | B17: 03 | E17: 01 | F17: 188718713 | G17: SB | L17: =SUM(+(H17*0.05)+H17) -> 0 | M17: =SUM(+(L17*0.05)+L17) -> 0 | N17: =SUM(H17+L17+M17) -> 0 | T17: Investicijų ir strateginio planavimo sk.
G18: Iš viso | H18: =SUM(H17) -> 0 | I18: =SUM(I17) -> 0 | J18: =SUM(J17) -> 0 | K18: =SUM(K17) -> 0 | L18: =SUM(L17) -> 0 | M18: =SUM(M17) -> 0 | N18: =SUM(N17) -> 0
A19: 01 | B19: 04 | C19: Užtikrinti tinkamas fizinias sąlygas Šalčininkų rajono savivaldybės padaliniuose (4.2.1.4.)
A20: 01 | B20: 04 | C20: 01 | D20: Savivaldybės pastato atnaujinimas (modernizavimas) | E20: 01 | F20: 188718713 | G20: SB | H20: 76.6 | L20: 0 | M20: =SUM(+(L20*0.05)+L20) -> 0 | N20: =SUM(H20+L20+M20) -> 76.6 | O20: Modernizuotas pastatas | P20: vnt. | Q20: 1 | R20: 0 | S20: 0
G21: Iš viso | H21: =SUM(H20) -> 76.6 | I21: =SUM(I20) -> 0 | J21: =SUM(J20) -> 0 | K21: =SUM(K20) -> 0 | L21: =SUM(L20) -> 0 | M21: =SUM(M20) -> 0 | N21: =SUM(N20) -> 76.6
A22: 01 | B22: 04 | C22: 02 | D22: Šalčininkų seniūnijos pastato atnaujinimas (modernizavimas) | E22: 01 | F22: 188718713 | G22: SB | H22: 21.5 | K22: 21.5 | L22: =SUM(+(H22*0.05)+H22) -> 22.575 | M22: =SUM(+(L22*0.05)+L22) -> 23.70375 | N22: =SUM(H22+L22+M22) -> 67.77875 | O22: Modernizuotas pastatas | P22: vnt. | Q22: 1 | R22: 1 | S22: 0 | T22: Investicijų ir strateginio planavimo sk.
G23: Iš viso | H23: =SUM(H22) -> 21.5 | I23: =SUM(I22) -> 0 | J23: =SUM(J22) -> 0 | K23: =SUM(K22) -> 21.5 | L23: =SUM(L22) -> 22.575 | M23: =SUM(M22) -> 23.70375 | N23: =SUM(N22) -> 67.77875
A24: 01 | B24: 04 | C24: 03 | D24: Eišiškių muzikos mokyklos atnaujinimas | E24: 01 | F24: 188718713 | G24: SB | H24: 0 | K24: 21.5 | L24: =SUM(+(H24*0.05)+H24) -> 0 | M24: =SUM(+(L24*0.05)+L24) -> 0 | N24: =SUM(H24+L24+M24) -> 0 | O24: Modernizuotas pastatas | P24: vnt. | Q24: 0 | R24: 1 | S24: 0 | T24: Investicijų ir strateginio planavimo sk.
G25: Iš viso | H25: =SUM(H24) -> 0 | I25: =SUM(I24) -> 0 | J25: =SUM(J24) -> 0 | K25: =SUM(K24) -> 21.5 | L25: =SUM(L24) -> 0 | M25: =SUM(M24) -> 0 | N25: =SUM(N24) -> 0
A26: 02 | B26: Užtikrinti tinkamas sąlygas lankyti rajono kultūros paveldo objektus ir bendruomenei, laisvalaikio leidimui skirtas įstaigas
A27: 02 | B27: 01 | C27: Modernizuoti kultūros ir laisvalaikio įstaigų patalpas (4.2.2.1.)
A28: 02 | B28: 02 | C28: Palankių sąlygų aktyviai sporto veiklai sudarymas (4.2.2.2.)
A29: 02 | B29: 03 | C29: Sudaryti palankesnes sąlygas gyventojams dalyvauti bendruomenių veikloje (4.2.2.3.)
A30: 02 | B30: 03 | C30: 04 | D30: Vilkiškių dvaro sodybos pritaikymas jaunimo reikmėms. II etapas | E30: 08 | F30: 188718713 | G30: ES | L30: 0 | M30: 0 | N30: =H30+L30+M30 -> 0
G31: D | L31: 0 | M31: 0 | N31: =H31+L31+M31 -> 0
G32: SB | L32: =+(H32*0.05)+H32 -> 0 | M32: =+H32*0.1+H32 -> 0 | N32: =H32+L32+M32 -> 0
G33: Iš viso | H33: =+H30+H31+H32 -> 0 | I33: =+I30+I31+I32 -> 0 | J33: =+J30+J31+J32 -> 0 | K33: =+K30+K31+K32 -> 0 | L33: =+L30+L31+L32 -> 0 | M33: =+M30+M31+M32 -> 0 | N33: =+N30+N31+N32 -> 0
A34: 02 | B34: 03 | C34: 06 | D34: Pastato-vėnuolyno, esančio Pilies g. 64 Norviliškių k., Dieveniškių sen. remontas | E34: 08 | F34: 188718713 | G34: SB | H34: 0 | I34: 100 | K34: 30 | L34: =SUM(+(H34*0.05)+H34) -> 0 | M34: =SUM(+(L34*0.05)+L34) -> 0 | N34: =SUM(H34+L34+M34) -> 0 | O34: Modernizuotas pastatas | P34: vnt. | Q34: 1 | R34: 1 | S34: 0 | T34: Investicijų ir strateginio planavimo sk.
G35: Iš viso | H35: =SUM(H34) -> 0 | I35: =SUM(I34) -> 100 | J35: =SUM(J34) -> 0 | K35: =SUM(K34) -> 30 | L35: =SUM(L34) -> 0 | M35: =SUM(M34) -> 0 | N35: =SUM(N34) -> 0
A36: Iš viso iš jų | H36: =+SUM(H37:H45) -> 167.4 | I36: =+SUM(I37:I45) -> #REF! | J36: =+SUM(J37:J45) -> #REF! | K36: =+SUM(K37:K45) -> #REF! | L36: =+SUM(L37:L45) -> 22.575 | M36: =+SUM(M37:M45) -> 23.70375 | N36: =+SUM(N37:N45) -> 208.47875
G37: SB | H37: =H33+H21+H23+H35+H18+H10+H13 -> 103.3 | I37: =+#REF!+#REF!+#REF!+#REF!+I32+#REF!+#REF!+#REF!+I21+I23+I35+I17 -> #REF! | J37: =+#REF!+#REF!+#REF!+#REF!+J32+#REF!+#REF!+#REF!+J21+J23+J35+J17 -> #REF! | K37: =+#REF!+#REF!+#REF!+#REF!+K32+#REF!+#REF!+#REF!+K21+K23+K35+K17 -> #REF! | L37: =L32+L21+L23+L35+L17 -> 22.575 | M37: =M32+M21+M23+M35+M17 -> 23.70375 | N37: =+N32+N21+N23+N35+N17 -> 144.37875
G38: SB(SP) | H38: 0 | I38: 0 | J38: 0 | K38: 0 | L38: 0 | M38: 0 | N38: 0
G39: VB(P) | H39: 0 | I39: =+#REF! -> #REF! | J39: =+#REF! -> #REF! | K39: =+#REF! -> #REF! | L39: 0 | M39: 0 | N39: 0
G40: SB(VB) | H40: 0 | I40: =+#REF! -> #REF! | J40: =+#REF! -> #REF! | K40: =+#REF! -> #REF! | L40: 0 | M40: 0 | N40: 0
G41: D | H41: =H9+H31 -> 5.2 | I41: =+#REF!+I9+#REF!+I31 -> #REF! | J41: =+#REF!+J9+#REF!+J31 -> #REF! | K41: =+#REF!+K9+#REF!+K31 -> #REF! | L41: 0 | M41: =M9+M31 -> 0 | N41: =N9+N31 -> 5.2
G42: P(FM) | H42: 0 | I42: 0 | J42: 0 | K42: 0 | L42: 0 | M42: 0 | N42: 0
G43: P(B) | H43: 0 | I43: 0 | J43: 0 | K43: 0 | L43: 0 | M43: 0 | N43: 0
G44: ES | H44: =+H8+H30 -> 58.9 | I44: =+#REF!+I8+#REF!+#REF!+I30 -> #REF! | J44: =+#REF!+J8+#REF!+#REF!+J30 -> #REF! | K44: =+#REF!+K8+#REF!+#REF!+K30 -> #REF! | L44: =L8+L30 -> 0 | M44: =+M8+M30 -> 0 | N44: =+N8+N30 -> 58.9
G45: Kitos | H45: 0 | I45: 0 | J45: 0 | K45: 0 | L45: 0 | M45: 0 | N45: 0

Sheet X Aplinkosauga
A2: Programos tikslo kodas | B2: Uždavinio kodas | C2: Priemonės kodas | D2: Priemonės pavadinimas | E2: Funkcinės klasifikacijos kodas | F2: Asignavimų valdytojo kodas | G2: Finansavimo šaltinis | H2: 2023 metų išlaidos | L2: 2024 metų išlaidų projektas | M2: 2025 metų išlaidų projektas | N2: Iš viso | O2: Matavimo rodiklis | T2: Atsakingas skyrius
H3: Iš viso | I3: Išlaidoms | Q3: Rodiklio reikšmės
I4: Iš viso | J4: Iš jų darbo užmokesčiui | K4: turtui įsigyti ir finansiniams įsipareigojimams vykdyti | O4: Rodiklio pavadinimas | P4: Matavimo vnt. | Q4: 2023 m. | R4: 2024 m. | S4: 2025 m.
A5: 10 Aplinkos apsaugos programa
A6: 01 | B6: Užtikrinti aplinkos apsaugai taikomų reikalavimų laikymąsi
A7: 01 | B7: 01 | C7: Gerinti aplinkos kokybę bei užtikrinti reikalavimų, taikomų saugomoms teritorijoms, laikymąsi (4.3.1.1.)
A8: 01 | B8: 01 | C8: 01 | D8: Aplinkos apsaugos rėmimo specialiosios programos rengimas ir įgyvendinimas | E8: 05 | F8: 188718713 | G8: SB | H8: 97 | L8: =H8*1.05 -> 101.85 | M8: =L8*1.05 -> 106.9425 | N8: =H8+L8+M8 -> 305.7925 | O8: Įgyvendintų programos priemonių skaičius | P8: vnt. | Q8: 4 | R8: 4 | S8: 5 | T8: Komunalinio ūkio sk.
O9: Gyventojų švietimo aplinkosaugos klausimais renginių, parengtų informacinių priemonių skaičius | P9: vnt. | Q9: 1 | R9: 1 | S9: 2
G10: Iš viso | H10: =+SUM(H8:H8) -> 97 | I10: =+SUM(I8:I8) -> 0 | J10: =+SUM(J8:J8) -> 0 | K10: =+SUM(K8:K8) -> 0 | L10: =+SUM(L8:L8) -> 101.85 | M10: =+SUM(M8:M8) -> 106.9425 | N10: =H10+L10+M10 -> 305.7925
A11: 01 | B11: 01 | C11: 02 | D11: Savivaldybės teritorijoje esančių želdynų, želdinių apsauga, tvarkymas ir kūrimas, inventorizacijos, apskaitos, atskirųjų želdynų žemės sklypų kadastrinių matavimų ir įrašymo į nekilnojaojo turto registrą organizavimas ir stebėsena | E11: 06 | F11: 188718713 | G11: SB | L11: =+(H11*0.05)+H11 -> 0 | M11: =+H11*0.1+H11 -> 0 | N11: =+H11+L11+M11 -> 0 | O11: Apželdinamų ir prižiūrimų gėlynų plotas | P11: m2 | Q11: 400 | R11: 400 | S11: 500 | T11: Komunalinio ūkio sk.
G12: Iš viso | H12: =+H11 -> 0 | I12: =+I11 -> 0 | J12: =+J11 -> 0 | K12: =+K11 -> 0 | L12: =+L11 -> 0 | M12: =+M11 -> 0 | N12: =SUM(H12,L12,M12) -> 0 | O12: Atsodinamų medžių skaičius | P12: vnt. | Q12: 50 | R12: 50 | S12: 50
A13: 01 | B13: 02 | C13: Gerinti gyvenamąją aplinką atstatant ekosistemas (4.3.1.2.)
A14: 01 | B14: 02 | C14: 02 | D14: Užterštų teritorijų tvarkymas | E14: 05, 06 | F14: 188718713 | G14: Kitos | L14: =+(H14*0.05)+H14 -> 0 | M14: =+H14*0.1+H14 -> 0 | N14: =H14+L14+M14 -> 0 | O14: Surinktų asbesto atliekų kiekis | P14: t. | Q14: 330 | R14: 0 | S14: 0 | T14: Komunalinio ūkio sk.
G15: ES | L15: =+(H15*0.05)+H15 -> 0 | M15: =+H15*0.1+H15 -> 0 | N15: =H15+L15+M15 -> 0
G16: SB | H16: 11.1 | L16: =H16*1.05 -> 11.655 | M16: =L16*1.05 -> 12.23775 | N16: =H16+L16+M16 -> 34.99275 | O16: Surinktų padangų atliekų kiekis | P16: t. | Q16: 50 | R16: 0 | S16: 0 | T16: Komunalinio ūkio sk.
G17: Iš viso | H17: =+H14+H15+H16 -> 11.1 | I17: =+I14+I15+I16 -> 0 | J17: =+J14+J15+J16 -> 0 | K17: =+K14+K15+K16 -> 0 | L17: =+L14+L15+L16 -> 11.655 | M17: =+M14+M15+M16 -> 12.23775 | N17: =+N14+N15+N16 -> 34.99275
A18: 01 | B18: 02 | C18: 03 | D18: Kraštovaizdžio formavimas prie Šalčininkų tvenkinio | E18: 08 | F18: 188718713 | G18: SB | H18: 7 | T18: Komunalinio ūkio sk.
G19: Iš viso | H19: =+H18 -> 7
A20: 01 | B20: 03 | C20: Įgyvendinti priemones, švvelninančias klimato kaitos poveikį (4.3.1.3.)
A21: 01 | B21: 03 | C21: 01 | D21: Žaliosios energetikos priemonių įgyvendinimas | E21: 05 | F21: 188718713 | G21: Kitos | N21: =H21+L21+M21 -> 0 | O21: Parengta dokumentacija/galimybių studija saulės parko statybai | P21: vnt. | Q21: 1 | R21: 0 | S21: 0 | T21: Investicijų ir strateginio planavimo sk.
G22: ES | N22: =H22+L22+M22 -> 0
G23: SB | N23: =H23+L23+M23 -> 0 | O23: Atsinaujinančių išteklių srityje pateiktų paraiškų skaičius | P23: vnt. | Q23: 5 | R23: 1 | S23: 1
G24: Iš viso | H24: =+H21+H22+H23 -> 0 | I24: =+I21+I22+I23 -> 0 | J24: =+J21+J22+J23 -> 0 | K24: =+K21+K22+K23 -> 0 | L24: =+L21+L22+L23 -> 0 | M24: =+M21+M22+M23 -> 0 | N24: =+N21+N22+N23 -> 0
A25: 01 | B25: 03 | C25: 02 | D25: Netaršaus transporto skatinimas | E25: 05 | F25: 188718713 | G25: SB | N25: =SUM(H25+L25+M25) -> 0 | O25: Įsigytų netarčių transporto priemonių skaičius | P25: vnt. | Q25: 1 | R25: 3 | S25: 5 | T25: Investicijų ir strateginio planavimo sk.
G26: Iš viso | H26: =SUM(H25) -> 0 | I26: =SUM(I25) -> 0 | J26: =SUM(J25) -> 0 | K26: =SUM(K25) -> 0 | L26: =SUM(L25) -> 0 | M26: =SUM(M25) -> 0 | N26: =SUM(N25) -> 0 | O26: Įrengtų el. krovimo stotelių skaičius | P26: vnt. | Q26: 1 | R26: 2 | S26: 5
A27: 01 | B27: 03 | C27: 03 | D27: Fotovoltinės elektrinės įrengimas l-d „Pasaka“ | E27: 09 | F27: 291408750 | G27: ES | H27: 27 | N27: =H27+L27+M27 -> 27 | O27: Įrengta fotovoltinė elektrinė | P27: vnt. | Q27: 1 | R27: 0 | S27: 0 | T27: Investicijų ir strateginio planavimo sk.
G28: SB | H28: 13 | N28: =H28+L28+M28 -> 13
G29: Iš viso | H29: =SUM(H27:H28) -> 40 | N29: =SUM(N27:N28) -> 40
A30: 01 | B30: 03 | C30: 04 | D30: Fotovoltinės elektrinės įrengimas „Santarvės“ gimnazijoje | E30: 09 | F30: 191415943 | G30: ES | H30: 36 | N30: =H30+L30+M30 -> 36 | O30: Įrengta fotovoltinė elektrinė | P30: vnt. | Q30: 1 | R30: 0 | S30: 0 | T30: Investicijų ir strateginio planavimo sk.
G31: SB | H31: 17 | N31: =H31+L31+M31 -> 17
G32: Iš viso | H32: =SUM(H31) -> 17 | I32: =SUM(I31) -> 0 | J32: =SUM(J31) -> 0 | K32: =SUM(K31) -> 0 | L32: =SUM(L31) -> 0 | M32: =SUM(M31) -> 0 | N32: =SUM(N31) -> 17
A33: 01 | B33: 03 | C33: 05 | D33: Fotovoltinės elektrinės įrengimas Šalčininkų Sniadeckio gimnazijoje | E33: 09 | F33: 191415758 | G33: ES | H33: 96 | N33: =H33+L33+M33 -> 96 | O33: Įrengta fotovoltinė elektrinė | P33: vnt. | Q33: 1 | R33: 0 | S33: 0 | T33: Investicijų ir strateginio planavimo sk.
G34: SB | H34: 21 | N34: =H34+L34+M34 -> 21
G35: Iš viso | H35: =SUM(H34) -> 21 | I35: =SUM(I34) -> 0 | J35: =SUM(J34) -> 0 | K35: =SUM(K34) -> 0 | L35: =SUM(L34) -> 0 | M35: =SUM(M34) -> 0 | N35: =SUM(N34) -> 21
A36: 01 | B36: 03 | C36: 06 | D36: 10 kW galios Saulės fotovoltinės elektrinės įrengimas ant Eišiškių A. Ratkevičiaus sporto mokyklos pastato stogo | E36: 09 | F36: 191417570 | G36: ES | H36: 7.9 | N36: =H36+L36+M36 -> 7.9 | O36: Įrengta fotovoltinė elektrinė | P36: vnt. | Q36: 1 | R36: 0 | S36: 0 | T36: Investicijų ir strateginio planavimo sk.
G37: SB | H37: 4 | N37: =H37+L37+M37 -> 4
G38: Iš viso | H38: =SUM(H37) -> 4 | I38: =SUM(I37) -> 0 | J38: =SUM(J37) -> 0 | K38: =SUM(K37) -> 0 | L38: =SUM(L37) -> 0 | M38: =SUM(M37) -> 0 | N38: =SUM(N37) -> 4
A39: Iš viso iš jų | H39: =+SUM(H40:H47) -> 337 | I39: =+SUM(I40:I47) -> #REF! | J39: =+SUM(J40:J47) -> #REF! | K39: =+SUM(K40:K47) -> #REF! | L39: =+SUM(L40:L47) -> 113.505 | M39: =+SUM(M40:M47) -> 119.18025 | N39: =+SUM(N40:N47) -> 562.68525
G40: SB | H40: =+H8+H16+H34+H23+H25+H31+H28+H37+H18 -> 170.1 | I40: =+I8+I16+#REF!+I33+I23+I25 -> #REF! | J40: =+J8+J16+#REF!+J33+J23+J25 -> #REF! | K40: =+K8+K16+#REF!+K33+K23+K25 -> #REF! | L40: =+L8+L16+L34+L23+L25 -> 113.505 | M40: =+M8+M16+M34+M23+M25+M31+M28 -> 119.18025 | N40: =+N8+N16+N34+N23+N25+N31+N28+N37 -> 395.78525
G41: SB(SP) | H41: 0 | I41: 0 | J41: 0 | K41: 0 | L41: 0 | M41: 0 | N41: 0
G42: VB(P) | H42: 0 | I42: 0 | J42: 0 | K42: 0 | L42: 0 | M42: 0 | N42: 0
G43: ES | H43: =+H15+H22+H33+H30+H27+H36 -> 166.9 | I43: =+I15+I22 -> 0 | J43: =+J15+J22 -> 0 | K43: =+K15+K22 -> 0 | L43: =+L15+L22 -> 0 | M43: =+M15+M22 -> 0 | N43: =N15+N22+N27+N30+N33+N36 -> 166.9
G44: P(FM) | H44: 0 | I44: 0 | J44: 0 | K44: 0 | L44: 0 | M44: 0 | N44: 0
G45: SB(VB) | H45: 0 | I45: 0 | J45: 0 | K45: 0 | L45: 0 | M45: 0 | N45: 0
G46: P(B) | H46: 0 | I46: 0 | J46: 0 | K46: 0 | L46: 0 | M46: 0 | N46: 0
G47: Kitos | H47: =+H14+H21 -> 0 | I47: =+I14+I21 -> 0 | J47: =+J14+J21 -> 0 | K47: =+K14+K21 -> 0 | L47: =+L14+L21 -> 0 | M47: =+M14+M21 -> 0 | N47: =+N14+N21 -> 0

Sheet XI laisvalaikis
A2: Programos tikslo kodas | B2: Uždavinio kodas | C2: Priemonės kodas | D2: Priemonės pavadinimas | E2: Funkcinės klasifikacijos kodas | F2: Asignavimų valdytojo kodas | G2: Finansavimo šaltinis | H2: 2023 metų išlaidos | L2: 2024 metų išlaidų projektas | M2: 2025 metų išlaidų projektas | N2: Iš viso | O2: Matavimo rodiklis | T2: Atsakingas skyrius
H3: Iš viso | I3: Išlaidoms | Q3: Rodiklio reikšmės
I4: Iš viso | J4: Iš jų darbo užmokesčiui | K4: turtui įsigyti ir finansiniams įsipareigojimams vykdyti | O4: Rodiklio pavadinimas | P4: Matavimo vnt. | Q4: 2023 m. | R4: 2024 m. | S4: 2025 m.
A5: 11 Turiningo laisvalaikio skatinimo programa
A6: 01 | B6: Kokybiško gyventojų užimtumo ir laisvalaikio praleidimo organizavimas
A7: 01 | B7: 01 | C7: Laisvalaikio renginių įvairiapusiškumo didinimas (2.5.1.1.)
A8: 01 | B8: 01 | C8: 01 | D8: Laisvalaikio renginių įvairioms gyventojų amžiaus grupėms pasiūlos gerinimas | E8: 08 | F8: 188718713 | G8: SB | H8: 502.4 | L8: =H8*1.05 -> 527.52 | M8: =L8*1.05 -> 553.896 | N8: =H8+L8+M8 -> 1583.816 | O8: Renginių skirtų senyvo amžiaus žmonėms skaičius | P8: vnt. | Q8: 3 | R8: 3 | S8: 3 | T8: Švietimo ir sporto sk.
G9: SB(VB) | O9: Renginių skirtų įvairaus amžiaus žmonėms skaičius | P9: vnt. | Q9: 20 | R9: 20 | S9: 20
G10: Iš viso | H10: =+H8+H9 -> 502.4 | I10: =+I8+I9 -> 0 | J10: =+J8+J9 -> 0 | K10: =+K8+K9 -> 0 | L10: =+L8+L9 -> 527.52 | M10: =+M8+M9 -> 553.896 | N10: =+N8+N9 -> 1583.816
A13: 01 | B13: 01 | C13: 02 | D13: Kūno kultūros ir sporto plėtojimas, gyventojų poilsio organizavimas | E13: 08 | F13: 188718713 | G13: SB | H13: 194 | L13: =H13*1.05 -> 203.7 | M13: =L13*1.05 -> 213.885 | N13: =H13+L13+M13 -> 611.585 | O13: Organizacijų pateiktų paraiškų skaičius | P13: vnt. | Q13: 15 | R13: 15 | S13: 20 | T13: Švietimo ir sporto sk.
G14: SB(SP) | H14: 1 | L14: =H14*1.05 -> 1.05 | M14: =L14*1.05 -> 1.1025 | N14: =H14+L14+M14 -> 3.1525
G15: Iš viso | H15: =+H13+H14 -> 195 | I15: =+I13 -> 0 | J15: =+J13 -> 0 | K15: =+K13 -> 0 | L15: =+L13+L14 -> 204.75 | M15: =+M13+M14 -> 214.9875 | N15: =+N13+N14 -> 614.7375 | O15: Surengtų sporto renginių skaičius | P15: vnt. | Q15: 20 | R15: 20 | S15: 20
A16: 01 | B16: 01 | C16: 04 | D16: Religinių bendrijų rėmimas | E16: 08 | F16: 188718713 | G16: SB | H16: 25 | L16: =H16*1.05 -> 26.25 | M16: =L16*1.05 -> 27.5625 | N16: =H16+L16+M16 -> 78.8125 | O16: Remiamų religinių bendrijų skaičius | P16: vnt. | Q16: 8 | R16: 8 | S16: 8 | T16: Apskaitos skyrius
G17: Iš viso | H17: =+H16 -> 25 | I17: =+I16 -> 0 | J17: =+J16 -> 0 | K17: =+K16 -> 0 | L17: =+L16 -> 26.25 | M17: =+M16 -> 27.5625 | N17: =+N16 -> 78.8125
A18: 01 | B18: 01 | C18: 06 | D18: Nevyriausybinių organizacijų rėmimo programos įgyvendinimas | E18: 08 | F18: 188718713 | G18: SB | H18: 35 | L18: =H18*1.05 -> 36.75 | M18: =L18*1.05 -> 38.5875 | N18: =H18+L18+M18 -> 110.3375 | O18: Paramą gavusių projektų skaičius | P18: vnt. | Q18: 27 | R18: 27 | S18: 27 | T18: Apskaitos skyrius
G19: Iš viso | H19: =+H18 -> 35 | I19: =+I18 -> 0 | J19: =+J18 -> 0 | K19: =+K18 -> 0 | L19: =+L18 -> 36.75 | M19: =+M18 -> 38.5875 | N19: =+N18 -> 110.3375
A20: 01 | B20: 02 | C20: Jaunimo aktyvumą didinančių priemonių įgyvendinimas(2.5.1.2.)
A21: 01 | B21: 02 | G21: SB | J21: 75.1 | L21: =+(H21*0.05)+H21 -> 0 | M21: =+H21*0.1+H21 -> 0 | N21: =H21+L21+M21 -> 0
G22: Iš viso | H22: =+H21 -> 0 | I22: =+I21 -> 0 | J22: =+J21 -> 75.1 | K22: =+K21 -> 0 | L22: =+L21 -> 0 | M22: =+M21 -> 0 | N22: =+N21 -> 0
A23: 02 | B23: Laisvalaikio įstaigų veiklos ir infrastruktūros priežiūra ir plėtra
A24: 02 | B24: 01 | C24: Laisvalaikio įstaigų priežiūra (2.5.2.1.)
A25: 02 | B25: 01 | C25: 01 | D25: Paslaugų teikimas kultūros centre ir jo išlaikymas bei priežiūra | E25: 08 | F25: 188212349 | G25: SB | H25: 1215 | L25: =H25*1.05 -> 1275.75 | M25: =L25*1.05 -> 1339.5375 | N25: =H25+L25+M25 -> 3830.2875 | O25: Kultūros centre dirbančių darbuotojų skaičius | P25: ams. | Q25: 66 | R25: 66 | S25: 66 | T25: Kultūros centras
G26: SB(VB)
G27: Iš viso | H27: =+H25+H26 -> 1215 | I27: =+I25+I26 -> 0 | J27: =+J25+J26 -> 0 | K27: =+K25+K26 -> 0 | L27: =+L25+L26 -> 1275.75 | M27: =+M25+M26 -> 1339.5375 | N27: =+N25+N26 -> 3830.2875
G28: SB(SP) | H28: 12 | L28: =H28*1.05 -> 12.6 | M28: =L28*1.05 -> 13.23 | N28: =H28+L28+M28 -> 37.83 | O28: Kultūros centro eksplotuojamų patalpų plotas | P28: m2 | Q28: 1000 | R28: 1000 | S28: 1000
G29: Iš viso | H29: =+H28 -> 12 | I29: =+I28 -> 0 | J29: =+J28 -> 0 | K29: =+K28 -> 0 | L29: =+L28 -> 12.6 | M29: =+M28 -> 13.23 | N29: =+N28 -> 37.83
A30: 02 | B30: 01 | C30: 02 | D30: Paslaugų teikimas viešojoje bibliotekoje ir jos išlaikymas bei priežiūra | E30: 08 | F30: 188212153 | G30: SB | H30: 803.7 | L30: =H30*1.05 -> 843.885 | M30: =L30*1.05 -> 886.07925 | N30: =H30+L30+M30 -> 2533.6643 | O30: Bibliotekoje dirbančių darbuotojų skaičius | P30: ams. | Q30: 50 | R30: 50 | S30: 50 | T30: Viešoji biblioteka
G31: SB(VB) | H31: 35.3 | L31: =H31*1.05 -> 37.065 | M31: =L31*1.05 -> 38.91825 | N31: =H31+L31+M31 -> 111.28325
G32: Iš viso | H32: =+H30+H31 -> 839 | I32: =+I30+I31 -> 0 | J32: =+J30+J31 -> 0 | K32: =+K30+K31 -> 0 | L32: =+L30+L31 -> 880.95 | M32: =+M30+M31 -> 924.9975 | N32: =+N30 -> 2533.6643
G33: SB(SP) | H33: 1 | L33: =H33*1.05 -> 1.05 | M33: =L33*1.05 -> 1.1025 | N33: =H33+L33+M33 -> 3.1525 | O33: Bibliotekos eksplotuojamų patalpų plotas | P33: m2 | Q33: 7000 | R33: 7 | S33: 7000
G34: Iš viso | H34: =+H33 -> 1 | I34: =+I33 -> 0 | J34: =+J33 -> 0 | K34: =+K33 -> 0 | L34: =+L33 -> 1.05 | M34: =+M33 -> 1.1025 | N34: =+N33 -> 3.1525
A35: 02 | B35: 01 | C35: 03 | D35: Ilgalaikio turto nuomos kultūros centrui kompensavimas | E35: 08 | F35: 188212349 | G35: SB(SP) | H35: 5 | L35: =H35*1.05 -> 5.25 | M35: =L35*1.05 -> 5.5125 | N35: =H35+L35+M35 -> 15.7625 | O35: Nuomuojamų patalpų plotas | P35: m2 | Q35: 11000 | R35: 11000 | S35: 12000 | T35: Kultūros centras
G36: iš viso | H36: =+H35 -> 5 | I36: =+I35 -> 0 | J36: =+J35 -> 0 | K36: =+K35 -> 0 | L36: =+L35 -> 5.25 | M36: =+M35 -> 5.5125 | N36: =+N35 -> 15.7625
A37: Iš viso iš jų | H37: =+SUM(H38:H46) -> 2829.4 | I37: =+SUM(I38:I46) -> 0 | J37: =+SUM(J38:J46) -> 0 | K37: =+SUM(K38:K46) -> 0 | L37: =+SUM(L38:L46) -> 2970.87 | M37: =+SUM(M38:M46) -> 3119.4135 | N37: =+SUM(N38:N46) -> 8919.6835
G38: SB | H38: =+H13+H16+H18+H25+H30+H8 -> 2775.1 | I38: =+I13+I16+I18+I25+I30+I8 -> 0 | J38: =+J13+J16+J18+J25+J30+J8 -> 0 | K38: =+K13+K16+K18+K25+K30+K8 -> 0 | L38: =+L13+L16+L18+L25+L30+L8 -> 2913.855 | M38: =+M13+M16+M18+M25+M30+M8 -> 3059.5478 | N38: =+N13+N16+N18+N25+N30+N8 -> 8748.5028
G39: SB(SP) | H39: =+H28+H33+H35+H14 -> 19 | I39: =+I28+I33+I35 -> 0 | J39: =+J28+J33+J35 -> 0 | K39: =+K28+K33+K35 -> 0 | L39: =+L28+L33+L35+L14 -> 19.95 | M39: =+M28+M33+M35+M14 -> 20.9475 | N39: =+N28+N33+N35+N14 -> 59.8975
G40: SB(VB) | H40: =+H26+H31+H9 -> 35.3 | I40: =+I26+I31+I9 -> 0 | J40: =+J26+J31+J9 -> 0 | K40: =+K26+K31+K9 -> 0 | L40: =+L26+L31+L9 -> 37.065 | M40: =+M26+M31+M9 -> 38.91825 | N40: =+N26+N31+N9 -> 111.28325
G41: VB(P) | H41: 0 | I41: 0 | J41: 0 | K41: 0 | L41: 0 | M41: 0 | N41: 0
G42: D | H42: 0 | I42: 0 | J42: 0 | K42: 0 | L42: 0 | M42: 0 | N42: 0
G43: P(FM) | H43: 0 | I43: 0 | J43: 0 | K43: 0 | L43: 0 | M43: 0 | N43: 0
G44: P(B) | H44: 0 | I44: 0 | J44: 0 | K44: 0 | L44: 0 | M44: 0 | N44: 0
G45: ES | H45: 0 | I45: 0 | J45: 0 | K45: 0 | L45: 0 | M45: 0 | N45: 0
G46: Kitos | H46: 0 | I46: 0 | J46: 0 | K46: 0 | L46: 0 | M46: 0 | N46: 0
