Workbook

Sheet bendros sumos
C1: PATVIRTINTA
C3: Šalčininkų rajono savivaldybės tarybos
C4: 2023 m. vasario d. sprendimu Nr. PR-(1.2E)-1303
E5: tūkst. Eur
C6: 2022 | D6: 2023 | E6: 2024
B7: Savivaldybės biudžeto lėšos SB | C7: =+I_savivalda!H105+'II švietimas'!H58+'III sveikata'!H32+'IV socialinė'!H114+'V Saugumas'!H20+'VI Verslas Turizmas'!H33+'VII Žemės ūkis'!H26+'VIII Infrastruktūra'!H66+'IX Renovacijos'!H37+'X Aplinkosauga'!H40+'XI laisvalaikis'!H38 -> 32811.1 | D7: =+I_savivalda!L105+'II švietimas'!L58+'III sveikata'!L32+'IV socialinė'!L114+'V Saugumas'!L20+'VI Verslas Turizmas'!L33+'VII Žemės ūkis'!L26+'VIII Infrastruktūra'!L66+'IX Renovacijos'!L37+'X Aplinkosauga'!L40+'XI laisvalaikis'!L38 -> 34283.13 | E7: =I_savivalda!M105+'II švietimas'!M58+'III sveikata'!N32+'IV socialinė'!N114+'V Saugumas'!N20+'VI Verslas Turizmas'!M33+'VII Žemės ūkis'!M26+'VIII Infrastruktūra'!M66+'IX Renovacijos'!M37+'X Aplinkosauga'!M40+'XI laisvalaikis'!M38 -> 52282.486
B8: Valstybės biudžeto specialiosios tikslinės dotacijos lėšos SB (VB) | C8: =+I_savivalda!H107+'II švietimas'!H60+'III sveikata'!H33+'IV socialinė'!H116+'V Saugumas'!H21+'VI Verslas Turizmas'!H35+'VII Žemės ūkis'!H27+'VIII Infrastruktūra'!H67+'IX Renovacijos'!H40+'X Aplinkosauga'!H45+'XI laisvalaikis'!H40 -> 18988.3 | D8: =+I_savivalda!L107+'II švietimas'!L60+'III sveikata'!L33+'IV socialinė'!L116+'V Saugumas'!L21+'VI Verslas Turizmas'!L35+'VII Žemės ūkis'!L27+'VIII Infrastruktūra'!L67+'IX Renovacijos'!L40+'X Aplinkosauga'!L45+'XI laisvalaikis'!L40 -> 19937.715 | E8: =+I_savivalda!M107+'II švietimas'!M60+'III sveikata'!M33+'IV socialinė'!M116+'V Saugumas'!M21+'VI Verslas Turizmas'!M35+'VII Žemės ūkis'!M27+'VIII Infrastruktūra'!M67+'IX Renovacijos'!M40+'X Aplinkosauga'!M45+'XI laisvalaikis'!M40 -> 20934.601
B9: Savivaldybės biudžeto lėšos specialios programosSB (SP) | C9: =+I_savivalda!H106+'II švietimas'!H59+'III sveikata'!H35+'IV socialinė'!H115+'V Saugumas'!H22+'VI Verslas Turizmas'!H34+'VII Žemės ūkis'!H28+'VIII Infrastruktūra'!H68+'IX Renovacijos'!H38+'X Aplinkosauga'!H41+'XI laisvalaikis'!H39 -> 693 | D9: =+I_savivalda!L106+'II švietimas'!L59+'III sveikata'!L35+'IV socialinė'!L115+'V Saugumas'!L22+'VI Verslas Turizmas'!L34+'VII Žemės ūkis'!L28+'VIII Infrastruktūra'!L68+'IX Renovacijos'!L38+'X Aplinkosauga'!L41+'XI laisvalaikis'!L39 -> 727.65 | E9: =+I_savivalda!M106+'II švietimas'!M59+'III sveikata'!M35+'IV socialinė'!M115+'V Saugumas'!M22+'VI Verslas Turizmas'!M34+'VII Žemės ūkis'!M28+'VIII Infrastruktūra'!M68+'IX Renovacijos'!M38+'X Aplinkosauga'!M41+'XI laisvalaikis'!M39 -> 764.0325
B10: Europos Sąjungos paramos lėšos ES | C10: =+I_savivalda!H111+'II švietimas'!H64+'IV socialinė'!H121+'V Saugumas'!H26+'VI Verslas Turizmas'!H40+'VIII Infrastruktūra'!H72+'IX Renovacijos'!H44+'X Aplinkosauga'!H43+'XI laisvalaikis'!H45 -> 1192.26 | D10: =+I_savivalda!L111+'VIII Infrastruktūra'!L72+'II švietimas'!L64+'IV socialinė'!L121+'V Saugumas'!L26+'VI Verslas Turizmas'!L40+'VII Žemės ūkis'!L32+'IX Renovacijos'!L44+'X Aplinkosauga'!L43+'XI laisvalaikis'!L45 -> 400 | E10: =+I_savivalda!M111+'II švietimas'!M64+'IV socialinė'!M121+'V Saugumas'!M26+'VI Verslas Turizmas'!M40+'VII Žemės ūkis'!M32+'VIII Infrastruktūra'!M72+'IX Renovacijos'!M44+'X Aplinkosauga'!M43+'XI laisvalaikis'!M45 -> 0
B11: Valstybės biudžeto lėšos VB(P) | C11: =+I_savivalda!H108+'IV socialinė'!H117+'V Saugumas'!H23+'VI Verslas Turizmas'!H36+'VII Žemės ūkis'!H29+'IX Renovacijos'!H39+'X Aplinkosauga'!H42+'XI laisvalaikis'!H41 -> 10279.4 | D11: =+I_savivalda!L108+'IV socialinė'!L117+'V Saugumas'!L23+'VI Verslas Turizmas'!L36+'VII Žemės ūkis'!L29+'IX Renovacijos'!L39+'X Aplinkosauga'!L42+'XI laisvalaikis'!L41 -> 0 | E11: =+I_savivalda!M108+'IV socialinė'!M117+'V Saugumas'!M23+'VI Verslas Turizmas'!M36+'VII Žemės ūkis'!M29+'IX Renovacijos'!M39+'X Aplinkosauga'!M42+'XI laisvalaikis'!M41 -> 0
B12: Dotacijos | C12: =+I_savivalda!H112+'III sveikata'!H37+'IV socialinė'!H118+'VI Verslas Turizmas'!H37+'VIII Infrastruktūra'!H69+'IX Renovacijos'!H41+'XI laisvalaikis'!H42 -> 1010.74 | D12: =+I_savivalda!L112+'III sveikata'!L37+'IV socialinė'!L118+'VI Verslas Turizmas'!L37+'VIII Infrastruktūra'!L69+'IX Renovacijos'!L41+'XI laisvalaikis'!L42 -> 38 | E12: =+I_savivalda!M112+'III sveikata'!M37+'IV socialinė'!M118+'VI Verslas Turizmas'!M37+'VIII Infrastruktūra'!M69+'IX Renovacijos'!M41+'XI laisvalaikis'!M42 -> 0
B13: Kiti finansavimo šaltiniai Kitos | C13: =+I_savivalda!H110+'II švietimas'!H65+'III sveikata'!H36+'IV socialinė'!H122+'V Saugumas'!H27+'VI Verslas Turizmas'!H41+'VII Žemės ūkis'!H33+'VIII Infrastruktūra'!H73+'IX Renovacijos'!H45+'X Aplinkosauga'!H47 -> 0 | D13: =I_savivalda!L110+'II švietimas'!L65+'III sveikata'!L36+'IV socialinė'!L122+'V Saugumas'!L27+'VI Verslas Turizmas'!L41+'VII Žemės ūkis'!L33+'VIII Infrastruktūra'!L73+'IX Renovacijos'!L45+'X Aplinkosauga'!L47+'XI laisvalaikis'!L46 -> 0 | E13: =I_savivalda!M110+'II švietimas'!M65+'III sveikata'!M36+'IV socialinė'!M122+'V Saugumas'!M27+'VI Verslas Turizmas'!M41+'VII Žemės ūkis'!M33+'VIII Infrastruktūra'!M73+'IX Renovacijos'!M45+'X Aplinkosauga'!M47+'XI laisvalaikis'!M46 -> 0
C15: =+C7+C8+C9 -> 52492.4 | D15: =+D7+D8+D9 -> 54948.495 | E15: =+E7+E8+E9 -> 73981.12 | F15: Biudžetas
C16: =+C10+C11+C12+C13 -> 12482.4 | D16: =+D10+D11+D12+D13 -> 438 | E16: =+E10+E11+E12+E13 -> 0 | F16: Dotacijos ir projektai
C17: =+C15+C16 -> 64974.8 | D17: =+D15+D16 -> 55386.495 | E17: =+E15+E16 -> 73981.12 | F17: bendras

Sheet I_savivalda
A2: Programos tikslo kodas | B2: Uždavinio kodas | C2: Priemonės kodas | D2: Priemonės pavadinimas | E2: Funkcinės klasifikacijos kodas | F2: Asignavimų valdytojo kodas | G2: Finansavimo šaltinis | H2: 2023 metų išlaidos | L2: 2024 metų išlaidų projektas | M2: 2025 metų išlaidų projektas | N2: Iš viso | O2: Matavimo rodiklis | T2: Atsakingas skyrius
H3: Iš viso | I3: Išlaidoms | Q3: Rodiklio reikšmės
I4: Iš viso | J4: Iš jų darbo užmokesčiui | K4: turtui įsigyti ir finansiniams įsipareigojimams vykdyti | O4: Rodiklio pavadinimas | P4: Matavimo vnt. | Q4: 2023 m. | R4: 2024 m. | S4: 2025 m.
A5: 01 Viešojo administravimo institucijų ir įstaigų vidaus administravimo tobulinimo programa
A6: 01 | B6: Efektyviai organizuoti savivaldybės darbą, tinkamai įgyvendinti jos funkcijas
A7: 01 | B7: 01 | C7: Savarankiškųjų savivaldybės funkcijų vykdymas (1.1.1.1.)
A8: 01 | B8: 01 | C8: 01 | D8: Tarybos darbo organizavimas | E8: 01 | F8: 188718713 | G8: SB | H8: 120 | L8: =H8*1.05 -> 126 | M8: =L8*1.05 -> 132.3 | N8: =H8+L8+M8 -> 378.3 | O8: Vidutinis mėnesinis darbuotojo darbo užmokestis | P8: Eur./mėn. | Q8: 286 | R8: 286 | S8: 286 | T8: Bendrasis sk.
G9: Iš viso | H9: =H8 -> 120 | I9: =I8 -> 0 | J9: =J8 -> 0 | K9: =K8 -> 0 | L9: =L8 -> 126 | M9: =M8 -> 132.3 | N9: =H9+L9+M9 -> 378.3 | O9: Savivaldybės tarybos narių skaičius | P9: asm. | Q9: 25 | R9: 25 | S9: 25
A10: 01 | B10: 01 | C10: 02 | D10: Savivaldybės administracijos darbo organizavimas | E10: 01 | F10: 188718713 | G10: SB | H10: 4920.2 | L10: =H10*1.05 -> 5166.21 | M10: =L10*1.05 -> 5424.5205 | N10: =H10+L10+M10 -> 15510.931 | O10: Vidutinis mėnesinis darbuotojo darbo užmokestis | P10: Eur./mėn. | Q10: 2570 | R10: 2570 | S10: 2570 | T10: Juridinio ir personalo skyrius
G11: Iš viso | H11: =H10 -> 4920.2 | I11: =I10 -> 0 | J11: =J10 -> 0 | K11: =K10 -> 0 | L11: =L10 -> 5166.21 | M11: =M10 -> 5424.5205 | N11: =H11+L11+M11 -> 15510.931 | O11: Savivaldybės administracijoje užimtų pareigybių skaičius (sausio 01 d.) | P11: asm. | Q11: 139 | R11: 139 | S11: 139
A12: 01 | B12: 01 | C12: 03 | D12: Seniūnijų darbo organizavimas | E12: 01 | F12: 188718713 | G12: SB | H12: 264.4 | L12: =H12*1.05 -> 277.62 | M12: =L12*1.05 -> 291.501 | N12: =H12+L12+M12 -> 833.521 | O12: Vidutinis mėnesinis darbuotojo darbo užmokestis | P12: Eur./mėn. | Q12: 1508 | R12: 1508 | S12: 1508 | T12: juridinis ir personalo skyrius
G13: Iš viso | H13: =H12 -> 264.4 | I13: =I12 -> 0 | J13: =J12 -> 0 | K13: =K12 -> 0 | L13: =L12 -> 277.62 | M13: =M12 -> 291.501 | N13: =H13+L13+M13 -> 833.521
G14: SB(SP) | N14: =SUM(H14+M14) -> 0 | O14: Seniūnijose užimtų pareigybių skaičius (sausio 01 d.) | P14: asm. | Q14: 141 | R14: 141 | S14: 141
G15: Iš viso | H15: =H14 -> 0 | I15: =I14 -> 0 | J15: =J14 -> 0 | K15: =K14 -> 0 | L15: =L14 -> 0 | M15: =M14 -> 0 | N15: =SUM(N14) -> 0
A16: 01 | B16: 01 | C16: 04 | D16: Kontrolės ir audito tarnybos darbo organizavimas | E16: 01 | F16: 188675429 | G16: SB | H16: 118.5 | L16: =H16*1.05 -> 124.425 | M16: =L16*1.05 -> 130.64625 | N16: =H16+L16+M16 -> 373.57125 | O16: Vidutinis mėnesinis darbuotojo darbo užmokestis | P16: Eur./mėn. | Q16: 3068 | R16: 3068 | S16: 3068 | T16: juridinio ir personalo skyrius
G17: Iš viso | H17: =H16 -> 118.5 | I17: =I16 -> 0 | J17: =J16 -> 0 | K17: =K16 -> 0 | L17: =L16 -> 124.425 | M17: =M16 -> 130.64625 | N17: =H17+L17+M17 -> 373.57125 | O17: Komntrolės ir audito tarnyboje užimtų pareigybių skaičius (sausio 01 d.) | P17: asm. | Q17: 3 | R17: 3 | S17: 3
A18: 01 | B18: 01 | C18: 07 | D18: Ilgalaikio turto nuomos išlaidų kompensavimas | E18: 01 | F18: 188718713 | G18: SB(SP) | H18: 40 | L18: =H18*1.05 -> 42 | M18: =L18*1.05 -> 44.1 | N18: =H18+L18+M18 -> 126.1 | O18: Nuomuojamų ilgalaikio turto objektų skaičius | P18: vnt. | Q18: 63 | R18: 63 | S18: 63 | T18: Turto valdymo sk.
G19: Iš viso | H19: =H18 -> 40 | I19: =I18 -> 0 | J19: =J18 -> 0 | K19: =K18 -> 0 | L19: =L18 -> 42 | M19: =M18 -> 44.1 | N19: =H19+L19+M19 -> 126.1 | O19: Nuomuojamų ilgalaikio turto patalpų plotas | P19: m2 | Q19: 4247.33 | R19: 4247.33 | S19: 4247.33
A20: 01 | B20: 01 | C20: 08 | D20: Savivaldybės nuosavybėn priskirto ir perduodamo turto techninės inventarizacijos atlikimas arba patikslinimas | E20: 01 | F20: 188718713 | G20: SB | H20: 20 | L20: =H20*1.05 -> 21 | M20: =L20*1.05 -> 22.05 | N20: =H20+L20+M20 -> 63.05 | O20: Atliktų turto, žemės sklypų techninės inventorizacijos ir patikslinimų skaičius | P20: vnt. | Q20: 0 | R20: 0 | S20: 0 | T20: Komūnalinio ūkio sk.
G21: Iš viso | H21: =H20 -> 20 | I21: =I20 -> 0 | J21: =J20 -> 0 | K21: =K20 -> 0 | L21: =L20 -> 21 | M21: =M20 -> 22.05 | N21: =H21+L21+M21 -> 63.05
A22: 01 | B22: 01 | C22: 10 | D22: Administracijos direktoriaus rezervas | E22: 01 | F22: 188718713 | G22: SB | H22: 84 | L22: =H22*1.05 -> 88.2 | M22: =L22*1.05 -> 92.61 | N22: =H22+L22+M22 -> 264.81 | O22: Panaudota rezervo lėšų dalis | P22: proc. | Q22: 50 | R22: 50 | S22: 50 | T22: Apskaitos skyrius
G23: Iš viso | H23: =H22 -> 84 | I23: =I22 -> 0 | J23: =J22 -> 0 | K23: =K22 -> 0 | L23: =L22 -> 88.2 | M23: =M22 -> 92.61 | N23: =H23+L23+M23 -> 264.81
A24: 01 | B24: 01 | C24: 11 | D24: Reprezentacijos išlaidos | E24: 01 | F24: 188718713 | G24: SB | H24: 60 | L24: =H24*1.05 -> 63 | M24: =L24*1.05 -> 66.15 | N24: =H24+L24+M24 -> 189.15 | O24: Priimtų užsienio delegacijų skaičius | P24: vnt. | Q24: 40 | R24: 40 | S24: 40 | T24: Informacijos, kultūros ir turizmo skyrius
G25: Iš viso | H25: =H24 -> 60 | I25: =I24 -> 0 | J25: =J24 -> 0 | K25: =K24 -> 0 | L25: =L24 -> 63 | M25: =M24 -> 66.15 | N25: =H25+L25+M25 -> 189.15 | O25: Su savivadybės atributika parengtų viešinimo priemonių skaičius | P25: vnt. | Q25: 50 | R25: 50 | S25: 50
A26: 01 | B26: 01 | C26: 12 | D26: Jaunimo programų įgyvendinimas | E26: 01 | F26: 188718713 | G26: SB | H26: 37 | L26: =H26*1.05 -> 38.85 | M26: =L26*1.05 -> 40.7925 | N26: =H26+L26+M26 -> 116.6425 | O26: Paramą gavusių projektų skaičius | P26: vnt. | Q26: 17 | R26: 17 | S26: 17 | T26: Jaunimo koordinatorius
G27: Iš viso | H27: =H26 -> 37 | I27: =I26 -> 0 | J27: =J26 -> 0 | K27: =K26 -> 0 | L27: =L26 -> 38.85 | M27: =M26 -> 40.7925 | N27: =H27+L27+M27 -> 116.6425 | P27: asm.
A28: 01 | B28: 01 | C28: 13 | D28: Mero fondas | E28: 01 | F28: 188718713 | G28: SB | H28: 19 | L28: =H28*1.05 -> 19.95 | M28: =L28*1.05 -> 20.9475 | N28: =H28+L28+M28 -> 59.8975 | O28: Panaudota fondo lėšų dalis | P28: proc. | Q28: 60 | R28: 70 | S28: 80 | T28: Apskaitos skyrius
G29: Iš viso | H29: =H28 -> 19 | I29: =I28 -> 0 | J29: =J28 -> 0 | K29: =K28 -> 0 | L29: =L28 -> 19.95 | M29: =M28 -> 20.9475 | N29: =H29+L29+M29 -> 59.8975
A30: 01 | B30: 01 | C30: 15 | D30: Nekilnojamojo turto teisinė registracija, turto vertintojų paslaugos bei pastatų energinio naudingumo sertifikavimo paslaugos | E30: 01 | F30: 188718713 | G30: SB | H30: 20 | L30: =H30*1.05 -> 21 | M30: =L30*1.05 -> 22.05 | N30: =H30+L30+M30 -> 63.05 | O30: Įregistruotų nekilnojamo turto objektų skaičius | P30: vnt. | Q30: 5 | R30: 10 | S30: 10 | T30: Turto valdymo skyrius
O31: Įvertintų pastatų skaičius | P31: vnt. | Q31: 15 | R31: 15 | S31: 15
G32: Iš viso | H32: =H30 -> 20 | I32: =I30 -> 0 | J32: =J30 -> 0 | K32: =K30 -> 0 | L32: =L30 -> 21 | M32: =M30 -> 22.05 | N32: =H32+L32+M32 -> 63.05 | O32: Atliktų pastatų energetinio naudingumo sertifikavimų skaičius | P32: vnt. | Q32: 1 | R32: 5 | S32: 5
A33: 01 | B33: 02 | C33: Valstybinių (valstybės perduotų savivaldybėms) funkcijų tinkamas įgyvendinimas (1.1.1.2.)
A34: 01 | B34: 02 | C34: 01 | D34: Civilinės būklės aktų registravimas | E34: 01 | F34: 188718713 | G34: SB(VB) | H34: 29.5 | L34: =H34*1.05 -> 30.975 | M34: =L34*1.05 -> 32.52375 | N34: =H34+L34+M34 -> 92.99875 | O34: Įregistruotų civilinės būiklės aktų skaičius | P34: vnt. | Q34: 1050 | R34: 1050 | S34: 1050 | T34: Civilinės metrikacijos sk.
G35: SB | H35: 46.6 | L35: =H35*1.05 -> 48.93 | M35: =L35*1.05 -> 51.3765 | N35: =H35+L35+M35 -> 146.9065
G36: Iš viso | H36: =H34+H35 -> 76.1 | I36: =I34+I35 -> 0 | J36: =J34+J35 -> 0 | K36: =K34+K35 -> 0 | L36: =L34+L35 -> 79.905 | M36: =M34+M35 -> 83.90025 | N36: =+N34+N35 -> 239.90525
A37: 01 | B37: 02 | C37: 02 | D37: Valstybės pagalbos registro tvarkymas | E37: 01 | F37: 188718713 | G37: SB(VB) | H37: 1.7 | L37: =H37*1.05 -> 1.785 | M37: =L37*1.05 -> 1.87425 | N37: =H37+L37+M37 -> 5.35925 | O37: Perduotų įrašų skaičius | P37: vnt. | Q37: 230 | R37: 240 | S37: 240 | T37: Juridinis ir personalo sk.
G38: Iš viso | H38: =H37 -> 1.7 | I38: =I37 -> 0 | J38: =J37 -> 0 | K38: =K37 -> 0 | L38: =L37 -> 1.785 | M38: =M37 -> 1.87425 | N38: =H38+L38+M38 -> 5.35925
A39: 01 | B39: 02 | C39: 03 | D39: Archyvų tvarkymas | E39: 01 | F39: 188718713 | G39: SB(VB) | H39: 11.6 | L39: =H39*1.05 -> 12.18 | M39: =L39*1.05 -> 12.789 | N39: =H39+L39+M39 -> 36.569 | O39: Archyve saugomų bylų skaičius | P39: m. | Q39: 263.5 | R39: 263.5 | S39: 263.5 | T39: Bendrasis sk.
G40: SB | H40: 11.6 | L40: =H40*1.05 -> 12.18 | M40: =L40*1.05 -> 12.789 | N40: =H40+L40+M40 -> 36.569 | O40: Centriniam archyvui perduotų bylų skaičius | P40: vnt. | Q40: 0 | R40: 0 | S40: 0
G41: Iš viso | H41: =H39+H40 -> 23.2 | I41: =I39+I40 -> 0 | J41: =J39+J40 -> 0 | K41: =K39+K40 -> 0 | L41: =L39+L40 -> 24.36 | M41: =M39+M40 -> 25.578 | N41: =H41+L41+M41 -> 73.138
...

Sheet II švietimas
A2: Programos tikslo kodas | B2: Uždavinio kodas | C2: Priemonės kodas | D2: Priemonės pavadinimas | E2: Funkcinės klasifikacijos kodas | F2: Asignavimų valdytojo kodas | G2: Finansavimo šaltinis | H2: 2023 metų išlaidos | L2: 2024 metų išlaidų projektas | M2: 2025 metų išlaidų projektas | N2: Iš viso | O2: Matavimo rodiklis | T2: Atsakingas skyrius
H3: Iš viso | I3: Išlaidoms | Q3: Rodiklio reikšmės
I4: Iš viso | J4: Iš jų darbo užmokesčiui | K4: turtui įsigyti ir finansiniams įsipareigojimams vykdyti | O4: Rodiklio pavadinimas | P4: Matavimo vnt. | Q4: 2023 m. | R4: 2024 m. | S4: 2025 m.
A5: 02 Švietimo, sporto ir jaunimo reikalų programa
A6: 01 | B6: Užtikrinti švietimo įstaigų prieinamumą, efektyvumą, ugdymo kokybę
A7: 01 | B7: 01 | C7: Ugdymo planų ir programų įgyvendinimas, ugdymo(si) sąlygų užtikrinimas (2.1.1.1.)
A8: 01 | B8: 01 | C8: 01 | D8: Ugdymo planų ir ugdymo sąlygų užtikrinimas ikimokyklinio ugdymo įstaigose | E8: 09 | F8: 291408750, 191408945, 191409132, 291410630, 191409285, 191409470, 191410444, 191409666, 191410597, 191409328, 195006449 | G8: SB | H8: 2003.6 | I8: 1691.6 | J8: 1358.9 | L8: =H8*1.05 -> 2103.78 | M8: =L8*1.05 -> 2208.969 | N8: =H8+L8+M8 -> 6316.349 | O8: Ikimokyklinio ugdymo įstaigų skaičius | P8: vnt. | Q8: 7 | R8: 7 | S8: 7 | T8: Švietimo ir sporto sk.
G9: SB(VB) | H9: 2118.2 | I9: 1855.4 | J9: 1793.8 | L9: =H9*1.05 -> 2224.11 | M9: =L9*1.05 -> 2335.3155 | N9: =H9+L9+M9 -> 6677.6255
G10: SB(SP) | H10: 356.2 | I10: 337.3 | L10: =H10*1.05 -> 374.01 | M10: =L10*1.05 -> 392.7105 | N10: =H10+L10+M10 -> 1122.9205 | O10: Vaikų, ugdomų ikimokyklinio ugdymo įstaigose, skaičius | P10: asm. | Q10: 881 | R10: 881 | S10: 881
G11: Iš viso | H11: =+H8+H9+H10 -> 4478 | I11: =+I8+I9+I10 -> 3884.3 | J11: =+J8+J9+J10 -> 3152.7 | K11: =+K8+K9+K10 -> 0 | L11: =+L8+L9+L10 -> 4701.9 | M11: =+M8+M9+M10 -> 4936.995 | N11: =+N8+N9+N10 -> 14116.895
A12: 01 | B12: 01 | C12: 02 | D12: Ugdymo planų ir ugdymo sąlygų užtikrinimas rajono bendrojo lavinimo mokyklose | E12: 09 | F12: 29141510, 191415562, 191416326, 19147047, 191416664, 291416850, 191414994, 291414080, 191414318, 191414460, 191414656, 191415039, 191413892, 191416479, 190986355, 191415758, 191415943, 291417190, 191651922, 191416511, 191416098, 191416283, | G12: SB | H12: 4437.3 | I12: 3673.3 | J12: 2739.6 | K12: 49.9 | L12: =H12*1.05 -> 4659.165 | M12: =L12*1.05 -> 4892.1233 | N12: =H12+L12+M12 -> 13988.588 | O12: Ugdymo įstaigų skaičius | P12: vnt. | Q12: 24 | R12: 24 | S12: 24 | T12: Švietimo ir sporto sk.
G13: SB(VB) | H13: 12130.1 | I13: 10939.8 | J13: 10508.9 | K13: 10 | L13: =H13*1.05 -> 12736.605 | M13: =L13*1.05 -> 13373.435 | N13: =H13+L13+M13 -> 38240.14
G14: SB(SP) | H14: 84 | I14: 54.8 | L14: =H14*1.05 -> 88.2 | M14: =L14*1.05 -> 92.61 | N14: =H14+L14+M14 -> 264.81 | O14: Mokinių, ugdomų pagal pagrindinio ugdymo programą, skaičius | P14: asm. | Q14: 1550 | R14: 1548 | S14: 1546
G15: Iš viso | H15: =+H12+H14+H13 -> 16651.4 | I15: =+I12+I14+I13 -> 14667.9 | J15: =+J12+J14+J13 -> 13248.5 | K15: =+K12+K14+K13 -> 59.9 | L15: =+L12+L14+L13 -> 17483.97 | M15: =+M12+M14+M13 -> 18358.169 | N15: =+N12+N14+N13 -> 52493.539 | O15: Mokinių, ugdomų pagal viduriniojo ugdymo programą, skaičius | P15: asm. | Q15: 437 | R15: 435 | S15: 433
A16: 01 | B16: 01 | C16: 03 | D16: Brandos egzaminų ir pagrindinio ugdymo pasiekimų organizavimas ir vykdymas | E16: 09 | F16: 188718713 | G16: SB(VB) | H16: 5.5 | I16: 5.4 | L16: =H16*1.05 -> 5.775 | M16: =L16*1.05 -> 6.06375 | N16: =H16+L16+M16 -> 17.33875 | O16: Įstaigų, kuriose organziuojami brandos egzaminai ir pagrindinio ugdymo pasiekimų vertinimas, skaičius | P16: vnt. | Q16: 18 | R16: 18 | S16: 18 | T16: Švietimo ir sporto sk.
G17: Iš viso | H17: =+H16 -> 5.5 | I17: =+I16 -> 5.4 | J17: =+J16 -> 0 | K17: =+K16 -> 0 | L17: =+L16 -> 5.775 | M17: =+M16 -> 6.06375 | N17: =+N16 -> 17.33875
A18: 01 | B18: 01 | C18: 04 | D18: Mokinių pavėžėjimo į mokyklą ir atgal visuomeniniu ir mokykliniu transportu užtikrinimas | E18: 09 | F18: 191415758, 191416283, 191416098, 191415943, 191415562, 291415410, 191416326, 191416511, 191416479, 191651922, 291417190, 191416664, 291416850, 191413554, 191414994, 191414122, 291414080, 191417047, 191415039, 191414460, 191414656, 191417385, 191417232, 190986355, 175012366, 188718713, | G18: SB | H18: 273.3 | I18: 237.1 | L18: =H18*1.05 -> 286.965 | M18: =L18*1.05 -> 301.31325 | N18: =H18+L18+M18 -> 861.57825 | O18: Mokinių, pavežamų į mokyklą ir atgal visuomeniniu transportu skaičius | P18: asm. | Q18: 763 | R18: 706 | S18: 703 | T18: Švietimo ir sporto sk.
G19: Iš viso | H19: =+H18 -> 273.3 | I19: =+I18 -> 237.1 | J19: =+J18 -> 0 | K19: =+K18 -> 0 | L19: =+L18 -> 286.965 | M19: =+M18 -> 301.31325 | N19: =+N18 -> 861.57825 | O19: Mokinių, pavežamų į mokyklą ir atgal mokykliniu transportu skaičius | P19: asm. | Q19: 612 | R19: 669 | S19: 667
A20: 01 | B20: 01 | C20: 09 | D20: Ilgalaikio turto nuomos kompensavimas švietimo įstaigoms | E20: 09 | F20: 191415943 291417190, 191415758, 191416098, 191416326, 191651922, 291416850, 191416479, 191416664, 291415410 | G20: SB(SP) | H20: 23.6 | I20: 18.2 | L20: =H20*1.05 -> 24.78 | M20: =L20*1.05 -> 26.019 | N20: =H20+L20+M20 -> 74.399 | O20: Švietimo įstaigų, kurioms kompensuojama ilgalaikio turto nuoma, skaičius | P20: vnt. | Q20: 13 | R20: 13 | S20: 13 | T20: Švietimo įstaigų apskaitos sk.
G21: Iš viso | H21: =+H20 -> 23.6 | I21: =+I20 -> 18.2 | J21: =+J20 -> 0 | K21: =+K20 -> 0 | L21: =+L20 -> 24.78 | M21: =+M20 -> 26.019 | N21: =+N20 -> 74.399
A22: 01 | B22: 01 | C22: 11 | D22: Pedagoginių darbuotojų tarifinių atlygių koeficientų skirtumų išlyginimas mokyklose | E22: 09 | F22: 188718713 | G22: SB(VB) | H22: 280.9 | I22: 251.7 | J22: 243 | L22: =H22*1.05 -> 294.945 | M22: =L22*1.05 -> 309.69225 | N22: =H22+L22+M22 -> 885.53725 | O22: Klasių komplektų, kurie nefinansuojami iš VB, skaičius | P22: vnt. | Q22: 6 | R22: 0 | S22: 0 | T22: Biudžeto sk.
G23: SB | H23: 1000 | I23: 530.7 | J23: 261.2 | L23: =H23*1.05 -> 1050 | M23: =L23*1.05 -> 1102.5 | N23: =H23+L23+M23 -> 3152.5
G24: Iš viso | H24: =+H22+H23 -> 1280.9 | I24: =+I22+I23 -> 782.4 | J24: =+J22+J23 -> 504.2 | K24: =+K22+K23 -> 0 | L24: =+L22+L23 -> 1344.945 | M24: =+M22+M23 -> 1412.1923 | N24: =+N22+N23 -> 4038.0373
A25: 01 | B25: 02 | C25: Ugdymo planų ir programų įgyvendinimas, ugdymo(si) sąlygų užtikrinimas (2.1.1.2.)
A26: 01 | B26: 02 | C26: 01 | D26: Švietimo darbuotojų ugdomosios ir vadybinės veiklos tobulinimas | E26: 09 | F26: 188718713 | G26: SB(VB) | H26: 0 | I26: 5.4 | L26: =H26*1.05 -> 0 | M26: =+H26*0.1+H26 -> 0 | N26: =H26+L26+M26 -> 0 | O26: Darbuotojų, patobulinusių įgūdžius skaičius | P26: asm. | Q26: 0 | R26: 0 | S26: 0 | T26: Švietimo ir sporto sk.
G27: Iš viso | H27: =+H26 -> 0 | I27: =+I26 -> 5.4 | J27: =+J26 -> 0 | K27: =+K26 -> 0 | L27: =+L26 -> 0 | M27: =+M26 -> 0 | N27: =+N26 -> 0
A28: 02 | B28: Sudaryti sąlygas gabių ir talentingų vaikų ugdymui ir ugdymuisi
A29: 02 | B29: 01 | C29: Skatinti ir remti vaikų meninę, sportinę, kūrybinę saviraišką (2.1.2.1.)
A30: 02 | B30: 01 | C30: 01 | D30: Mokomųjų dalykų, olimpiadų, konkursų, sporto varžybų, kultūrinių renginių organizavimas | E30: 09 | F30: 188718713 | G30: SB | H30: 30 | I30: =H30*1.05 -> 31.5 | J30: =I30*1.05 -> 33.075 | L30: =H30*1.05 -> 31.5 | M30: =L30*1.05 -> 33.075 | N30: =H30+L30+M30 -> 94.575 | O30: Suorganizuotų mokomųjų dalykų, olimpiadų, kokursų skaičius | P30: vnt. | Q30: 37 | R30: 37 | S30: 37 | T30: Švietimo ir sporto sk.
G31: Iš viso | H31: =+H30 -> 30 | I31: =+I30 -> 31.5 | J31: =+J30 -> 33.075 | K31: =+K30 -> 0 | L31: =+L30 -> 31.5 | M31: =+M30 -> 33.075 | N31: =H31+L31+M31 -> 94.575 | O31: Suorganizuotų sporto varžybų, kultūrinių renginių skaičius | P31: vnt. | Q31: 20 | R31: 20 | S31: 20
A32: 02 | B32: 01 | C32: 05 | D32: Neformaliojo ugdymo programų įgyvendinimas, ugdymo sąlygų užtikrinimas rajono neformaliojo ugdymo mokyklose | E32: 09 | F32: 191417232, 191417385, 191417428, 191417570, 188718713 | G32: SB | H32: 1372 | I32: 955.9 | J32: 903.2 | K32: 235 | L32: =H32*1.05 -> 1440.6 | M32: =L32*1.05 -> 1512.63 | N32: =H32+L32+M32 -> 4325.23 | O32: Neformaliojo ugdymo įstaigų skaičius | P32: vnt. | Q32: 4 | R32: 4 | S32: 4 | T32: Švietimo ir sporto sk.
G33: SB(SP) | H33: 56.8 | I33: 49.8 | K33: 7 | L33: =H33*1.05 -> 59.64 | M33: =L33*1.05 -> 62.622 | N33: =H33+L33+M33 -> 179.062
G34: SB(VB) | H34: 251.1 | I34: 343.9 | J34: 149.7 | L34: =H34*1.05 -> 263.655 | M34: =L34*1.05 -> 276.83775 | N34: =H34+L34+M34 -> 791.59275 | O34: Pagal neformaliojo ugdymo programas besimokančių mokinių skaičius | P34: asm. | Q34: 664 | R34: 670 | S34: 676
G35: Iš viso | H35: =+SUM(H32:H34) -> 1679.9 | I35: =+SUM(I32:I34) -> 1349.6 | J35: =+SUM(J32:J34) -> 1052.9 | K35: =+SUM(K32:K34) -> 242 | L35: =+SUM(L32:L34) -> 1763.895 | M35: =+SUM(M32:M34) -> 1852.0898 | N35: =+SUM(N32:N34) -> 5295.8848
A36: 02 | B36: 01 | C36: 06 | D36: Švietimo programų finansavimas | E36: 09 | F36: 188718713 | G36: SB | H36: 50 | I36: 25 | L36: =H36*1.05 -> 52.5 | M36: =L36*1.05 -> 55.125 | N36: =H36+L36+M36 -> 157.625 | O36: Švietimo sistemos dalyviams skirtų skatinimo priemonių skaičius (olimpiados, apdovanojimai ir pan.). | P36: vnt. | Q36: 670 | R36: 670 | S36: 670 | T36: Švietimo ir sporto sk.
G37: Iš viso | H37: =+H36 -> 50 | I37: =+I36 -> 25 | J37: =+J36 -> 0 | K37: =+K36 -> 0 | L37: =+L36 -> 52.5 | M37: =+M36 -> 55.125 | N37: =H37+L37+M37 -> 157.625 | O37: ???
A38: 02 | B38: 02 | C38: Plėsti neformaliojo ugdymo įstaigų veiklą (2.1.2.2.)
A39: 02 | D39: Buvo pasiūlymas DG: Integruoti meno krypties ugdymą Eišiškių muzikos ir Jašiūnų muzikos mokyklose | E39: 09 | G39: SB | L39: =+(H39*0.05)+H39 -> 0 | M39: =+H39*0.1+H39 -> 0 | N39: =H39+L39+M39 -> 0 | T39: Švietimo ir sporto sk.
G40: Iš viso | H40: =+H39 -> 0 | I40: =+I39 -> 0 | J40: =+J39 -> 0 | K40: =+K39 -> 0 | L40: =+L39 -> 0 | M40: =+M39 -> 0 | N40: =H40+L40+M40 -> 0
A41: 02 | B41: 03 | C41: Skatinti Savivaldybės ir švietimo įstaigų bendradarbiavimą diegiant STEAM ir kitas inovatyvias ugdymo programas (2.1.2.3.)
...

Sheet III sveikata
A2: Programos tikslo kodas | B2: Uždavinio kodas | C2: Priemonės kodas | D2: Priemonės pavadinimas | E2: Funkcinės klasifikacijos kodas | F2: Asignavimų valdytojo kodas | G2: Finansavimo šaltinis | H2: 2023 metų išlaidos | L2: 2024 metų išlaidų projektas | M2: 2025 metų išlaidų projektas | N2: Iš viso | O2: Matavimo rodiklis | T2: Atsakingas skyrius
H3: Iš viso | I3: Išlaidoms | Q3: Rodiklio reikšmės
I4: Iš viso | J4: Iš jų darbo užmokesčiui | K4: turtui įsigyti ir finansiniams įsipareigojimams vykdyti | O4: Rodiklio pavadinimas | P4: Matavimo vnt. | Q4: 2023 m. | R4: 2024 m. | S4: 2025 m.
A5: 03 Sveikatos apsaugos programa
A6: 01 | B6: Didinti sveikatos priežiūros paslaugų kokybę ir prieinamumą
A7: 01 | B7: 01 | C7: Užtikrinti sveikatos priežiūros paslaugų teikimą ir aukštą paslaugų kokybę (2.2.1.1.)
A8: 01 | B8: 01 | C8: 03 | D8: Stipendijų skyrimas studentams | E8: 07 | F8: 188718713 | G8: SB | H8: 25 | L8: =+(H8*0.05)+H8 -> 26.25 | M8: =L8*1.05 -> 27.5625 | N8: =SUM(H8:M8) -> 78.8125 | O8: Studentų, gavusių stipendijas, skaičius | P8: asm. | Q8: 10 | R8: 10 | S8: 10 | T8: Socialinės paramos ir sveikatos apsaugos sk.
G9: Iš viso | H9: =+H8 -> 25 | I9: =+I8 -> 0 | J9: =+J8 -> 0 | K9: =+K8 -> 0 | L9: =+L8 -> 26.25 | M9: =+M8 -> 27.5625 | N9: =+N8 -> 78.8125
A10: 01 | B10: 01 | C10: 04 | D10: Sveikatos priežiūros specialistų pritraukimo į rajoną, priemonių įgyvendinimas | E10: 07 | F10: 188718713 | G10: SB | H10: 148 | L10: =+(H10*0.05)+H10 -> 155.4 | M10: =L10*1.05 -> 163.17 | N10: =SUM(H10:M10) -> 466.57 | O10: Naujai pritrauktų sveikatos priežiūros specialistų skaičius | P10: asm. | Q10: 1 | R10: 1 | S10: 1 | T10: Socialinės paramos ir sveikatos apsaugos sk.
G11: Iš viso | H11: =+H10 -> 148 | I11: =+I10 -> 0 | J11: =+J10 -> 0 | K11: =+K10 -> 0 | L11: =+L10 -> 155.4 | M11: =+M10 -> 163.17 | N11: =+N10 -> 466.57
A12: 01 | B12: 02 | C12: Organizuoti sveikatos programų rengimą ir įgyvendinimą (2.2.1.2.)
A13: 01 | B13: 02 | C13: 03 | D13: Savivaldybės visuomenės sveikatos priežiūros funkcijų vykdymas | E13: 07 | F13: 304159095 | G13: SB(VB) | H13: 333.6 | L13: =+(H13*0.05)+H13 -> 350.28 | M13: =L13*1.05 -> 367.794 | N13: =SUM(H13:M13) -> 1051.674 | O13: Sveikatos specialistų ugdymo įstaigose užimtų pareigybių skaičius | P13: asm. | Q13: 11 | R13: 11 | S13: 11 | T13: Socialinės paramos ir sveikatos apsaugos sk.
G14: SB(SP) | H14: 4 | L14: =+(H14*0.05)+H14 -> 4.2 | M14: =L14*1.05 -> 4.41 | N14: =SUM(H14:M14) -> 12.61
G15: Iš viso | H15: =+H13+H14 -> 337.6 | I15: =+I13+I14 -> 0 | J15: =+J13+J14 -> 0 | K15: =+K13+K14 -> 0 | L15: =+L13+L14 -> 354.48 | M15: =+M13+M14 -> 372.204 | N15: =+N13+N14 -> 1064.284
A16: 01 | B16: 03 | C16: Gerinti medicinos paslaugų kokybę diegiant šiuolaikines technologijas (2.2.1.3.)
A17: 01 | B17: 03 | C17: 03 | D17: Sveikatos programų finanavimas | E17: 07 | F17: 188718713 | G17: SB | H17: 120 | L17: =+(H17*0.05)+H17 -> 126 | M17: =L17*1.05 -> 132.3 | N17: =SUM(H17:M17) -> 378.3 | O17: Sveikatos įstaigų, kurioms skiriamas ŠRSA dalininko įnašas, skaičius | P17: vnt. | Q17: 3 | R17: 3 | S17: 3 | T17: Socialinės paramos ir sveikatos apsaugos sk.
G18: Iš viso | H18: =+H17 -> 120 | I18: =+I17 -> 0 | J18: =+J17 -> 0 | K18: =+K17 -> 0 | L18: =+L17 -> 126 | M18: =+M17 -> 132.3 | N18: =+N17 -> 378.3 | O18: Projektų, kuriems skiriamas ŠRSA bendrasis finansavimas, skaičius | P18: vnt. | Q18: 1 | R18: 1 | S18: 1
A19: 02 | B19: Užtikrinti efektyvią susirgimų prevenciją
A20: 02 | B20: 01 | C20: Užtikrinti sveiką ir saugią gyvenamąją aplinką rajone (2.2.2.1.)
A21: 02 | B21: 01 | C21: 01 | D21: Rūpinimasis teritorijos sanitarija, higienos ir gamtos apsaugos reikalavimų laikymosi kontrolė | E21: 07 | F21: 188718713 | G21: SB | L21: =+(H21*0.05)+H21 -> 0 | M21: =+H21*0.1+H21 -> 0 | N21: =H21+L21+M21 -> 0 | O21: Vietų, kuriose tikrinama smėlio kokybė, skaičius | P21: vnt. | Q21: 3 | R21: 3 | S21: 3 | T21: Socialinės paramos ir sveikatos apsaugos sk.
O22: Vietų, kuriose tikrinama vandens kokybė, skaičius | P22: vnt. | Q22: 8 | R22: 8 | S22: 8
G23: Iš viso | H23: =+H21 -> 0 | I23: =+I21 -> 0 | J23: =+J21 -> 0 | K23: =+K21 -> 0 | L23: =+L21 -> 0 | M23: =+M21 -> 0 | N23: =+N21 -> 0 | O23: Projektų, kuriems skiriamas ŠRSA bendrasis finansavimas, skaičius | P23: vnt. | Q23: 1 | R23: 1 | S23: 1
A24: 02 | B24: 01 | C24: 03 | D24: Užtikrinti savižudybių prevencijos prioritetų nustatymo ilgojo ir trumpojo laikotarpiu savižudybių prevencijos priemonių ir joms įgyvendinti reikiamo finansavimo planavimas | E24: 07 | F24: 188718713 | G24: SB(VB) | H24: 56.8 | L24: =+(H24*0.05)+H24 -> 59.64 | M24: =L24*1.05 -> 62.622 | N24: =SUM(H24:M24) -> 179.062 | O24: Įgyvendinamų projektų, programų skaičius | P24: vnt. | Q24: 1 | R24: 1 | S24: 1 | T24: Socialinės paramos ir sveikatos apsaugos sk.
G25: Iš viso | H25: =+H24 -> 56.8 | I25: =+I24 -> 0 | J25: =+J24 -> 0 | K25: =+K24 -> 0 | L25: =+L24 -> 59.64 | M25: =+M24 -> 62.622 | N25: =+N24 -> 179.062
A26: 02 | B26: 02 | C26: Gerinti sveikatinimo veikla (2.2.2.2.)
A27: 02 | B27: 02 | C27: 01 | D27: Sveiko gyvenimo būdo skatinimas | E27: 07 | F27: 188718713 | G27: SB | H27: 10 | L27: =+(H27*0.05)+H27 -> 10.5 | M27: =L27*1.05 -> 11.025 | N27: =H27+L27+M27 -> 31.525 | O27: Narkotikų kontrolės ir vaiko gerovės bei šeimo komisijos bei administracijos vaiko gerovės bei šeimo komisijos susirinkimų skaičius | P27: vnt. | Q27: 20 | R27: 20 | S27: 20 | T27: Socialinės paramos ir sveikatos apsaugos sk.
G28: Iš viso | H28: =+H27 -> 10 | I28: =+I27 -> 0 | J28: =+J27 -> 0 | K28: =+K27 -> 0 | L28: =+L27 -> 10.5 | M28: =+M27 -> 11.025 | N28: =+N27 -> 31.525
A29: 02 | B29: 02 | C29: 03 | D29: Neveiksnių asmenų būklės peržiūros užtikrinimas | E29: 07 | F29: 188718713 | G29: SB(VB) | H29: 0,4 | L29: =H29*1.05 -> 0.42 | M29: =L29*1.05 -> 0.441 | N29: =H29+L29+M29 -> 1.261 | O29: Pervertintų asmenų skaičius | P29: ams. | Q29: 15 | R29: 10 | S29: 5 | T29: Socialinės paramos ir sveikatos apsaugos sk.
G30: Iš viso | H30: =+H29 -> 0,4 | I30: =+I29 -> 0 | J30: =+J29 -> 0 | K30: =+K29 -> 0 | L30: =+L29 -> 0.42 | M30: =+M29 -> 0.441 | N30: =+N29 -> 1.261
A31: Iš viso iš jų | H31: =+SUM(H32:H37) -> 697.8 | I31: =+SUM(I32:I37) -> #REF! | J31: =+SUM(J32:J37) -> #REF! | K31: =+SUM(K32:K37) -> #REF! | L31: =+SUM(L32:L37) -> 732.69 | M31: =+SUM(M32:M37) -> 769.3245 | N31: =+SUM(N32:N37) -> 2199.8145
G32: SB | H32: =+H8+H28+H17+H10+H21 -> 303 | I32: =+I8+#REF!+#REF!+I28+#REF!+#REF!+I17+I10+I21 -> #REF! | J32: =+J8+#REF!+#REF!+J28+#REF!+#REF!+J17+J10+J21 -> #REF! | K32: =+K8+#REF!+#REF!+K28+#REF!+#REF!+K17+K10+K21 -> #REF! | L32: =+L8+L28+L17+L10+L21 -> 318.15 | M32: =+M8+M28+M17+M10+M21 -> 334.0575 | N32: =N8+N10+N17+N27 -> 955.2075
G33: SB(VB) | H33: =+H13+H30+H24 -> 390.8 | I33: =+#REF!+I13+I30+I24 -> #REF! | J33: =+#REF!+J13+J30+J24 -> #REF! | K33: =+#REF!+K13+K30+K24 -> #REF! | L33: =+L13+L30+L24 -> 410.34 | M33: =+M13+M30+M24 -> 430.857 | N33: =+N13+N30+N24 -> 1231.997
G34: VIP | H34: 0 | I34: 0 | J34: 0 | K34: 0 | L34: 0 | M34: 0 | N34: 0
G35: SB(SP) | H35: =+H14 -> 4 | I35: =+I14 -> 0 | J35: =+J14 -> 0 | K35: =+K14 -> 0 | L35: =+L14 -> 4.2 | M35: =+M14 -> 4.41 | N35: =+N14 -> 12.61
G36: Kitos
G37: D | H37: 0 | I37: =+#REF! -> #REF! | J37: =+#REF! -> #REF! | K37: =+#REF! -> #REF! | L37: 0 | M37: 0 | N37: 0

Sheet IV socialinė
A2: Programos tikslo kodas | B2: Uždavinio kodas | C2: Priemonės kodas | D2: Priemonės pavadinimas | E2: Funkcinės klasifikacijos kodas | F2: Asignavimų valdytojo kodas | G2: Finansavimo šaltinis | H2: 2023 metų išlaidos | L2: 2024 metų išlaidų projektas | M2: 2025 metų išlaidų projektas | N2: Iš viso | O2: Matavimo rodiklis | T2: Atsakingas skyrius
H3: Iš viso | I3: Išlaidoms | Q3: Rodiklio reikšmės
I4: Iš viso | J4: Iš jų darbo užmokesčiui | K4: Turtui įsigyti ir finansiniams įsipareigojimams vykdyti | O4: Rodiklio pavadinimas | P4: Matavimo vnt. | Q4: 2023 m. | R4: 2024 m. | S4: 2025 m.
A5: 04 Socialinės paramos programa
A6: 01 | B6: Užtikrinti nuoseklų ir efektyvų socialinių paslaugų teikimą socialiai pažeidžiamiems gyventojams ir grupėms
A7: 01 | B7: 02 | C7: Užtikrinti gyventojų poreikius atitinkančių socialinių paslaugų teikimą (2.3.1.1.)
A8: 01 | B8: 02 | C8: 01 | D8: Socialinių paslaugų teikimo užtikrinimas | E8: 10 | F8: 188718713 | G8: SB | O8: Asmeninio asistento paslaugas gaunančių asmenų skaičius | P8: asm. | Q8: 20 | R8: 30 | S8: 40 | T8: Socialinės paramos ir sveikatos apsaugos skyr.
G9: Iš viso
G10: SB(VB) | H10: 122.1 | L10: =H10*1.05 -> 128.205 | M10: =L10*1.05 -> 134.61525 | N10: =SUM(I10+L10+M10)+H10 -> 384.92025
G11: Iš viso | H11: =SUM(H10) -> 122.1 | I11: =SUM(I10) -> 0 | J11: =SUM(J10) -> 0 | K11: =SUM(K10) -> 0 | L11: =SUM(L10) -> 128.205 | M11: =SUM(M10) -> 134.61525 | N11: =SUM(I11+L11+M11)+H11 -> 384.92025
A12: 01 | B12: 02 | C12: 02 | D12: Šalčininkų socialinių paslaugų centro paslaugų teikimas ir programų vykdymas | E12: 10 | F12: 175014940 | G12: SB | H12: 509.3 | L12: =H12*1.05 -> 534.765 | M12: =L12*1.05 -> 561.50325 | N12: =SUM(I12+L12+M12)+H12 -> 1605.5683 | O12: Socialines paslaugas teikiančių etatų skaičius | P12: ams. | Q12: 50.9 | R12: 50.9 | S12: 50.9 | T12: Socialinių paslaugų centras
G13: Iš viso | H13: =+H12 -> 509.3 | I13: =+I12 -> 0 | J13: =+J12 -> 0 | K13: =+K12 -> 0 | L13: =+L12 -> 534.765 | M13: =+M12 -> 561.50325 | N13: =SUM(I13+L13+M13)+H13 -> 1605.5683
G14: SB(SP) | H14: 17 | L14: =H14*1.05 -> 17.85 | M14: =L14*1.05 -> 18.7425 | N14: =SUM(I14+L14+M14)+H14 -> 53.5925
G15: Iš viso | H15: =+H14 -> 17 | I15: =+I14 -> 0 | J15: =+J14 -> 0 | K15: =+K14 -> 0 | L15: =+L14 -> 17.85 | M15: =+M14 -> 18.7425 | N15: =SUM(I15+L15+M15)+H15 -> 53.5925 | O15: Asmenų, kuriems socialinių paslaugų centre teikiamos paslaugos, skaičius | P15: asm./ mėn. | Q15: 1200 | R15: 1250 | S15: 1300
G16: SB(VB) | H16: 23.3 | L16: =H16*1.05 -> 24.465 | M16: =L16*1.05 -> 25.68825 | N16: =SUM(I16+L16+M16)+H16 -> 73.45325
G17: Iš viso | H17: =SUM(H16) -> 23.3 | I17: =SUM(I16) -> 0 | J17: =SUM(J16) -> 0 | K17: =SUM(K16) -> 0 | L17: =SUM(L16) -> 24.465 | M17: =SUM(M16) -> 25.68825 | N17: =SUM(I17+L17+M17)+H17 -> 73.45325
A18: 01 | B18: 02 | C18: 03 | D18: Paslaugų teikimas Čiužiakampio senelių globos namuose | E18: 10 | F18: 175012170 | G18: SB | H18: 580 | L18: =H18*1.05 -> 609 | M18: =L18*1.05 -> 639.45 | N18: =SUM(I18+L18+M18)+H18 -> 1828.45 | O18: Paslaugas teikiančių etatų skaičius | P18: ams. | Q18: 19.2 | R18: 19.2 | S18: 19.2 | T18: Čiužiakampio senelių globos namai
G19: Iš viso | H19: =+H18 -> 580 | I19: =+I18 -> 0 | J19: =+J18 -> 0 | K19: =+K18 -> 0 | L19: =+L18 -> 609 | M19: =+M18 -> 639.45 | N19: =SUM(I19+L19+M19)+H19 -> 1828.45
G20: SB(SP) | H20: 84 | L20: =H20*1.05 -> 88.2 | M20: =L20*1.05 -> 92.61 | N20: =SUM(I20+L20+M20)+H20 -> 264.81
G21: Iš viso | H21: =+H20 -> 84 | I21: =+I20 -> 0 | J21: =+J20 -> 0 | K21: =+K20 -> 0 | L21: =+L20 -> 88.2 | M21: =+M20 -> 92.61 | N21: =SUM(I21+L21+M21)+H21 -> 264.81 | O21: Asmenų, kuriems senelių globos namuose teikiamos paslaugos, skaičius | P21: asm./ mėn. | Q21: 70 | R21: 70 | S21: 70
G22: SB(VB) | H22: 17.1 | L22: =H22*1.05 -> 17.955 | M22: =L22*1.05 -> 18.85275 | N22: =SUM(I22+L22+M22)+H22 -> 53.90775
G23: Iš viso | H23: =SUM(H22) -> 17.1 | I23: =SUM(I22) -> 0 | J23: =SUM(J22) -> 0 | K23: =SUM(K22) -> 0 | L23: =SUM(L22) -> 17.955 | M23: =SUM(M22) -> 18.85275 | N23: =SUM(I23+L23+M23)+H23 -> 53.90775
A24: 01 | B24: 02 | C24: 04 | D24: Paslaugų teikimas Šalčininkų rajono šeimos ir vaiko gerovės centre | E24: 10 | F24: 175012366 | G24: SB | H24: 762.5 | L24: =H24*1.05 -> 800.625 | M24: =L24*1.05 -> 840.65625 | N24: =SUM(I24+L24+M24)+H24 -> 2403.7812 | O24: Paslaugas teikiančių etatų skaičius | P24: ams. | Q24: 33 | R24: 33 | S24: 33 | T24: Šeimos ir vaiko gerovės centras
G25: Iš viso | H25: =+H24 -> 762.5 | I25: =+I24 -> 0 | J25: =+J24 -> 0 | K25: =+K24 -> 0 | L25: =+L24 -> 800.625 | M25: =+M24 -> 840.65625 | N25: =SUM(I25+L25+M25)+H25 -> 2403.7812
G26: SB(SP) | H26: 2 | L26: =H26*1.05 -> 2.1 | M26: =L26*1.05 -> 2.205 | N26: =SUM(I26+L26+M26)+H26 -> 6.305
G27: Iš viso | H27: =+H26 -> 2 | I27: =+I26 -> 0 | J27: =+J26 -> 0 | K27: =+K26 -> 0 | L27: =+L26 -> 2.1 | M27: =+M26 -> 2.205 | N27: =SUM(I27+L27+M27)+H27 -> 6.305 | O27: Vaikų globos namuose gyvenančių vaikų, skaičius (metų pab.) | P27: asm. | Q27: 24 | R27: 24 | S27: 24
G28: SB(VB) | H28: 34.3 | L28: =H28*1.05 -> 36.015 | M28: =L28*1.05 -> 37.81575 | N28: =SUM(I28+L28+M28)+H28 -> 108.13075
G29: Iš viso | H29: =SUM(H28) -> 34.3 | I29: =SUM(I28) -> 0 | J29: =SUM(J28) -> 0 | K29: =SUM(K28) -> 0 | L29: =SUM(L28) -> 36.015 | M29: =SUM(M28) -> 37.81575 | N29: =SUM(I29+L29+M29)+H29 -> 108.13075
A30: 01 | B30: 02 | C30: 05 | D30: Šalčininkų rajono sutrikusio intelekto žmonių dienos užimtumo centro paslaugų teikimas ir programų vykdymas | E30: 10 | F30: 300031618 | G30: SB | H30: 214.5 | L30: =H30*1.05 -> 225.225 | M30: =L30*1.05 -> 236.48625 | N30: =SUM(I30+L30+M30)+H30 -> 676.21125 | O30: Paslaugas teikiančių etatų skaičius | P30: ams. | Q30: 8.25 | R30: 8.25 | S30: 8.25 | T30: Sutrikusio intelekto žmonių dienos užimtumo centras
G31: Iš viso | H31: =+H30 -> 214.5 | I31: =+I30 -> 0 | J31: =+J30 -> 0 | K31: =+K30 -> 0 | L31: =+L30 -> 225.225 | M31: =+M30 -> 236.48625 | N31: =SUM(I31+L31+M31)+H31 -> 676.21125
G32: SB(SP) | H32: 4.9 | L32: =H32*1.05 -> 5.145 | M32: =L32*1.05 -> 5.40225 | N32: =SUM(I32+L32+M32)+H32 -> 15.44725
G33: Iš viso | H33: =+H32 -> 4.9 | I33: =+I32 -> 0 | J33: =+J32 -> 0 | K33: =+K32 -> 0 | L33: =+L32 -> 5.145 | M33: =+M32 -> 5.40225 | N33: =SUM(I33+L33+M33)+H33 -> 15.44725 | O33: Centre aptarnaujamų asmenų, skaičius | P33: asm./ mėn. | Q33: 22 | R33: 22 | S33: 22
G34: SB(VB) | H34: 9.4 | L34: =H34*1.05 -> 9.87 | M34: =L34*1.05 -> 10.3635 | N34: =SUM(I34+L34+M34)+H34 -> 29.6335
G35: Iš viso | H35: =SUM(H34) -> 9.4 | I35: =SUM(I34) -> 0 | J35: =SUM(J34) -> 0 | K35: =SUM(K34) -> 0 | L35: =SUM(L34) -> 9.87 | M35: =SUM(M34) -> 10.3635 | N35: =SUM(I35+L35+M35)+H35 -> 29.6335
A36: 01 | B36: 02 | C36: 06 | D36: Paslaugų teikimas vaikų dienos centruose | E36: 10 | F36: 188718713 | G36: SB | H36: 51.4 | L36: =H36*1.05 -> 53.97 | M36: =L36*1.05 -> 56.6685 | N36: =SUM(I36+L36+M36)+H36 -> 162.0385 | O36: Paslaugas teikiančių darbuotojų (pareigybių) skaičius | P36: asm. | Q36: 21 | R36: 21 | S36: 21 | T36: Socialinės paramos ir sveikatos apsaugos sk.
G37: SB(VB) | H37: 114.4 | L37: =H37*1.05 -> 120.12 | M37: =L37*1.05 -> 126.126 | N37: =SUM(I37+L37+M37)+H37 -> 360.646 | O37: Vaikų, gavusių vaikų dienos socialinės priežiūros paslaugas, skaičius | P37: asm./ mėn. | Q37: 107 | R37: 112 | S37: 117
G38: Iš viso | H38: =+H36+H37 -> 165.8 | I38: =+I36+I37 -> 0 | J38: =+J36+J37 -> 0 | K38: =+K36+K37 -> 0 | L38: =+L36+L37 -> 174.09 | M38: =+M36+M37 -> 182.7945 | N38: =SUM(I38+L38+M38)+H38 -> 522.6845
A39: 02 | B39: Teikti paramą pažeidžiamų asmenų grupėms bei asmenims
A40: 02 | B40: 01 | C40: Užtikrinti socialinių išmokų, pašalpų skyrimą ir mokėjimą (2.3.2.1.)
A41: 02 | B41: 01 | C41: 03 | D41: Socialinės pašalpos skaičiavimas ir mokėjimas | E41: 10 | F41: 188718713 | G41: SB | H41: 1710 | L41: =H41*1.05 -> 1795.5 | M41: =L41*1.05 -> 1885.275 | N41: =SUM(I41+L41+M41)+H41 -> 5390.775 | T41: Socialinės paramos ir sveikatos apsaugos sk.
...

Sheet V Saugumas
A2: Programos tikslo kodas | B2: Uždavinio kodas | C2: Priemonės kodas | D2: Priemonės pavadinimas | E2: Funkcinės klasifikacijos kodas | F2: Asignavimų valdytojo kodas | G2: Finansavimo šaltinis | H2: 2023 metų išlaidos | L2: 2024 metų išlaidų projektas | M2: 2025 metų išlaidų projektas | N2: Iš viso | O2: Matavimo rodiklis | T2: Atsakingas skyrius
H3: Iš viso | I3: Išlaidoms | Q3: Rodiklio reikšmės
I4: Iš viso | J4: Iš jų darbo užmokesčiui | K4: turtui įsigyti ir finansiniams įsipareigojimams vykdyti | O4: Rodiklio pavadinimas | P4: Matavimo vnt. | Q4: 2023 m. | R4: 2024 m. | S4: 2025 m.
A5: 05 Viešosios tvarkos ir saugumo programa
A6: 01 | B6: Didinti gyventojų saugumą ir atsparumą įvairioms grėsmėms
A7: 01 | B7: 01 | C7: Sukurti saugią aplinką rajone (2.4.1.1.)
A8: 01 | B8: 01 | C8: 01 | D8: Priešgaisrinės apsaugos funkcijų vykdymo užtikrinimas | E8: 03 | F8: 175012028 | G8: SB | H8: 277 | L8: =+(H8*0.05)+H8 -> 290.85 | M8: =L8*1.05 -> 305.3925 | N8: =H8+L8+M8 -> 873.2425 | O8: Priešgaisrinėje tarnyboje užimtų pareigybių skaičius | P8: asm. | Q8: 65 | R8: 65 | S8: 65 | T8: Priešgaisrinė tarnyba
G9: SB(VB) | H9: 970.1 | L9: =+(H9*0.05)+H9 -> 1018.605 | M9: =L9*1.05 -> 1069.5353 | N9: =H9+L9+M9 -> 3058.2402 | O9: Išvykimų į incidentus skaičius | P9: vnt. | Q9: 300 | R9: 300 | S9: 300
G10: Iš viso | H10: =+SUM(H8:H9) -> 1247.1 | I10: =+SUM(I8:I9) -> 0 | J10: =+SUM(J8:J9) -> 0 | K10: =+SUM(K8:K9) -> 0 | L10: =+SUM(L8:L9) -> 1309.455 | M10: =+SUM(M8:M9) -> 1374.9278 | N10: =+SUM(N8:N9) -> 3931.4828
A11: 01 | B11: 01 | C11: 02 | D11: Civilinės saugos užtikrinimas, mokymų civilinės, priešgaisrinės ir darbo saugos klausimais organizavimas | E11: 02 | F11: 188718713 | G11: SB(VB) | H11: 30.2 | L11: =+(H11*0.05)+H11 -> 31.71 | M11: =L11*1.05 -> 33.2955 | N11: =H11+L11+M11 -> 95.2055 | O11: Suorganizuotų mokymų, renginių civilinės, priešgaisrinės ir darbo saugos klausimais skaičius | P11: vnt. | Q11: 2 | R11: 2 | S11: 2 | T11: Komunalinio ūkio sk.
G12: Iš viso | H12: =+SUM(H11) -> 30.2 | I12: =+SUM(I11) -> 0 | J12: =+SUM(J11) -> 0 | K12: =+SUM(K11) -> 0 | L12: =+SUM(L11) -> 31.71 | M12: =+SUM(M11) -> 33.2955 | N12: =+SUM(N11) -> 95.2055
A13: 01 | B13: 01 | C13: 05 | D13: Viešosios tvarkos užtikrinimas | E13: 03 | F13: 188718713 | G13: SB | H13: 40 | L13: =+(H13*0.05)+H13 -> 42 | M13: =L13*1.05 -> 44.1 | N13: =H13+L13+M13 -> 126.1 | O13: Įsigytų viešąją tvarką užtikrinančių priemonių (įvardinti) skaičius | P13: vnt. | Q13: 11 | R13: 11 | S13: 11 | T13: Viešosios tvarkos sk
G15: Iš viso | H15: =+H13 -> 40 | I15: =+I13 -> 0 | J15: =+J13 -> 0 | K15: =+K13 -> 0 | L15: =+L13 -> 42 | M15: =+M13 -> 44.1 | N15: =+N13 -> 126.1
A16: 01 | B16: 02 | C16: Įgyvendinti smurto ir nusikalstamumo prevencijos priemones (2.4.1.2.)
A17: 01 | B17: 02 | C17: 01 | D17: Gyventojų švietimas saugumo klausimais | E17: 02 | F17: 188718713 | G17: SB(VB) | N17: =H17+L17+M17 -> 0 | O17: Suorganizuotų renginių skaičius | P17: vnt. | Q17: 10 | R17: 10 | S17: 10 | T17: Komunalinio ūkio sk.
G18: Iš viso | H18: =+SUM(H17) -> 0 | I18: =+SUM(I17) -> 0 | J18: =+SUM(J17) -> 0 | K18: =+SUM(K17) -> 0 | L18: =+SUM(L17) -> 0 | M18: =+SUM(M17) -> 0 | N18: =+SUM(N17) -> 0 | O18: Parengtų metodinių priemonių skaičius | P18: vnt. | Q18: 1 | R18: 1 | S18: 1
A19: Iš viso iš jų | H19: =+H10+H12+H15 -> 1317.3 | I19: =+I10+I12+I15 -> 0 | J19: =+J10+J12+J15 -> 0 | K19: =+K10+K12+K15 -> 0 | L19: =+L10+L12+L15 -> 1383.165 | M19: =+M10+M12+M15 -> 1452.3233 | N19: =H19+L19+M19 -> 4152.7883
A20: 3 | G20: SB | H20: =+H8+H15+H18 -> 317 | I20: =+I8+I15+I18 -> 0 | J20: =+J8+J15+J18 -> 0 | K20: =+K8+K15+K18 -> 0 | L20: =+L8+L15+L18 -> 332.85 | M20: =+M8+M15+M18 -> 349.4925 | N20: =+N8+N15+N18 -> 999.3425
G21: SB(VB) | H21: =+H9+H11 -> 1000.3 | I21: =+I9+I11 -> 0 | J21: =+J9+J11 -> 0 | K21: =+K9+K11 -> 0 | L21: =+L9+L11 -> 1050.315 | M21: =+M9+M11 -> 1102.8308 | N21: =+N9+N11 -> 3153.4457
G22: SB(SP) | H22: 0 | I22: 0 | J22: 0 | K22: 0 | L22: 0 | M22: 0 | N22: 0
G23: VB(P) | H23: 0 | I23: 0 | J23: 0 | K23: 0 | L23: 0 | M23: 0 | N23: 0
G24: P(FM) | H24: 0 | I24: 0 | J24: 0 | K24: 0 | L24: 0 | M24: 0 | N24: 0
G25: P(B) | H25: 0 | I25: 0 | J25: 0 | K25: 0 | L25: 0 | M25: 0 | N25: 0
G26: ES | H26: 0 | I26: 0 | J26: 0 | K26: 0 | L26: 0 | M26: 0 | N26: 0
G27: Kitos | H27: 0 | I27: 0 | J27: 0 | K27: 0 | L27: 0 | M27: 0 | N27: 0

Sheet VI Verslas Turizmas
A2: Programos tikslo kodas | B2: Uždavinio kodas | C2: Priemonės kodas | D2: Priemonės pavadinimas | E2: Funkcinės klasifikacijos kodas | F2: Asignavimų valdytojo kodas | G2: Finansavimo šaltinis | H2: 2023 metų išlaidos | L2: 2024 metų išlaidų projektas | M2: 2025 metų išlaidų projektas | N2: Iš viso | O2: Matavimo rodiklis | T2: Atsakingas skyrius
H3: Iš viso | I3: Išlaidoms | Q3: Rodiklio reikšmės
I4: Iš viso | J4: Iš jų darbo užmokesčiui | K4: turtui įsigyti ir finansiniams įsipareigojimams vykdyti | O4: Rodiklio pavadinimas | P4: Matavimo vnt. | Q4: 2023 m. | R4: 2024 m. | S4: 2025 m.
A5: 06 Verslo skatinimo programa
A6: 01 | B6: Prisidėti prie verslo vystymo ir užimtumo didinimo rajone
A7: 01 | B7: 01 | C7: Skatinti smulkaus ir vidutinio verslo kūrimąsi ir veiklą (3.1.1.1.)
A8: 01 | B8: 02 | C8: Didinti gyventojų užimtumą (3.1.1.2.)
A9: 01 | B9: 02 | C9: 01 | D9: Užimtumo didinimo programos įgyvendinimas | E9: 04 | F9: 188718713 | G9: SB(VB) | H9: 121.7 | L9: =H9*1.05 -> 127.785 | M9: =L9*1.05 -> 134.17425 | N9: =+H9+L9+M9 -> 383.65925 | O9: Programoje dalyvavusių asmenų skaičius | P9: asm. | Q9: 40 | R9: 40 | S9: 40 | T9: Socialinės paramos skyrius
G10: SB | H10: 15 | L10: =H10*1.05 -> 15.75 | M10: =L10*1.05 -> 16.5375 | N10: =+H10+L10+M10 -> 47.2875
G11: Iš viso | H11: =+SUM(H9:H10) -> 136.7 | I11: =+SUM(I9:I9) -> 0 | J11: =+SUM(J9:J9) -> 0 | K11: =+SUM(K9:K9) -> 0 | L11: =+SUM(L9:L9) -> 127.785 | M11: =+SUM(M9:M9) -> 134.17425 | N11: =+H11+L11+M11 -> 398.65925 | O11: Darbą susiradusių ilgalaikių bedarbių skaičius | P11: asm. | Q11: 10 | R11: 10 | S11: 10
A12: 01 | B12: 03 | C12: Investicinio klimato rajone gerinimas (3.1.1.3.)
A13: 01 | B13: 03 | C13: 01 | D13: Investicinių sklypų ir patalpų pritaikymas verslui | E13: 04 | F13: 188718713 | G13: SB | O13: Investicijoms pritaikytų sklypų skaičius/plotas | P13: vnt./km2 | Q13: 1/2 ha | R13: 0 | S13: 0 | T13: Investicijų ir strateginio planavimo sk.
G14: Iš viso | H14: =+SUM(H13:H13) -> 0 | I14: =+SUM(I13:I13) -> 0 | J14: =+SUM(J13:J13) -> 0 | K14: =+SUM(K13:K13) -> 0 | L14: =+SUM(L13:L13) -> 0 | M14: =+SUM(M13:M13) -> 0 | N14: =+H14+L14+M14 -> 0 | O14: Investicijoms pritaikytų patalpų plotas | P14: m2 | Q14: 100 | R14: 0 | S14: 0
A15: 01 | B15: 03 | C15: 02 | D15: Investuotojams patrauklaus rajono įvaizdžio formavimas | E15: 04 | F15: 188718713 | G15: SB | O15: Parengtas rajono investavimo galimybių pristatymas 3 kalbomis | P15: vnt. | Q15: 1 | R15: 1 | S15: 1 | T15: Investicijų ir strateginio planavimo sk.
G16: Iš viso | H16: =+SUM(H15:H15) -> 0 | I16: =+SUM(I15:I15) -> 0 | J16: =+SUM(J15:J15) -> 0 | K16: =+SUM(K15:K15) -> 0 | L16: =+SUM(L15:L15) -> 0 | M16: =+SUM(M15:M15) -> 0 | N16: =+H16+L16+M16 -> 0 | O16: Susuitikimų su potencialiais investuotojais skaičius | P16: vnt. | Q16: 2 | R16: 2 | S16: 2
A17: 01 | B17: 04 | C17: Gyventojų rajone išlaikymas ir pritraukimas (3.1.1.4.)
A18: 01 | G18: SB | N18: =+H18+L18+M18 -> 0
G19: Iš viso | H19: =+SUM(H18:H18) -> 0 | I19: =+SUM(I18:I18) -> 0 | J19: =+SUM(J18:J18) -> 0 | K19: =+SUM(K18:K18) -> 0 | L19: =+SUM(L18:L18) -> 0 | M19: =+SUM(M18:M18) -> 0 | N19: =+H19+L19+M19 -> 0
A20: 02 | B20: Skatinti turizmą rajone ir plėsti turizmo paslaugų rinką
A21: 02 | B21: 01 | C21: Plėsti ir prižiūrėti turizmo infrastruktūrą (3.1.2.1.)
A22: 02 | B22: 01 | C22: 08 | D22: Paminklosaugos priežiūros organizavimas | E22: 08 | F22: 188718713 | G22: SB | H22: 73 | L22: =H22*1.05 -> 76.65 | M22: =L22*1.05 -> 80.4825 | N22: =H22+L22+M22 -> 230.1325 | O22: Prižiūrimų objektų skaičius | P22: vnt. | Q22: 309 | R22: 309 | S22: 309 | T22: Investicijų ir strateginio planavimo sk.
G23: Iš viso | H23: =+SUM(H22:H22) -> 73 | I23: =+SUM(I22:I22) -> 0 | J23: =+SUM(J22:J22) -> 0 | K23: =+SUM(K22:K22) -> 0 | L23: =+SUM(L22:L22) -> 76.65 | M23: =+SUM(M22:M22) -> 80.4825 | N23: =+H23+L23+M23 -> 230.1325 | O23: tvarkybos darbų techninės dokumentacijos parengimas arba tvarkybos darbų atlikimas | P23: vnt. | Q23: 0 | R23: 0 | S23: 0
A24: 02 | B24: 02 | C24: Turizmo produktų plėtra ir rinkodaros priemonių įgyvendinimas
A25: 02 | B25: 02 | C25: 01 | D25: Turizmo rinkodaros priemonių įgyvendinimas | E25: 08 | F25: 188718713 | G25: SB | L25: =+(H25*0.05)+H25 -> 0 | M25: =+H25*0.1+H25 -> 0 | N25: =H25+L25+M25 -> 0 | O25: Turzimo renginių, kuriuose reperezentuojamas rajonas skaičius | P25: vnt. | Q25: 2 | R25: 2 | S25: 2 | T25: Turizmo ir informacijos sk.
G26: Iš viso | H26: =+SUM(H25:H25) -> 0 | I26: =+SUM(I25:I25) -> 0 | J26: =+SUM(J25:J25) -> 0 | K26: =+SUM(K25:K25) -> 0 | L26: =+SUM(L25:L25) -> 0 | M26: =+SUM(M25:M25) -> 0 | N26: =+H26+L26+M26 -> 0 | O26: Kvalifikacijos kėlimo renginių, kuriuose dalyvauja turizmo srities specialistai, skaičius | P26: vnt. | Q26: 2 | R26: 2 | S26: 2
A27: 02 | B27: 02 | C27: 02 | D27: Naujų turizmo produktų vystymas | E27: 05 | F27: 188718713 | G27: ES | L27: =+(H27*0.05)+H27 -> 0 | M27: =+H27*0.1+H27 -> 0 | N27: =+H27+L27+M27 -> 0 | O27: Parengta naujo turistinio maršturo koncepcija | P27: vnt. | Q27: 2 | R27: 3 | S27: 1 | T27: Turizmo ir informacijos sk.
G28: SB | L28: =+(H28*0.05)+H28 -> 0 | M28: =+H28*0.1+H28 -> 0 | N28: =+H28+L28+M28 -> 0
G29: Iš viso | H29: =+H27+H28 -> 0 | I29: =+I27+I28 -> 0 | J29: =+J27+J28 -> 0 | K29: =+K27+K28 -> 0 | L29: =+L27+L28 -> 0 | M29: =+M27+M28 -> 0 | N29: =+N27+N28 -> 0
A30: 02 | B30: 02 | C30: 03 | D30: Turizmo veiklų plėtra bendradarbiaujant su turizmo srityje veikiančiomis įstaigomis, įmonėmis | E30: 08 | F30: 188718713 | G30: SB | L30: =+(H30*0.05)+H30 -> 0 | M30: =+H30*0.1+H30 -> 0 | N30: =+H30+L30+M30 -> 0 | O30: Pasirašytų bendradarbiavimo sutarčių skaičius | P30: vnt. | Q30: 1 | R30: 1 | S30: 1 | T30: Turizmo ir informacijos sk.
G31: Iš viso | H31: =+H30 -> 0 | I31: =+I30 -> 0 | J31: =+J30 -> 0 | K31: =+K30 -> 0 | L31: =+L30 -> 0 | M31: =+M30 -> 0 | N31: =+N30 -> 0 | O31: Bendrų veiklų (susitikimų, renginių) skaičius | P31: vnt. | Q31: 5 | R31: 5 | S31: 5
A32: Iš viso iš jų | H32: =+SUM(H33:H41) -> 209.7 | I32: =+SUM(I33:I41) -> #REF! | J32: =+SUM(J33:J41) -> #REF! | K32: =+SUM(K33:K41) -> #REF! | L32: =+SUM(L33:L41) -> 220.185 | M32: =+SUM(M33:M41) -> 231.19425 | N32: =+SUM(N33:N41) -> 277.42
A33: 8 | G33: SB | H33: =++H13+H23+H15+H18+H10 -> 88 | I33: =++I13+I23+#REF!+#REF!+#REF!+#REF!+#REF!+#REF!+I15+I18 -> #REF! | J33: =++J13+J23+#REF!+#REF!+#REF!+#REF!+#REF!+#REF!+J15+J18 -> #REF! | K33: =++K13+K23+#REF!+#REF!+#REF!+#REF!+#REF!+#REF!+K15+K18 -> #REF! | L33: =++L13+L23+L15+L18+L10 -> 92.4 | M33: =++M13+M23+M15+M18+M10 -> 97.02 | N33: =+N23+N10 -> 277.42
G34: SB(SP) | H34: 0 | I34: 0 | J34: 0 | K34: 0 | L34: 0 | M34: 0 | N34: 0
G35: SB(VB) | H35: =++H9 -> 121.7 | I35: =+I14 -> 0 | J35: =+J14 -> 0 | K35: =+K14 -> 0 | L35: =++L9 -> 127.785 | M35: =++M9 -> 134.17425 | N35: =+N14 -> 0
G36: VB(P) | H36: 0 | I36: 0 | J36: 0 | K36: 0 | L36: 0 | M36: 0 | N36: 0
G37: D | H37: 0 | I37: =+#REF! -> #REF! | J37: =+#REF! -> #REF! | K37: =+#REF! -> #REF! | L37: 0 | M37: 0 | N37: 0
G38: P(FM) | H38: 0 | I38: 0 | J38: 0 | K38: 0 | L38: 0 | M38: 0 | N38: 0
G39: P(B) | H39: 0 | I39: 0 | J39: 0 | K39: 0 | L39: 0 | M39: 0 | N39: 0
G40: ES | H40: 0 | I40: =+#REF!+#REF! -> #REF! | J40: =+#REF!+#REF! -> #REF! | K40: =+#REF!+#REF! -> #REF! | L40: 0 | M40: 0 | N40: 0
G41: Kitos | H41: 0 | I41: 0 | J41: 0 | K41: 0 | L41: 0 | M41: 0 | N41: 0

Sheet VII Žemės ūkis
A2: Programos tikslo kodas | B2: Uždavinio kodas | C2: Priemonės kodas | D2: Priemonės pavadinimas | E2: Funkcinės klasifikacijos kodas | F2: Asignavimų valdytojo kodas | G2: Finansavimo šaltinis | H2: 2023 metų išlaidos | L2: 2024 metų išlaidų projektas | M2: 2025 metų išlaidų projektas | N2: Iš viso | O2: Matavimo rodiklis | T2: Atsakingas skyrius
H3: Iš viso | I3: Išlaidoms | Q3: Rodiklio reikšmės
I4: Iš viso | J4: Iš jų darbo užmokesčiui | K4: turtui įsigyti ir finansiniams įsipareigojimams vykdyti | O4: Rodiklio pavadinimas | P4: Matavimo vnt. | Q4: 2023 m. | R4: 2024 m. | S4: 2025 m.
A5: 07 Žemės ūkio ir kaimo plėtros programa
A6: 01 | B6: Vykdyti su žemės ūkio veikla rajone susijusią apskaitą
A7: 01 | B7: 01 | C7: Registruoti rajone veikiančius ūkininkų ūkius bei žemės ūkyje naudojamus išteklius (3.2.1.1.)
A8: 01 | B8: 01 | C8: 01 | D8: Žemės ūkio valdų ir ūkininkų ūkių registravimas | E8: 04 | F8: 188718713 | G8: SB(VB) | H8: 213.9 | L8: =+(H8*0.05)+H8 -> 224.595 | M8: =L8*1.05 -> 235.82475 | N8: =+H8+L8+M8 -> 674.31975 | O8: Įregistruotų žemės ūkio valdų skaičius | P8: vnt. | Q8: 3200 | R8: 3220 | S8: 3240 | T8: Žemės ūkio sk.
G9: SB | H9: 84.7 | L9: =+(H9*0.05)+H9 -> 88.935 | M9: =L9*1.05 -> 93.38175 | N9: =+H9+L9+M9 -> 267.01675 | O9: Įregistruotų ūkininkų ūkių skaičius | P9: vnt. | Q9: 1140 | R9: 1180 | S9: 1200
G10: Iš viso | H10: =+H8+H9 -> 298.6 | I10: =+I8+I9 -> 0 | J10: =+J8+J9 -> 0 | K10: =+K8+K9 -> 0 | L10: =+L8+L9 -> 313.53 | M10: =+M8+M9 -> 329.2065 | N10: =+N8+N9 -> 941.3365
A11: 02 | B11: Vykdyti melioracijos statinių priežiūrą
A12: 02 | B12: 01 | C12: Planuoti ir vykdyti melioracijos statinių priežiūrą ir atnaujinimą (3.2.2.1.)
A13: 02 | B13: 01 | C13: 02 | D13: Melioracijos darbų programos rengimas ir įgyvendinimas | E13: 04 | F13: 188718713 | G13: SB(VB) | H13: 121 | L13: =+(H13*0.05)+H13 -> 127.05 | M13: =L13*1.05 -> 133.4025 | N13: =H13+L13+M13 -> 381.4525 | O13: Plotas, kuriame atlikti melioracijos darbai | P13: ha | Q13: 50 | R13: 50 | S13: 50 | T13: Žemės ūkio sk.
G14: Iš viso | H14: =+H13 -> 121 | I14: =+I13 -> 0 | J14: =+J13 -> 0 | K14: =+K13 -> 0 | L14: =+L13 -> 127.05 | M14: =+M13 -> 133.4025 | N14: =H14+L14+M14 -> 381.4525 | O14: Suremontuotų melioracijos įrenginių ilgis | P14: km | Q14: 10 | R14: 10 | S14: 10
A15: 03 | B15: Užtikrinti darnią žemės ūkio ir kaimo plėtrą
A16: 03 | B16: 01 | C16: Žemės ūkio skyriaus valdomų sistemų administravimas (3.2.3.1.)
A17: 03 | B17: 01 | C17: 03 | D17: Erdvinio duomenų rinkinio tvarkymo funkcija | E17: 08 | F17: 188718713 | G17: SB(VB) | H17: 23 | L17: =+(H17*0.05)+H17 -> 24.15 | M17: =L17*1.05 -> 25.3575 | N17: =H17+L17+M17 -> 72.5075 | T17: Komunalinio ūkio sk.
G18: Iš viso | H18: =+SUM(H17:H17) -> 23 | I18: =+SUM(I17:I17) -> 0 | J18: =+SUM(J17:J17) -> 0 | K18: =+SUM(K17:K17) -> 0 | L18: =+SUM(L17:L17) -> 24.15 | M18: =+SUM(M17:M17) -> 25.3575 | N18: =H18+L18+M18 -> 72.5075
A19: 03 | B19: 04 | C19: Prisidėti prie ūkininkams skirtų renginių rengimo (3.2.3.2.)
A20: 03 | B20: 04 | C20: 01 | D20: Derliaus šventės, Artojų varžybų ir kitų panašių renginių organizavimas bei rėmimas | E20: 08 | F20: 188718713 | G20: SB | H20: 40 | L20: =+(H20*0.05)+H20 -> 42 | M20: =L20*1.05 -> 44.1 | N20: =H20+L20+M20 -> 126.1 | O20: Žemės ūkio tematika suorganizuotų renginių skaičius | P20: vnt. | Q20: 2 | R20: 2 | S20: 2 | T20: Žemės ūkio sk.
G21: Iš viso | H21: =+SUM(H20:H20) -> 40 | I21: =+SUM(I20:I20) -> 0 | J21: =+SUM(J20:J20) -> 0 | K21: =+SUM(K20:K20) -> 0 | L21: =+SUM(L20:L20) -> 42 | M21: =+SUM(M20:M20) -> 44.1 | N21: =H21+L21+M21 -> 126.1 | O21: Paramą gavusių renginių skaičius | P21: vnt. | Q21: 2 | R21: 2 | S21: 2
A22: 03 | B22: 05 | C22: Našaus ir tvaraus žemės ūkio ir miškininkystės veiklos skatinimas rajone (3.2.3.3.)
A23: 03 | B23: 05 | E23: 08 | G23: SB
G24: Iš viso | H24: =+SUM(H23:H23) -> 0 | I24: =+SUM(I23:I23) -> 0 | J24: =+SUM(J23:J23) -> 0 | K24: =+SUM(K23:K23) -> 0 | L24: =+SUM(L23:L23) -> 0 | M24: =+SUM(M23:M23) -> 0 | N24: =H24+L24+M24 -> 0
A25: Iš viso iš jų | H25: =+SUM(H26:H33) -> 482.6 | I25: =+SUM(I26:I33) -> 0 | J25: =+SUM(J26:J33) -> #REF! | K25: =+SUM(K26:K33) -> #REF! | L25: =+SUM(L26:L33) -> 506.73 | M25: =+SUM(M26:M33) -> 532.0665 | N25: =+SUM(N26:N33) -> 1521.3965
A26: 5 | G26: SB | H26: =+H20+H9+H23 -> 124.7 | I26: =+I20+I9+I23 -> 0 | J26: =+J20+J9+J23 -> 0 | K26: =+K20+K9+K23 -> 0 | L26: =+L20+L9+L23 -> 130.935 | M26: =+M20+M9+M23 -> 137.48175 | N26: =+N20+N9+N23 -> 393.11675
G27: SB(VB) | H27: =+H8+H14+H17 -> 357.9 | I27: =+I8+I14+I17 -> 0 | J27: =+J8+J14+#REF!+J17 -> #REF! | K27: =+K8+K14+#REF!+K17 -> #REF! | L27: =+L8+L14+L17 -> 375.795 | M27: =+M8+M14+M17 -> 394.58475 | N27: =+N8+N14+N17 -> 1128.2797
G28: SB(SP) | H28: 0 | I28: 0 | J28: 0 | K28: 0 | L28: 0 | M28: 0 | N28: 0
G29: VB(P) | H29: 0 | I29: 0 | J29: 0 | K29: 0 | L29: 0 | M29: 0 | N29: 0
G30: P(FM) | H30: 0 | I30: 0 | J30: 0 | K30: 0 | L30: 0 | M30: 0 | N30: 0
G31: P(B) | H31: 0 | I31: 0 | J31: 0 | K31: 0 | L31: 0 | M31: 0 | N31: 0
G32: ES | H32: 0 | I32: 0 | J32: 0 | K32: 0 | L32: 0 | M32: 0 | N32: 0
G33: Kitos | H33: 0 | I33: 0 | J33: 0 | K33: 0 | L33: 0 | M33: 0 | N33: 0

Sheet VIII Infrastruktūra
A2: Programos tikslo kodas | B2: Uždavinio kodas | C2: Priemonės kodas | D2: Priemonės pavadinimas | E2: Funkcinės klasifikacijos kodas | F2: Asignavimų valdytojo kodas | G2: Finansavimo šaltinis | H2: 2023 metų išlaidos | L2: 2024 metų išlaidų projektas | M2: 2025 metų išlaidų projektas | N2: Iš viso | O2: Matavimo rodiklis | T2: Atsakingas skyrius
H3: Iš viso | I3: Išlaidoms | Q3: Rodiklio reikšmės
I4: Iš viso | J4: Iš jų darbo užmokesčiui | K4: turtui įsigyti ir finansiniams įsipareigojimams vykdyti | O4: Rodiklio pavadinimas | P4: Matavimo vnt. | Q4: 2023 m. | R4: 2024 m. | S4: 2025 m.
A5: 08 Viešosios infrastruktūros gerinimo programa
A6: 01 | B6: Užtikrinti darnų Šalčininkų rajono teritorijos vystymą
A7: 01 | B7: 01 | C7: Rengti teritorijų planavimo dokumentus (4.1.1.1.)
A8: 01 | B8: 04 | C8: Prisidėti prie gyvenamųjų namų aplinkos gerinimo (4.1.1.2.)
A9: 01 | B9: 04 | C9: 01 | D9: Daugiabučių namų savininkų bendrijų rėmimas | E9: 06 | F9: 188718713 | G9: SB | H9: 10 | L9: =+(H9*0.05)+H9 -> 10.5 | M9: =L9*1.05 -> 11.025 | N9: =+H9+L9+M9 -> 31.525 | O9: Daugiabučių namų bendrijų, gavusių paramą, skaičius | P9: vnt. | Q9: 0 | R9: 0 | S9: 0 | T9: Statybos ir architektūros sk.
G10: Iš viso | H10: =+H9 -> 10 | I10: =+I9 -> 0 | J10: =+J9 -> 0 | K10: =+K9 -> 0 | L10: =+L9 -> 10.5 | M10: =+M9 -> 11.025 | N10: =SUM(H10,L10,M10) -> 31.525
A11: 02 | B11: Organizuoti komunalinių paslaugų teikimą gyventojams
A12: 02 | B12: 01 | C12: Vykdyti komunalinio ūkio plėtrą (4.1.2.1.)
A13: 02 | B13: 01 | C13: 01 | D13: Komunalinių paslaugų teikimas | E13: 06 | F13: 188718713 | G13: SB | H13: 3147 | L13: =+(H13*0.05)+H13 -> 3304.35 | M13: =L13*1.05 -> 3469.5675 | N13: =H13+L13+M13 -> 9920.9175 | O13: Pagerintų teikiamų komunalinių paslaugų grupių skaičius | P13: vnt. | Q13: 6 | R13: 7 | S13: 7 | T13: Komunalinio ūkio sk.
G14: Iš viso | H14: =+H13 -> 3147 | I14: =+I13 -> 0 | J14: =+J13 -> 0 | K14: =+K13 -> 0 | L14: =+L13 -> 3304.35 | M14: =+M13 -> 3469.5675 | N14: =+H14+L14+M14 -> 9920.9175
A15: 02 | B15: 01 | C15: 08 | D15: Komunalinio ūkio plėtra seniūnijose | E15: 06 | F15: 188718713 | G15: SB | H15: 1046.7 | L15: =+(H15*0.05)+H15 -> 1099.035 | M15: =L15*1.05 -> 1153.9868 | N15: =H15+L15+M15 -> 3299.7218 | O15: Apšviestų gatvių dalis nuo visų gatvių | P15: proc. | Q15: 0 | R15: 0 | S15: 0 | T15: Komunalinio ūkio sk.
G16: Iš viso | H16: =+H15 -> 1046.7 | I16: =+I15 -> 0 | J16: =+J15 -> 0 | K16: =+K15 -> 0 | L16: =+L15 -> 1099.035 | M16: =+M15 -> 1153.9868 | N16: =H16+L16+M16 -> 3299.7218
G17: SB | L17: =+(H17*0.05)+H17 -> 0 | M17: =+H17*0.1+H17 -> 0 | N17: =+H17+L17+M17 -> 0 | O17: Įrengtų šviesos taškų skaičius | P17: vnt. | Q17: 0 | R17: 0 | S17: 0
G18: Iš viso | H18: =+H17 -> 0 | I18: =+I17 -> 0 | J18: =+J17 -> 0 | K18: =+K17 -> 0 | L18: =+L17 -> 0 | M18: =+M17 -> 0 | N18: =+N17 -> 0
A19: 02 | B19: 01 | C19: 12 | D19: Komunalinių atliekų rūšiuojamojo surinkimo infrastruktūros plėtra (Dieveniškių aikštelė) | E19: 06 | F19: 188718713 | G19: ES | L19: 400 | M19: 0 | N19: =+H19+L19+M19 -> 400 | O19: Įrengta didelių gabaritų atliekų surinkimo aikštelė | P19: vnt. | Q19: 1 | R19: 0 | S19: 0 | T19: Komunalinio ūkio sk.
G20: D | L20: 38 | M20: 0 | N20: =+H20+L20+M20 -> 38
